BEGIN:VCALENDAR
VERSION:2.0
PRODID:-//UCLA Sustainability - ECPv6.15.20//NONSGML v1.0//EN
CALSCALE:GREGORIAN
METHOD:PUBLISH
X-ORIGINAL-URL:https://sustain.ucla.edu
X-WR-CALDESC:Events for UCLA Sustainability
REFRESH-INTERVAL;VALUE=DURATION:PT1H
X-Robots-Tag:noindex
X-PUBLISHED-TTL:PT1H
BEGIN:VTIMEZONE
TZID:America/Los_Angeles
BEGIN:DAYLIGHT
TZOFFSETFROM:-0800
TZOFFSETTO:-0700
TZNAME:PDT
DTSTART:20190310T100000
END:DAYLIGHT
BEGIN:STANDARD
TZOFFSETFROM:-0700
TZOFFSETTO:-0800
TZNAME:PST
DTSTART:20191103T090000
END:STANDARD
BEGIN:DAYLIGHT
TZOFFSETFROM:-0800
TZOFFSETTO:-0700
TZNAME:PDT
DTSTART:20200308T100000
END:DAYLIGHT
BEGIN:STANDARD
TZOFFSETFROM:-0700
TZOFFSETTO:-0800
TZNAME:PST
DTSTART:20201101T090000
END:STANDARD
BEGIN:DAYLIGHT
TZOFFSETFROM:-0800
TZOFFSETTO:-0700
TZNAME:PDT
DTSTART:20210314T100000
END:DAYLIGHT
BEGIN:STANDARD
TZOFFSETFROM:-0700
TZOFFSETTO:-0800
TZNAME:PST
DTSTART:20211107T090000
END:STANDARD
END:VTIMEZONE
BEGIN:VEVENT
DTSTART;VALUE=DATE:20200914
DTEND;VALUE=DATE:20200917
DTSTAMP:20260424T033220
CREATED:20200821T002119Z
LAST-MODIFIED:20200821T002119Z
UID:11514-1600041600-1600300799@sustain.ucla.edu
SUMMARY:ICEPAG 2020 - A Virtual Colloquium
DESCRIPTION:REGISTER HERE \nHeld virtually at the University of California\, Irvine\, ICEPAG 2020 supports the annual presentation on the technologies\, applications\, and role of hydrogen in the smart grid and smart mobility of the future. The 3-day virtual Colloquium is a valued balance of academia\, industry\, national laboratories\, and government agencies actively engaged in the evolution of hydrogen associated with this new paradigm. \nUsing a colloquium format\, ICEPAG: \n\n\n\nCombines a collection of tutorials and professional presentations.\nProvides extended question and answer periods to facilitate discussion.\nPresents a platform to share the interests of industry\, regulators\, academia\, and practicing professionals.\n\n\n\n\n\n\n\nWhat Makes This A Must-Attend Virtual Event? \n\nComprehensive Program: ICEPAG addresses the spectrum of hydrogen generation\, distribution\, storage\, and utilization to capture an integrated perspective of clean energy systems and the move to electrification. \nObjective and Insightful: A diverse range of academic and industry presentations provides objective content and insights on the latest\, cutting edge information regarding hydrogen\, microgrids\, smart grids\, electrification\, and clean mobility. \nKey Stakeholder Engagement: Attendees are comprised of influential figures from academia\, government\, and industry with a stake in clean energy. \nInternational Constituency: For the past 20 years ICEPAG has been a premier global forum in which clean energy leaders from around the world share and discuss their perspectives. \n\nWho Should Attend? \n\nThe Colloquium is intended for professionals from academia\, government\, and industry\, and students who seek a place on the cutting edge of hydrogen\, microgrids\, smart grids\, electrification\, and clean mobility. \nThe virtual networking and sharing of information will be of key interest to regulators\, public policy professionals\, researchers\, technology developers\, system integrators\, investors\, urban planners\, utilities\, and other stakeholders who wish to understand the potential and challenges associated with the rapidly increasing attention to the role of hydrogen in the smart grid and smart mobility paradigms.
URL:https://sustain.ucla.edu/event/icepag-2020-a-virtual-colloquium/
LOCATION:CA
END:VEVENT
BEGIN:VEVENT
DTSTART;VALUE=DATE:20200915
DTEND;VALUE=DATE:20200917
DTSTAMP:20260424T033220
CREATED:20200729T211711Z
LAST-MODIFIED:20200731T165039Z
UID:10740-1600128000-1600300799@sustain.ucla.edu
SUMMARY:Net Zero Conference 2020
DESCRIPTION:NET ZERO 2020\nWe’re pleased to be presenting the 2020 Net Zero Conference virtually! Because we’ve transitioned to a virtual event\, we’re able to offer this year’s sponsors some new and exciting benefits. \n– The world’s largest annual net zero building conference — presented virtually!\n– 20+ world-class education sessions\n– 3 inspiring keynote speakers\n– Interactive virtual Expo Hall featuring industry-leading companies\n– Reserved pool of free\, need-based tickets\n– Professional virtual networking with industry leaders \n– Virtual tours of local net zero buildings\n– Attended by experts from 38 states and 8 countries in 2019\n– CEUs available for AIA\, USGBC & LFA credential holders\n– Content on climate\, carbon\, energy\, water\, waste + transit\n– Join us in building a Net Zero Future for All!\n– NZ20 is brought to you by Verdical Events \nWe have custom sponsorships\, which can be tailored in pricing and benefit to your organization’s needs\, available as well. Contact us today to learn more!
URL:https://sustain.ucla.edu/event/net-zero-conference-2020/
LOCATION:CA
END:VEVENT
END:VCALENDAR