BEGIN:VCALENDAR
VERSION:2.0
PRODID:-//UCLA Sustainability - ECPv6.15.20//NONSGML v1.0//EN
CALSCALE:GREGORIAN
METHOD:PUBLISH
X-WR-CALNAME:UCLA Sustainability
X-ORIGINAL-URL:https://sustain.ucla.edu
X-WR-CALDESC:Events for UCLA Sustainability
REFRESH-INTERVAL;VALUE=DURATION:PT1H
X-Robots-Tag:noindex
X-PUBLISHED-TTL:PT1H
BEGIN:VTIMEZONE
TZID:America/Los_Angeles
BEGIN:DAYLIGHT
TZOFFSETFROM:-0800
TZOFFSETTO:-0700
TZNAME:PDT
DTSTART:20190310T100000
END:DAYLIGHT
BEGIN:STANDARD
TZOFFSETFROM:-0700
TZOFFSETTO:-0800
TZNAME:PST
DTSTART:20191103T090000
END:STANDARD
BEGIN:DAYLIGHT
TZOFFSETFROM:-0800
TZOFFSETTO:-0700
TZNAME:PDT
DTSTART:20200308T100000
END:DAYLIGHT
BEGIN:STANDARD
TZOFFSETFROM:-0700
TZOFFSETTO:-0800
TZNAME:PST
DTSTART:20201101T090000
END:STANDARD
BEGIN:DAYLIGHT
TZOFFSETFROM:-0800
TZOFFSETTO:-0700
TZNAME:PDT
DTSTART:20210314T100000
END:DAYLIGHT
BEGIN:STANDARD
TZOFFSETFROM:-0700
TZOFFSETTO:-0800
TZNAME:PST
DTSTART:20211107T090000
END:STANDARD
END:VTIMEZONE
BEGIN:VEVENT
DTSTART;TZID=America/Los_Angeles:20201005T120000
DTEND;TZID=America/Los_Angeles:20201005T130000
DTSTAMP:20260424T033143
CREATED:20200924T182913Z
LAST-MODIFIED:20200924T183538Z
UID:11978-1601899200-1601902800@sustain.ucla.edu
SUMMARY:Climate Justice = Social Justice\, Dr. Mustafa Santiago Ali
DESCRIPTION:For the first time ever\, partners from across the CSU are collaborating to host October Sustainability Month virtual events meant to educate\, empower and activate students\, faculty and staff to join the movement for environmental\, social and racial justice and get out the vote this November! Events will be free and open to all 23 CSU campuses. Live captioning will be provided at both events for accessibility.\n\nREGISTER HERE\n\nLive Keynote Address and Q & A with Renowned Environmental Justice Leader\nDR. MUSTAFA SANTIAGO ALI \nA renowned thought leader\, international speaker\, policy maker\, community liaison\, trainer\, and facilitator\, Dr. Mustafa Santiago Ali wears many hats. He is the Vice President of Environmental Justice\, Climate & Community Revitalization for the National Wildlife Federation (NWF) and also the Founder & CEO of Revitalization Strategies. He previously served as Senior Vice President for the Hip Hop Caucus\, a national\, non-profit and non-partisan organization that connects the Hip Hop community to the civic process to build power and create positive change. \nMustafa worked 24 years at the U.S. Environmental Protection Agency (EPA)\, where he started as a 16-year-old student and helped found the EPA’s Office of Environmental Justice (OEJ). He most recently served as Senior Advisor for Environmental Justice and Community Revitalization and Assistant Associated Administrator. \nHosted by CSU Fullerton
URL:https://sustain.ucla.edu/event/climate-justice-social-justice-dr-mustafa-santiago-ali/
LOCATION:CA
END:VEVENT
END:VCALENDAR