BEGIN:VCALENDAR
VERSION:2.0
PRODID:-//UCLA Sustainability - ECPv6.15.20//NONSGML v1.0//EN
CALSCALE:GREGORIAN
METHOD:PUBLISH
X-ORIGINAL-URL:https://sustain.ucla.edu
X-WR-CALDESC:Events for UCLA Sustainability
REFRESH-INTERVAL;VALUE=DURATION:PT1H
X-Robots-Tag:noindex
X-PUBLISHED-TTL:PT1H
BEGIN:VTIMEZONE
TZID:America/Los_Angeles
BEGIN:DAYLIGHT
TZOFFSETFROM:-0800
TZOFFSETTO:-0700
TZNAME:PDT
DTSTART:20190310T100000
END:DAYLIGHT
BEGIN:STANDARD
TZOFFSETFROM:-0700
TZOFFSETTO:-0800
TZNAME:PST
DTSTART:20191103T090000
END:STANDARD
BEGIN:DAYLIGHT
TZOFFSETFROM:-0800
TZOFFSETTO:-0700
TZNAME:PDT
DTSTART:20200308T100000
END:DAYLIGHT
BEGIN:STANDARD
TZOFFSETFROM:-0700
TZOFFSETTO:-0800
TZNAME:PST
DTSTART:20201101T090000
END:STANDARD
BEGIN:DAYLIGHT
TZOFFSETFROM:-0800
TZOFFSETTO:-0700
TZNAME:PDT
DTSTART:20210314T100000
END:DAYLIGHT
BEGIN:STANDARD
TZOFFSETFROM:-0700
TZOFFSETTO:-0800
TZNAME:PST
DTSTART:20211107T090000
END:STANDARD
END:VTIMEZONE
BEGIN:VEVENT
DTSTART;TZID=America/Los_Angeles:20201006T170000
DTEND;TZID=America/Los_Angeles:20201006T180000
DTSTAMP:20260424T055301
CREATED:20200917T183324Z
LAST-MODIFIED:20200917T183324Z
UID:11920-1602003600-1602007200@sustain.ucla.edu
SUMMARY:Technology for Good: Easton Center Innovation Challenge Kickoff
DESCRIPTION:REGISTER HERE\nWhat are some of society’s greatest challenges in the areas of healthcare and sustainability?\nHow and where can technology aid in solving societal issues?\nWhat are the key ingredients of successful innovation here? \nJoin Professor Terry Kramer\, Easton Center Faculty Director\, in a moderated conversation with Eric Hoek and Larry Leisure on these topics. And hear about the formal launch of the Easton Center Innovation Challenge – the innovation prompts\, deadlines\, prize monies and the content/programming designed to support participating students on their journeys. UCLA Anderson Dean Tony Bernardo will provide opening remarks.
URL:https://sustain.ucla.edu/event/technology-for-good-easton-center-innovation-challenge-kickoff/
LOCATION:CA
END:VEVENT
END:VCALENDAR