BEGIN:VCALENDAR
VERSION:2.0
PRODID:-//UCLA Sustainability - ECPv6.15.20//NONSGML v1.0//EN
CALSCALE:GREGORIAN
METHOD:PUBLISH
X-ORIGINAL-URL:https://sustain.ucla.edu
X-WR-CALDESC:Events for UCLA Sustainability
REFRESH-INTERVAL;VALUE=DURATION:PT1H
X-Robots-Tag:noindex
X-PUBLISHED-TTL:PT1H
BEGIN:VTIMEZONE
TZID:America/Los_Angeles
BEGIN:DAYLIGHT
TZOFFSETFROM:-0800
TZOFFSETTO:-0700
TZNAME:PDT
DTSTART:20190310T100000
END:DAYLIGHT
BEGIN:STANDARD
TZOFFSETFROM:-0700
TZOFFSETTO:-0800
TZNAME:PST
DTSTART:20191103T090000
END:STANDARD
BEGIN:DAYLIGHT
TZOFFSETFROM:-0800
TZOFFSETTO:-0700
TZNAME:PDT
DTSTART:20200308T100000
END:DAYLIGHT
BEGIN:STANDARD
TZOFFSETFROM:-0700
TZOFFSETTO:-0800
TZNAME:PST
DTSTART:20201101T090000
END:STANDARD
BEGIN:DAYLIGHT
TZOFFSETFROM:-0800
TZOFFSETTO:-0700
TZNAME:PDT
DTSTART:20210314T100000
END:DAYLIGHT
BEGIN:STANDARD
TZOFFSETFROM:-0700
TZOFFSETTO:-0800
TZNAME:PST
DTSTART:20211107T090000
END:STANDARD
END:VTIMEZONE
BEGIN:VEVENT
DTSTART;TZID=America/Los_Angeles:20201010T100000
DTEND;TZID=America/Los_Angeles:20201010T110000
DTSTAMP:20260424T033157
CREATED:20200831T225509Z
LAST-MODIFIED:20200831T225509Z
UID:11585-1602324000-1602327600@sustain.ucla.edu
SUMMARY:Nature Journaling Workshop
DESCRIPTION:Nature Journaling Workshop\nwith Artist Deb Shaw\nSaturday October 10th 10:00am PST • Zoom \nFocused observation—drawing\, sketching\, and writing—changes how we look at the world around us. Nature journaling forces us to see\, instead of look. Suitable for all levels and ages (including beginners) this workshop will explore various journaling techniques to enhance drawing skills\, explore ideas and document our place and time. The only required supplies are pencil (a regular #2 or softer) and paper\, although any other art supplies are certainly welcome. A downloadable reference sheet will be available for attendees. This event is free\, but space is limited–RSVP to reserve a spot! Only one ticket is needed per household that will be tuning in on the same screen. \nLEARN MORE AND RSVP
URL:https://sustain.ucla.edu/event/nature-journaling-workshop/
LOCATION:CA
END:VEVENT
END:VCALENDAR