BEGIN:VCALENDAR
VERSION:2.0
PRODID:-//UCLA Sustainability - ECPv6.15.20//NONSGML v1.0//EN
CALSCALE:GREGORIAN
METHOD:PUBLISH
X-ORIGINAL-URL:https://sustain.ucla.edu
X-WR-CALDESC:Events for UCLA Sustainability
REFRESH-INTERVAL;VALUE=DURATION:PT1H
X-Robots-Tag:noindex
X-PUBLISHED-TTL:PT1H
BEGIN:VTIMEZONE
TZID:America/Los_Angeles
BEGIN:DAYLIGHT
TZOFFSETFROM:-0800
TZOFFSETTO:-0700
TZNAME:PDT
DTSTART:20190310T100000
END:DAYLIGHT
BEGIN:STANDARD
TZOFFSETFROM:-0700
TZOFFSETTO:-0800
TZNAME:PST
DTSTART:20191103T090000
END:STANDARD
BEGIN:DAYLIGHT
TZOFFSETFROM:-0800
TZOFFSETTO:-0700
TZNAME:PDT
DTSTART:20200308T100000
END:DAYLIGHT
BEGIN:STANDARD
TZOFFSETFROM:-0700
TZOFFSETTO:-0800
TZNAME:PST
DTSTART:20201101T090000
END:STANDARD
BEGIN:DAYLIGHT
TZOFFSETFROM:-0800
TZOFFSETTO:-0700
TZNAME:PDT
DTSTART:20210314T100000
END:DAYLIGHT
BEGIN:STANDARD
TZOFFSETFROM:-0700
TZOFFSETTO:-0800
TZNAME:PST
DTSTART:20211107T090000
END:STANDARD
END:VTIMEZONE
BEGIN:VEVENT
DTSTART;TZID=America/Los_Angeles:20201020T120000
DTEND;TZID=America/Los_Angeles:20201020T130000
DTSTAMP:20260425T052545
CREATED:20200924T183704Z
LAST-MODIFIED:20200924T183704Z
UID:11991-1603195200-1603198800@sustain.ucla.edu
SUMMARY:The Future of Energy
DESCRIPTION:REGISTER HERE\nPresenters: \nJanet Purchase\, Energy & Utility Analyst\, CSUF Office of Sustainability \nBrendan O’Donnell\, Director\, Public Sector\, Southwest\, ChargePoint \nLynniece Warren\, Energy & Sustainability Manager\, Facilities Services \n  \nIn this presentation\, discover how critical energy challenges of today are shaping the future. Energy leaders will discuss insights to help shape a more sustainable future. \nHosted by CSU Fullerton
URL:https://sustain.ucla.edu/event/the-future-of-energy/
LOCATION:CA
END:VEVENT
BEGIN:VEVENT
DTSTART;TZID=America/Los_Angeles:20201020T133000
DTEND;TZID=America/Los_Angeles:20201020T144500
DTSTAMP:20260425T052545
CREATED:20201013T202217Z
LAST-MODIFIED:20201013T202217Z
UID:12208-1603200600-1603205100@sustain.ucla.edu
SUMMARY:Why Your Vote Matters Virtual Q&A
DESCRIPTION:U.S. Senator and 2020 presidential candidate Cory Booker will share his perspective on the role our students can play in creating a just and sustainable society through civic and community engagement in the final stretch before the November elections and beyond. \nCalifornia Secretary of State Alex Padilla will educate attendees about the steps that are being taken across the state to make sure all of our votes will be counted and our voices heard during these unprecedented times. \nCalifornia State University\, Long Beach alum and Legislative Manager for the California League of Conservation Voters Melissa Romero will educate students about 2020 ballot initiatives that will have an impact on the environment and our communities.
URL:https://sustain.ucla.edu/event/why-your-vote-matters-virtual-qa/
LOCATION:CA
END:VEVENT
BEGIN:VEVENT
DTSTART;TZID=America/Los_Angeles:20201020T170000
DTEND;TZID=America/Los_Angeles:20201020T183000
DTSTAMP:20260425T052545
CREATED:20201020T204635Z
LAST-MODIFIED:20201020T204635Z
UID:12299-1603213200-1603218600@sustain.ucla.edu
SUMMARY:Can a Story Save the Planet?
DESCRIPTION:REGISTER HERE\nCelebrated writers Scott Z. Burns\, Amitav Ghosh\, and Elizabeth Kolbert discuss how the art of storytelling has failed to take on the climate crisis and its attendant catastrophes—and how that might change. Burns is the screenwriter of the 2011 film Contagion\, a prescient depiction of a pandemic that highlighted many of the institutional failures seen during the current coronavirus outbreak\, and produced the climate-focused documentaries An Inconvenient Truth and its sequel. The recipient of literary awards internationally\, Ghosh focused his most recent fiction and non-fiction books\, Gun Island and The Great Derangement: Climate Change and the Unthinkable\, on climate change and its devastating effects. A staff writer for The New Yorker\, Kolbert’s most recent book\, The Sixth Extinction\, details the current extinction crisis and received the Pulitzer Prize for general nonfiction in 2015. \n  \nABOUT THE SPEAKERS\n\nScott Z. Burns is the screenwriter of the 2011 film Contagion\, an eerily prescient depiction of a pandemic that highlighted many of the same institutional failures seen during the current coronavirus outbreak. He also wrote The Report\, about the CIA’s coverup of the use of torture after 9/11\, and The Laundromat\, which focuses on the story behind the Panama Papers. He also produced the climate-focused documentaries An Inconvenient Truth and An Inconvenient Sequel: Truth to Power. \nAmitav Ghosh’s most recent book of fiction Gun Island drew on climate change and the resulting stories of human migration. Prior to that\, his non-fiction book The Great Derangement: Climate Change and the Unthinkable focused on modern literature’s failure to address climate change\, also the subject of many of the author’s newspaper and magazine opinion pieces. Ghosh has won awards internationally for both fiction and non-fiction\, including the Arthur C. Clarke Award and the Jnanpith award\, making him the first Indian writer in English to receive the prestigious Indian literary award. \nElizabeth Kolbert is a staff writer for The New Yorker. Her most recent book The Sixth Extinction received the Pulitzer Prize for general nonfiction in 2015. She is a two-time National Magazine Award winner\, and has received a Heinz Award\, a Guggenheim Fellowship\, and a National Academies communications award. Kolbert is a visiting fellow at the Center for Environmental Studies at Williams College. \n\n 
URL:https://sustain.ucla.edu/event/can-a-story-save-the-planet/
LOCATION:CA
END:VEVENT
END:VCALENDAR