BEGIN:VCALENDAR
VERSION:2.0
PRODID:-//UCLA Sustainability - ECPv6.15.20//NONSGML v1.0//EN
CALSCALE:GREGORIAN
METHOD:PUBLISH
X-WR-CALNAME:UCLA Sustainability
X-ORIGINAL-URL:https://sustain.ucla.edu
X-WR-CALDESC:Events for UCLA Sustainability
REFRESH-INTERVAL;VALUE=DURATION:PT1H
X-Robots-Tag:noindex
X-PUBLISHED-TTL:PT1H
BEGIN:VTIMEZONE
TZID:America/Los_Angeles
BEGIN:DAYLIGHT
TZOFFSETFROM:-0800
TZOFFSETTO:-0700
TZNAME:PDT
DTSTART:20190310T100000
END:DAYLIGHT
BEGIN:STANDARD
TZOFFSETFROM:-0700
TZOFFSETTO:-0800
TZNAME:PST
DTSTART:20191103T090000
END:STANDARD
BEGIN:DAYLIGHT
TZOFFSETFROM:-0800
TZOFFSETTO:-0700
TZNAME:PDT
DTSTART:20200308T100000
END:DAYLIGHT
BEGIN:STANDARD
TZOFFSETFROM:-0700
TZOFFSETTO:-0800
TZNAME:PST
DTSTART:20201101T090000
END:STANDARD
BEGIN:DAYLIGHT
TZOFFSETFROM:-0800
TZOFFSETTO:-0700
TZNAME:PDT
DTSTART:20210314T100000
END:DAYLIGHT
BEGIN:STANDARD
TZOFFSETFROM:-0700
TZOFFSETTO:-0800
TZNAME:PST
DTSTART:20211107T090000
END:STANDARD
END:VTIMEZONE
BEGIN:VEVENT
DTSTART;VALUE=DATE:20201110
DTEND;VALUE=DATE:20201113
DTSTAMP:20260424T191035
CREATED:20200729T212518Z
LAST-MODIFIED:20200806T181457Z
UID:10746-1604966400-1605225599@sustain.ucla.edu
SUMMARY:Greenbuild Virtual International Conference + Expo
DESCRIPTION:  \n\n\n\n\n\n\n\n\n\n\n\n\nNew for 2020: Greenbuild Goes Virtual\nThe industry’s leading green building event now offers three virtual summits in lead up to International Conference & Expo virtual event. \nSafe\, secure\, sustainable.  Connections without geographic boundaries.   Expanded education courses available in real time or any time.  Interactive supplier sourcing and peer networking forums.   This is Greenbuild’s next chapter.  Join us! \n\n\n\n\nThe Event Dedicated to Sustainability in the Built Environment\nGreenbuild International Conference and Expo is the largest annual event for green building professionals worldwide to learn and source cutting edge solutions to improve resilience\, sustainability\, and quality of life in our buildings\, cities\, and communities. \nAs we turn this new chapter\, Greenbuild – now more than ever before – is where inspiration ignites\, relationships cultivate\, knowledge transfers and the leaders developing the next generation of standards\, policies\, and partnerships gather to turn the promise of a higher living standard into a reality for all. \nREGISTER
URL:https://sustain.ucla.edu/event/greenbuild-virtual-international-conference-expo/
LOCATION:CA
END:VEVENT
END:VCALENDAR