BEGIN:VCALENDAR
VERSION:2.0
PRODID:-//UCLA Sustainability - ECPv6.15.20//NONSGML v1.0//EN
CALSCALE:GREGORIAN
METHOD:PUBLISH
X-WR-CALNAME:UCLA Sustainability
X-ORIGINAL-URL:https://sustain.ucla.edu
X-WR-CALDESC:Events for UCLA Sustainability
REFRESH-INTERVAL;VALUE=DURATION:PT1H
X-Robots-Tag:noindex
X-PUBLISHED-TTL:PT1H
BEGIN:VTIMEZONE
TZID:America/Los_Angeles
BEGIN:DAYLIGHT
TZOFFSETFROM:-0800
TZOFFSETTO:-0700
TZNAME:PDT
DTSTART:20190310T100000
END:DAYLIGHT
BEGIN:STANDARD
TZOFFSETFROM:-0700
TZOFFSETTO:-0800
TZNAME:PST
DTSTART:20191103T090000
END:STANDARD
BEGIN:DAYLIGHT
TZOFFSETFROM:-0800
TZOFFSETTO:-0700
TZNAME:PDT
DTSTART:20200308T100000
END:DAYLIGHT
BEGIN:STANDARD
TZOFFSETFROM:-0700
TZOFFSETTO:-0800
TZNAME:PST
DTSTART:20201101T090000
END:STANDARD
BEGIN:DAYLIGHT
TZOFFSETFROM:-0800
TZOFFSETTO:-0700
TZNAME:PDT
DTSTART:20210314T100000
END:DAYLIGHT
BEGIN:STANDARD
TZOFFSETFROM:-0700
TZOFFSETTO:-0800
TZNAME:PST
DTSTART:20211107T090000
END:STANDARD
END:VTIMEZONE
BEGIN:VEVENT
DTSTART;TZID=America/Los_Angeles:20201130T080000
DTEND;TZID=America/Los_Angeles:20201201T173000
DTSTAMP:20260424T193809
CREATED:20201116T184847Z
LAST-MODIFIED:20201116T184847Z
UID:12598-1606723200-1606843800@sustain.ucla.edu
SUMMARY:Carbon-Capture Symposium
DESCRIPTION:Please join us for a virtual webinar we are planning for November 30 and December 1 on carbon-capture.  This webinar will include leading researchers from UC Irvine\, UCLA\, UC Berkeley\, UC Davis\, MIT\, Carnegie-Mellon University\, Georgia Tech\, Ohio State University\, Arizona State University\, HY-TEK Bio\, Verdox\, and Mosaic Materials.  Several presentations will focus on carbon-capture technologies that are now at the point where scaling-up to mid-scale demonstration projects is the next developmental stage on the path to utility-scale solutions.  As such\, some of the innovations that will be presented may benefit from a CO2 exhaust stream\, for example from a co-generation plant\, in a research university setting where the facilities engineers and faculty researchers can play a role in monitoring and evaluating a CC demonstration project.  I expect that a number of webinar participants will be from universities with CHP plants and an interest in helping to advance carbon-capture solutions that hopefully will prove scalable. \n  \nYou may be curious about our interest in exploring and fostering carbon-capture technologies.  Many leading climate scientists believe that carbon-capture as well as energy de-carbonization may be essential to avoid 2 degree C. overshoot.  Moreover\, we believe that speeding up\, as well as attaining\, carbon-free energy will not be a single-path solution\, but rather a mosaic of technology and  infrastructure solutions that work in synergy to provide resilience and grid stability that will be increasingly critical as weather and seasonal extremes exacerbate the path to carbon-free energy. \nIn the spirit of bi-coastal collaboration on climate solutions\, this virtual colloquium will be co-sponsored by the University of Maryland and the University of California\, Irvine.  Presenters will include: \n  \nShota Atsumi\, Professor of Chemistry\, UC Davis \nJack Brouwer\, Professor of Mechanical\, Aerospace\, and Environmental Engineering and Director of the UC Irvine Advanced Power and Energy Program and National Fuel Research Center \nLiang-Shih Fan\, Distinguished University Professor of Chemical and Biomolecular Engineering\, The Ohio State University \nChristopher W. Jones\, William R. McLain Chair and Professor of Chemical & Biomolecular Engineering\, Georgia Tech \nKlaus Lackner\, Professor\, School of Sustainable Engineering and the Built Environment of the Ira A. Fulton Schools of Engineering\, Arizona State University and Director of Center for Negative Carbon Emissions \nJeffrey R. Long\, Professor of Chemistry and Chemical and Biomolecular Engineering\, University of California\, Berkeley and Co-Founder\, Mosaic Materials \nRobert “Bob” Mroz\, Founder/CEO of HY-TEK Bio\, a Baltimore tech startup that is operating a demonstration facility of Bob’s algae-based carbon-capture system \nEdward S. Rubin\, Alumni Chair Professor of Environmental Engineering and Science; Professor of Engineering & Public Policy and Mechanical Engineering; Senior Fellow\, Wilton E. Scott Institute for Energy Innovation\, Carnegie Mellon University \nGaurav Sant\, Professor of Engineering at UCLA \nSahag Voskian\, Chemistry Department\, MIT\, and Co-Founder and Chief Technology Officer at Verdox \nJenny Yang\, UC Irvine Professor of Chemistry \n  \nWe plan to allot ample time for Q&A (more than has been commonplace in recent webinars where one or two questions are possible per speaker).  If you are interested in registering for this virtual colloquium\, please use this link:\nhttps://uci.zoom.us/webinar/register/WN_4SyXG5nwTT-OIVteh6Iy3w
URL:https://sustain.ucla.edu/event/carbon-capture-symposium/
LOCATION:CA
END:VEVENT
BEGIN:VEVENT
DTSTART;TZID=America/Los_Angeles:20201201T180000
DTEND;TZID=America/Los_Angeles:20201201T191500
DTSTAMP:20260424T193809
CREATED:20201118T191951Z
LAST-MODIFIED:20201118T191951Z
UID:12608-1606845600-1606850100@sustain.ucla.edu
SUMMARY:Networking 101 In A New Virtual Age (ESN x ES Alumni Association Collab)
DESCRIPTION:The zoom link is here: https://ucla.zoom.us/j/96092386413?pwd=UFd2Rm1lZ1Y1bEwxSE1jUWlSTHZwUT09 \nWe will have some amazing guest speakers from the UCLA Environmental Science Alumni Association on the topics of networking within the space of sustainability towards a future in the field. There will also be time for socializing and networking exposure during the event. \nThe preliminary agenda is as follows: \n15 min of socializing/intros \n30 min of short presentations by Alumni on how to network and its importance which may include: \n– Short introduction of Alumni and background \n– How to sell yourself \n– How to reach out online \n– Examples from career experience \n30-45 min of practice networking in controlled settings. This could take the form of speed round connections and such\, but is also a time to socialize with each other! \n– 2-3 person breakout rooms \n– Prompting type activities \n5 min closing and LinkedIn sharing
URL:https://sustain.ucla.edu/event/networking-101-in-a-new-virtual-age-esn-x-es-alumni-association-collab/
LOCATION:CA
END:VEVENT
END:VCALENDAR