BEGIN:VCALENDAR
VERSION:2.0
PRODID:-//UCLA Sustainability - ECPv6.15.20//NONSGML v1.0//EN
CALSCALE:GREGORIAN
METHOD:PUBLISH
X-ORIGINAL-URL:https://sustain.ucla.edu
X-WR-CALDESC:Events for UCLA Sustainability
REFRESH-INTERVAL;VALUE=DURATION:PT1H
X-Robots-Tag:noindex
X-PUBLISHED-TTL:PT1H
BEGIN:VTIMEZONE
TZID:America/Los_Angeles
BEGIN:DAYLIGHT
TZOFFSETFROM:-0800
TZOFFSETTO:-0700
TZNAME:PDT
DTSTART:20190310T100000
END:DAYLIGHT
BEGIN:STANDARD
TZOFFSETFROM:-0700
TZOFFSETTO:-0800
TZNAME:PST
DTSTART:20191103T090000
END:STANDARD
BEGIN:DAYLIGHT
TZOFFSETFROM:-0800
TZOFFSETTO:-0700
TZNAME:PDT
DTSTART:20200308T100000
END:DAYLIGHT
BEGIN:STANDARD
TZOFFSETFROM:-0700
TZOFFSETTO:-0800
TZNAME:PST
DTSTART:20201101T090000
END:STANDARD
BEGIN:DAYLIGHT
TZOFFSETFROM:-0800
TZOFFSETTO:-0700
TZNAME:PDT
DTSTART:20210314T100000
END:DAYLIGHT
BEGIN:STANDARD
TZOFFSETFROM:-0700
TZOFFSETTO:-0800
TZNAME:PST
DTSTART:20211107T090000
END:STANDARD
END:VTIMEZONE
BEGIN:VEVENT
DTSTART;TZID=America/Los_Angeles:20201208T160000
DTEND;TZID=America/Los_Angeles:20201208T210000
DTSTAMP:20260424T193806
CREATED:20201204T075150Z
LAST-MODIFIED:20201204T075150Z
UID:12682-1607443200-1607461200@sustain.ucla.edu
SUMMARY:Environmental Student Network Fundraiser Event
DESCRIPTION:The Environmental Student Network is hosting a fundraising event with Emporium Thai next Tuesday\, December 8th from 4-9 pm. Here is the link to the event: https://www.groupraise.com/events/171014-ucla-environmental-students-network-at-emporium-thai \nEmporium Thai X ESN FUndraiser (1)
URL:https://sustain.ucla.edu/event/environmental-student-network-fundraiser-event/
LOCATION:CA
END:VEVENT
END:VCALENDAR