BEGIN:VCALENDAR
VERSION:2.0
PRODID:-//UCLA Sustainability - ECPv6.15.20//NONSGML v1.0//EN
CALSCALE:GREGORIAN
METHOD:PUBLISH
X-ORIGINAL-URL:https://sustain.ucla.edu
X-WR-CALDESC:Events for UCLA Sustainability
REFRESH-INTERVAL;VALUE=DURATION:PT1H
X-Robots-Tag:noindex
X-PUBLISHED-TTL:PT1H
BEGIN:VTIMEZONE
TZID:America/Los_Angeles
BEGIN:DAYLIGHT
TZOFFSETFROM:-0800
TZOFFSETTO:-0700
TZNAME:PDT
DTSTART:20200308T100000
END:DAYLIGHT
BEGIN:STANDARD
TZOFFSETFROM:-0700
TZOFFSETTO:-0800
TZNAME:PST
DTSTART:20201101T090000
END:STANDARD
BEGIN:DAYLIGHT
TZOFFSETFROM:-0800
TZOFFSETTO:-0700
TZNAME:PDT
DTSTART:20210314T100000
END:DAYLIGHT
BEGIN:STANDARD
TZOFFSETFROM:-0700
TZOFFSETTO:-0800
TZNAME:PST
DTSTART:20211107T090000
END:STANDARD
BEGIN:DAYLIGHT
TZOFFSETFROM:-0800
TZOFFSETTO:-0700
TZNAME:PDT
DTSTART:20220313T100000
END:DAYLIGHT
BEGIN:STANDARD
TZOFFSETFROM:-0700
TZOFFSETTO:-0800
TZNAME:PST
DTSTART:20221106T090000
END:STANDARD
END:VTIMEZONE
BEGIN:VEVENT
DTSTART;TZID=America/Los_Angeles:20210225T113000
DTEND;TZID=America/Los_Angeles:20210225T123000
DTSTAMP:20260424T193758
CREATED:20210202T001132Z
LAST-MODIFIED:20210202T001132Z
UID:12854-1614252600-1614256200@sustain.ucla.edu
SUMMARY:The Impact of Climate and the Physical Environment on Human Health
DESCRIPTION:REGISTER HERE\nAbout the speaker: \nRichard Joseph Jackson\, MD MPH FAAP HonAIA HonFASLA\, is Professor emeritus at the Fielding School of Public Health at the University of California\, Los Angeles\, where he was Department Chair in Environmental Health Science. A pediatrician\, he has served in many leadership positions with the California Health Department\, including the highest as the State Health Officer.  For nine years he was Director of the CDC’s National Center for Environmental Health and received the Presidential Distinguished Service Award.  In October\, 2011\, he was elected to the National Academy of Medicine of the National Academy of Sciences and since 2019 he has been co-lead of the NAM’s Health and Climate Interest Group. \nJackson was instrumental in establishing the California Birth Defects Monitoring Program and in the creation of state and national laws to reduce risks from pesticides\, especially to farm workers and to children. While at CDC he established major environmental public health programs and instituted the federal effort to “biomonitor” chemical levels in the US population.  He has received its Hero Award from the Breast Cancer Fund; Lifetime Achievement Awards from the Public Health Law Association and from the New Partners for Smart Growth; the John Heinz Award for national leadership in the Environment; the Sedgwick Memorial Medal\, the highest award of the American Public Health Association for Distinguished Service.  In 2015 he received the Henry Hope Reed Award for his contributions to Architecture. \nDick Jackson lectures and speaks on many issues\, particularly those related to Climate Heating\, Built Environment\, and Health.  He co-authored the books: Urban Sprawl and Public Health\, Making Healthy Places\, and Designing Healthy Communities for which he hosted a four hour PBS series. He has served on many environment and health boards\, as well as the Board of Directors of the American Institute of Architects. He is an elected Honorary Fellow of American Institute of Architects and elected Honorary Fellow of the American Society of Landscape Architects. Jackson has testified before the US Congress and California Legislature many times.  He is from Newark NJ.  When he was age 3\, his World War 2 fighter pilot father died of polio.  He and his spouse\, Joan\, live in Berkeley\, California\, and have three grown children and five grandchildren.
URL:https://sustain.ucla.edu/event/the-impact-of-climate-and-the-physical-environment-on-human-health/
LOCATION:CA
ORGANIZER;CN="IMPACT @Anderson":MAILTO:impact@anderson.ucla.edu
END:VEVENT
BEGIN:VEVENT
DTSTART;TZID=America/Los_Angeles:20210225T113000
DTEND;TZID=America/Los_Angeles:20210225T123000
DTSTAMP:20260424T193758
CREATED:20210221T184950Z
LAST-MODIFIED:20210221T184950Z
UID:12908-1614252600-1614256200@sustain.ucla.edu
SUMMARY:High Impact Tea with Dr. Richard Jackson\, MD MPH
DESCRIPTION:REGISTER HERE\nRichard Joseph Jackson\, MD MPH FAAP HonAIA HonFASLA\, is Professor Emeritus at the UCLA Fielding School of Public Health\, where he was Department Chair in Environmental Health Science. A pediatrician\, he has served in many leadership positions with the California Health Department\, including the highest as the State Health Officer. For nine years he was Director of the CDC’s National Center for Environmental Health and received the Presidential Distinguished Service Award. Since 2019\, he has been co-lead of the National Academy of Medicine’s Health and Climate Interest Group. \nJackson was instrumental in establishing the California Birth Defects Monitoring Program and in the creation of state and national laws to reduce risks from pesticides\, especially to farm workers and to children. While at CDC he established major environmental public health programs and instituted the federal effort to “biomonitor” chemical levels in the US population. He has received its Hero Award from the Breast Cancer Fund; Lifetime Achievement Awards from the Public Health Law Association and from the New Partners for Smart Growth; the John Heinz Award for national leadership in the Environment; the Sedgwick Memorial Medal\, the highest award of the American Public Health Association for Distinguished Service. In 2015 he received the Henry Hope Reed Award for his contributions to Architecture. \nDick Jackson lectures and speaks on many issues\, particularly those related to Climate Heating\, Built Environment\, and Health. He co-authored the books: Urban Sprawl and Public Health\, Making Healthy Places\, and Designing Healthy Communities for which he hosted a four hour PBS series. He is from Newark\, NJ. When he was age 3\, his World War 2 fighter pilot father died of polio. He and his spouse\, Joan\, live in Berkeley\, California\, and have three grown children and five grandchildren.
URL:https://sustain.ucla.edu/event/high-impact-tea-with-dr-richard-jackson-md-mph/
LOCATION:CA
ORGANIZER;CN="IMPACT @Anderson":MAILTO:impact@anderson.ucla.edu
END:VEVENT
BEGIN:VEVENT
DTSTART;TZID=America/Los_Angeles:20210225T120000
DTEND;TZID=America/Los_Angeles:20210225T130000
DTSTAMP:20260424T193758
CREATED:20210221T183218Z
LAST-MODIFIED:20210221T183218Z
UID:12901-1614254400-1614258000@sustain.ucla.edu
SUMMARY:DGSOM EDI Lecture Series - Dr. Okanlami - Disabusing Disability
DESCRIPTION:REGISTER HERE\nNationally\, he serves as the Disability Issues representative on the Steering Committee for the Group on Diversity and Inclusion at the AAMC\, and the National Medical Association’s Council on Medical Legislation. He speaks around the country on topics related to Diversity\, Equity\, and Inclusion\, including\, but not limited to the lack of black male physicians and creating a health system that is accessible and inclusive to both patients and providers with disabilities. He has been featured on CBS News\, Fox News\, PBS News Hour\, and MSNBC’s Morning Joe. He is leading efforts to create an adaptive sports program\, providing access to physical fitness and recreational and competitive sports for all.
URL:https://sustain.ucla.edu/event/dgsom-edi-lecture-series-dr-okanlami-disabusing-disability/
LOCATION:CA
END:VEVENT
END:VCALENDAR