BEGIN:VCALENDAR
VERSION:2.0
PRODID:-//UCLA Sustainability - ECPv6.15.20//NONSGML v1.0//EN
CALSCALE:GREGORIAN
METHOD:PUBLISH
X-WR-CALNAME:UCLA Sustainability
X-ORIGINAL-URL:https://sustain.ucla.edu
X-WR-CALDESC:Events for UCLA Sustainability
REFRESH-INTERVAL;VALUE=DURATION:PT1H
X-Robots-Tag:noindex
X-PUBLISHED-TTL:PT1H
BEGIN:VTIMEZONE
TZID:America/Los_Angeles
BEGIN:DAYLIGHT
TZOFFSETFROM:-0800
TZOFFSETTO:-0700
TZNAME:PDT
DTSTART:20200308T100000
END:DAYLIGHT
BEGIN:STANDARD
TZOFFSETFROM:-0700
TZOFFSETTO:-0800
TZNAME:PST
DTSTART:20201101T090000
END:STANDARD
BEGIN:DAYLIGHT
TZOFFSETFROM:-0800
TZOFFSETTO:-0700
TZNAME:PDT
DTSTART:20210314T100000
END:DAYLIGHT
BEGIN:STANDARD
TZOFFSETFROM:-0700
TZOFFSETTO:-0800
TZNAME:PST
DTSTART:20211107T090000
END:STANDARD
BEGIN:DAYLIGHT
TZOFFSETFROM:-0800
TZOFFSETTO:-0700
TZNAME:PDT
DTSTART:20220313T100000
END:DAYLIGHT
BEGIN:STANDARD
TZOFFSETFROM:-0700
TZOFFSETTO:-0800
TZNAME:PST
DTSTART:20221106T090000
END:STANDARD
END:VTIMEZONE
BEGIN:VEVENT
DTSTART;TZID=America/Los_Angeles:20210301T170000
DTEND;TZID=America/Los_Angeles:20210301T180000
DTSTAMP:20260424T162102
CREATED:20210226T205259Z
LAST-MODIFIED:20210226T205259Z
UID:12954-1614618000-1614621600@sustain.ucla.edu
SUMMARY:Careers in Sustainability Event
DESCRIPTION:On Monday\, March 1st\, from 5-6pm PT\, Residential Life will be hosting a Careers in Sustainability Panel. Four recent UCLA graduates\, Megna Patel\, Nick Caton\, Elias Platte-Bermeo\, and Valeree Catangay\, will speak about their job search process\, what it is like to be a recent UCLA graduate working in sustainability\, and what opportunities are out there for individuals interested in the same work. Please visit our Notion page for more information on each of these panelists and to also register for the event linked here: tinyurl.com/SustCareersUCLA.
URL:https://sustain.ucla.edu/event/careers-in-sustainability-event/
LOCATION:CA
ATTACH;FMTTYPE=image/png:https://sustain.ucla.edu/wp-content/uploads/2021/02/careers.png
END:VEVENT
END:VCALENDAR