BEGIN:VCALENDAR
VERSION:2.0
PRODID:-//UCLA Sustainability - ECPv6.15.20//NONSGML v1.0//EN
CALSCALE:GREGORIAN
METHOD:PUBLISH
X-WR-CALNAME:UCLA Sustainability
X-ORIGINAL-URL:https://sustain.ucla.edu
X-WR-CALDESC:Events for UCLA Sustainability
REFRESH-INTERVAL;VALUE=DURATION:PT1H
X-Robots-Tag:noindex
X-PUBLISHED-TTL:PT1H
BEGIN:VTIMEZONE
TZID:America/Los_Angeles
BEGIN:DAYLIGHT
TZOFFSETFROM:-0800
TZOFFSETTO:-0700
TZNAME:PDT
DTSTART:20200308T100000
END:DAYLIGHT
BEGIN:STANDARD
TZOFFSETFROM:-0700
TZOFFSETTO:-0800
TZNAME:PST
DTSTART:20201101T090000
END:STANDARD
BEGIN:DAYLIGHT
TZOFFSETFROM:-0800
TZOFFSETTO:-0700
TZNAME:PDT
DTSTART:20210314T100000
END:DAYLIGHT
BEGIN:STANDARD
TZOFFSETFROM:-0700
TZOFFSETTO:-0800
TZNAME:PST
DTSTART:20211107T090000
END:STANDARD
BEGIN:DAYLIGHT
TZOFFSETFROM:-0800
TZOFFSETTO:-0700
TZNAME:PDT
DTSTART:20220313T100000
END:DAYLIGHT
BEGIN:STANDARD
TZOFFSETFROM:-0700
TZOFFSETTO:-0800
TZNAME:PST
DTSTART:20221106T090000
END:STANDARD
END:VTIMEZONE
BEGIN:VEVENT
DTSTART;VALUE=DATE:20210306
DTEND;VALUE=DATE:20210331
DTSTAMP:20260424T202817
CREATED:20210305T200110Z
LAST-MODIFIED:20210305T200138Z
UID:13137-1614988800-1617148799@sustain.ucla.edu
SUMMARY:UC Berkeley Students of Color Environmental Collective Convention 2021
DESCRIPTION:Why are people of color excluded from the environmental movement? Why do so few Black and Brown folks go camping or to national parks? Why is it that Indigenous communities\, who are stewards of the land\, don’t get represented on larger environmental decisions? Why do so many students of color feel disconnected from nature and outdoor spaces? \nSCECon 2021: Our World\, Our Time\, Our Voices aims to recenter the environmental narrative around environmental justice by giving intentional space for students of color to learn about unique and intersectional environmental topics and share our own view of environmentalism. As members of a multi-faceted community\, we must come together to build harmony\, focusing on equity\, peace\, and collective liberation. Our conference is focused on democratizing environmental education through engaging panels and both individual and community-based activism workshops. \nWe hope to lay the groundwork to start a larger conversation and movement about what environmentalism means to us\, as students of color in the 21st century. SCECon 2021 is about us — because it’s our world\, our time\, and our voices. \nREGISTER HERE
URL:https://sustain.ucla.edu/event/students-of-color-environmental-collective-convention-2021/
LOCATION:CA
ATTACH;FMTTYPE=image/png:https://sustain.ucla.edu/wp-content/uploads/2021/03/scecon.png
END:VEVENT
BEGIN:VEVENT
DTSTART;VALUE=DATE:20210325
DTEND;VALUE=DATE:20210327
DTSTAMP:20260424T202817
CREATED:20210115T175143Z
LAST-MODIFIED:20210227T010608Z
UID:12781-1616630400-1616803199@sustain.ucla.edu
SUMMARY:Universities Fighting World Hunger Virtual Summit
DESCRIPTION:Register here. The event is free of charge.\nThe University of California\, Davis’ World Food Center will co-host the virtual student summit 2021 of Universities Fighting World Hunger (UFWH) alongside the University of California Global Food Initiative and the Nutrition Policy Institute\, University of California Division of Agriculture and Natural Resources in partnership with the Hunger Solutions Institute at Auburn University. The summit’s theme is One Health. One Planet.\, and it will take place on March 25 and 26\, 2021. \nThe Summit 2021 will be the 16th held by UFWH\, but is the first to be hosted by the University of California and on the\nwest coast. With a focus on involving students\, the virtual summit will consist of keynote speeches\, presentations\,\nand panel discussions from experts across the United States who will speak to a broad array of topics covering human\nhealth\, the planet\, and their inherent connectivity. \nThe goal of the summit is to bring together current and future leaders to see a world without hunger. Students\,\nadministrators\, faculty\, staff\, and community partners will network and share ideas that lead to actions and impact at\nthe campus\, community\, and global levels. \nUC Davis Chancellor Gary S. May will give the summit’s opening remarks and UC President Michael Drake will share his\nthoughts on the power of student voices to affect change. Keynote speakers include:\nWilliam Dietz\, Director of Sumner M. Redstone Global Center for Prevention and Wellness at George\nWashington University\nDr. Rattan Lal\, winner of the 2020 World Food Prize for developing and mainstreaming a soil-centric\napproach to increasing food production that restores and conserves natural resources and mitigates climate\nchange\nJeffrey Sachs\, Director of the Center for Sustainable Development at Columbia University’s Earth Institute \nUniversities Fighting World Hunger (UFWH) is a global higher education movement focused on educating\, mobilizing\nand organizing students\, faculty and administrators in the war against hunger. In 2004\, Auburn University accepted\nan invitation to partner with the United Nations World Food Programme in the fight against hunger\, one of the\nworld’s most pressing global issues. Inspired by this partnership\, Universities Fighting World Hunger (UFWH) was\nlaunched in 2006. This coalition is now led by the Hunger Solutions Institute at Auburn University and has expanded\nto nearly 300 campuses worldwide. \nUC Davis WFC hosts UFWH Summit 2021 – Press Release
URL:https://sustain.ucla.edu/event/universities-fighting-world-hunger-virtual-summit/
LOCATION:CA
ATTACH;FMTTYPE=image/png:https://sustain.ucla.edu/wp-content/uploads/2021/01/header_about.png
END:VEVENT
BEGIN:VEVENT
DTSTART;TZID=America/Los_Angeles:20210325T120000
DTEND;TZID=America/Los_Angeles:20210325T130000
DTSTAMP:20260424T202817
CREATED:20210304T203547Z
LAST-MODIFIED:20210304T203547Z
UID:13107-1616673600-1616677200@sustain.ucla.edu
SUMMARY:Behavioral Strategies to Ditch Desktop Printers
DESCRIPTION:Replacing individual desktop printers with shared ‘multi-function’ printers (MFPs) is one of the most impactful ways campuses can reduce paper use. It also generates a suite of other benefits\, including cost savings on paper\, energy\, ink/toner\, increased security\, and reduced demand on IT staff time. Drawing on AASHE and Root Solution’s recent publication\, Ditching Desktop Printers: A Behavior Change Guide to Cutting Paper Use\, Energy Consumption and Costs\, this webinar will provide step-by-step guidance for implementing a printer consolidation campaign\, including potential intervention ideas based on the results of these surveys. \nREGISTER HERE
URL:https://sustain.ucla.edu/event/behavioral-strategies-to-ditch-desktop-printers/
LOCATION:CA
END:VEVENT
END:VCALENDAR