BEGIN:VCALENDAR
VERSION:2.0
PRODID:-//UCLA Sustainability - ECPv6.15.20//NONSGML v1.0//EN
CALSCALE:GREGORIAN
METHOD:PUBLISH
X-WR-CALNAME:UCLA Sustainability
X-ORIGINAL-URL:https://sustain.ucla.edu
X-WR-CALDESC:Events for UCLA Sustainability
REFRESH-INTERVAL;VALUE=DURATION:PT1H
X-Robots-Tag:noindex
X-PUBLISHED-TTL:PT1H
BEGIN:VTIMEZONE
TZID:America/Los_Angeles
BEGIN:DAYLIGHT
TZOFFSETFROM:-0800
TZOFFSETTO:-0700
TZNAME:PDT
DTSTART:20200308T100000
END:DAYLIGHT
BEGIN:STANDARD
TZOFFSETFROM:-0700
TZOFFSETTO:-0800
TZNAME:PST
DTSTART:20201101T090000
END:STANDARD
BEGIN:DAYLIGHT
TZOFFSETFROM:-0800
TZOFFSETTO:-0700
TZNAME:PDT
DTSTART:20210314T100000
END:DAYLIGHT
BEGIN:STANDARD
TZOFFSETFROM:-0700
TZOFFSETTO:-0800
TZNAME:PST
DTSTART:20211107T090000
END:STANDARD
BEGIN:DAYLIGHT
TZOFFSETFROM:-0800
TZOFFSETTO:-0700
TZNAME:PDT
DTSTART:20220313T100000
END:DAYLIGHT
BEGIN:STANDARD
TZOFFSETFROM:-0700
TZOFFSETTO:-0800
TZNAME:PST
DTSTART:20221106T090000
END:STANDARD
END:VTIMEZONE
BEGIN:VEVENT
DTSTART;VALUE=DATE:20210401
DTEND;VALUE=DATE:20210405
DTSTAMP:20260424T162057
CREATED:20210325T212033Z
LAST-MODIFIED:20210401T221739Z
UID:13235-1617235200-1617580799@sustain.ucla.edu
SUMMARY:Solar Spark Collegiate Conference
DESCRIPTION:Solar Spark is a virtual collegiate conference filled with thought leadership on environmental equity and sustainability created by students and for students! You’ll have the opportunity to connect with experts\, employers\, and peers through an online collegiate community experience. Special optional environmental arts and culture activities often open and close the days. \nLearning from luminaries in the field about the solar energy industry\, innovative renewable energy technologies\, energy justice\, policy\, and the future of solar through student-led interviews and discussions with industry experts. \nConnecting with organizations and career pathways that support clean\, renewable energy\, as well as meeting industry employers and learning about internships\, fellowships\, and entry-level positions. \nGetting to know other college students who share a passion for an equitable and sustainable energy future. \nREGISTER FOR FREE using code “SPARKBUD” at checkout. \nCan’t make the time for the whole conference? Register anyway! After the event\, we’ll email you a link to the recordings.
URL:https://sustain.ucla.edu/event/solar-spark-collegiate-conference/
LOCATION:CA
ATTACH;FMTTYPE=image/jpeg:https://sustain.ucla.edu/wp-content/uploads/2021/03/spark-1.jpg
END:VEVENT
END:VCALENDAR