BEGIN:VCALENDAR
VERSION:2.0
PRODID:-//UCLA Sustainability - ECPv6.15.20//NONSGML v1.0//EN
CALSCALE:GREGORIAN
METHOD:PUBLISH
X-WR-CALNAME:UCLA Sustainability
X-ORIGINAL-URL:https://sustain.ucla.edu
X-WR-CALDESC:Events for UCLA Sustainability
REFRESH-INTERVAL;VALUE=DURATION:PT1H
X-Robots-Tag:noindex
X-PUBLISHED-TTL:PT1H
BEGIN:VTIMEZONE
TZID:America/Los_Angeles
BEGIN:DAYLIGHT
TZOFFSETFROM:-0800
TZOFFSETTO:-0700
TZNAME:PDT
DTSTART:20200308T100000
END:DAYLIGHT
BEGIN:STANDARD
TZOFFSETFROM:-0700
TZOFFSETTO:-0800
TZNAME:PST
DTSTART:20201101T090000
END:STANDARD
BEGIN:DAYLIGHT
TZOFFSETFROM:-0800
TZOFFSETTO:-0700
TZNAME:PDT
DTSTART:20210314T100000
END:DAYLIGHT
BEGIN:STANDARD
TZOFFSETFROM:-0700
TZOFFSETTO:-0800
TZNAME:PST
DTSTART:20211107T090000
END:STANDARD
BEGIN:DAYLIGHT
TZOFFSETFROM:-0800
TZOFFSETTO:-0700
TZNAME:PDT
DTSTART:20220313T100000
END:DAYLIGHT
BEGIN:STANDARD
TZOFFSETFROM:-0700
TZOFFSETTO:-0800
TZNAME:PST
DTSTART:20221106T090000
END:STANDARD
END:VTIMEZONE
BEGIN:VEVENT
DTSTART;TZID=America/Los_Angeles:20210405T170000
DTEND;TZID=America/Los_Angeles:20210405T183000
DTSTAMP:20260424T143615
CREATED:20210402T003133Z
LAST-MODIFIED:20210402T003548Z
UID:13294-1617642000-1617647400@sustain.ucla.edu
SUMMARY:Navigating a Low-Waste Lifestyle During the COVID-19 Pandemic
DESCRIPTION:Creating less waste has become even harder for individuals due to the ongoing coronavirus pandemic. With necessary regulations to protect public health and safety\, come some unavoidable consequences of more waste. But in your efforts to stay at home more\, is there anything you can do to reduce your waste footprint? Find out more from our zero waste 101 presentation and workshop where we discuss how to stay safe and sustainable under lockdown and beyond. \nZOOM LINK \nWaste Awareness Week Website
URL:https://sustain.ucla.edu/event/navigating-a-low-waste-lifestyle-during-the-covid-19-pandemic/
LOCATION:CA
ATTACH;FMTTYPE=image/jpeg:https://sustain.ucla.edu/wp-content/uploads/2021/04/WAW-1.jpg
END:VEVENT
END:VCALENDAR