BEGIN:VCALENDAR
VERSION:2.0
PRODID:-//UCLA Sustainability - ECPv6.15.20//NONSGML v1.0//EN
CALSCALE:GREGORIAN
METHOD:PUBLISH
X-ORIGINAL-URL:https://sustain.ucla.edu
X-WR-CALDESC:Events for UCLA Sustainability
REFRESH-INTERVAL;VALUE=DURATION:PT1H
X-Robots-Tag:noindex
X-PUBLISHED-TTL:PT1H
BEGIN:VTIMEZONE
TZID:America/Los_Angeles
BEGIN:DAYLIGHT
TZOFFSETFROM:-0800
TZOFFSETTO:-0700
TZNAME:PDT
DTSTART:20200308T100000
END:DAYLIGHT
BEGIN:STANDARD
TZOFFSETFROM:-0700
TZOFFSETTO:-0800
TZNAME:PST
DTSTART:20201101T090000
END:STANDARD
BEGIN:DAYLIGHT
TZOFFSETFROM:-0800
TZOFFSETTO:-0700
TZNAME:PDT
DTSTART:20210314T100000
END:DAYLIGHT
BEGIN:STANDARD
TZOFFSETFROM:-0700
TZOFFSETTO:-0800
TZNAME:PST
DTSTART:20211107T090000
END:STANDARD
BEGIN:DAYLIGHT
TZOFFSETFROM:-0800
TZOFFSETTO:-0700
TZNAME:PDT
DTSTART:20220313T100000
END:DAYLIGHT
BEGIN:STANDARD
TZOFFSETFROM:-0700
TZOFFSETTO:-0800
TZNAME:PST
DTSTART:20221106T090000
END:STANDARD
END:VTIMEZONE
BEGIN:VEVENT
DTSTART;TZID=America/Los_Angeles:20210407T120000
DTEND;TZID=America/Los_Angeles:20210407T130000
DTSTAMP:20260424T143602
CREATED:20210402T164507Z
LAST-MODIFIED:20210402T164507Z
UID:13334-1617796800-1617800400@sustain.ucla.edu
SUMMARY:Leadership Development in Neurosurgery: How do we promote skills and diversity? – One Woman's Journey
DESCRIPTION:In 2005\, Dr. Muraszko became the Chair of the Department of Neurosurgery at the University of Michigan\, the first woman to chair an academic neurosurgery department in the United States. \nDr. Muraszko specializes in pediatric neurosurgery and belongs to the American Association of Neurological Surgeons (AANS) and the Congress of Neurological Surgeons (CNS).  Her areas of research interests include brain tumor therapy as well as treatment of Chiari malformations\, craniofacial anomalies\, and congenital anomalies of the brain. Learn more: https://medicine.umich.edu/dept/neurosurgery/karin-muraszko-md \nREGISTER HERE
URL:https://sustain.ucla.edu/event/leadership-development-in-neurosurgery-how-do-we-promote-skills-and-diversity-one-womans-journey/
LOCATION:CA
ATTACH;FMTTYPE=image/jpeg:https://sustain.ucla.edu/wp-content/uploads/2021/04/karin.jpg
END:VEVENT
BEGIN:VEVENT
DTSTART;TZID=America/Los_Angeles:20210407T170000
DTEND;TZID=America/Los_Angeles:20210407T183000
DTSTAMP:20260424T143602
CREATED:20210402T003515Z
LAST-MODIFIED:20210402T003515Z
UID:13298-1617814800-1617820200@sustain.ucla.edu
SUMMARY:Global Innovations in Waste Management Panel
DESCRIPTION:The Global Innovations in Waste Management Research Panel is a day to explore creative innovations in how we deal with our trash around the world. This casual\, yet professional networking event allows students and professionals to participate in intimate discussions about unique approaches to waste management. It is split into three parts: a panelist introduction\, a general Q&A\, and unassigned breakout rooms for more specific panelist follow-ups and questions. We look forward to learning about the exciting future of waste management with you all! \nZOOM LINK \nWaste Awareness Week Website
URL:https://sustain.ucla.edu/event/global-innovations-in-waste-management-panel/
LOCATION:CA
ATTACH;FMTTYPE=image/jpeg:https://sustain.ucla.edu/wp-content/uploads/2021/04/WAW-1.jpg
END:VEVENT
END:VCALENDAR