BEGIN:VCALENDAR
VERSION:2.0
PRODID:-//UCLA Sustainability - ECPv6.15.20//NONSGML v1.0//EN
CALSCALE:GREGORIAN
METHOD:PUBLISH
X-ORIGINAL-URL:https://sustain.ucla.edu
X-WR-CALDESC:Events for UCLA Sustainability
REFRESH-INTERVAL;VALUE=DURATION:PT1H
X-Robots-Tag:noindex
X-PUBLISHED-TTL:PT1H
BEGIN:VTIMEZONE
TZID:America/Los_Angeles
BEGIN:DAYLIGHT
TZOFFSETFROM:-0800
TZOFFSETTO:-0700
TZNAME:PDT
DTSTART:20200308T100000
END:DAYLIGHT
BEGIN:STANDARD
TZOFFSETFROM:-0700
TZOFFSETTO:-0800
TZNAME:PST
DTSTART:20201101T090000
END:STANDARD
BEGIN:DAYLIGHT
TZOFFSETFROM:-0800
TZOFFSETTO:-0700
TZNAME:PDT
DTSTART:20210314T100000
END:DAYLIGHT
BEGIN:STANDARD
TZOFFSETFROM:-0700
TZOFFSETTO:-0800
TZNAME:PST
DTSTART:20211107T090000
END:STANDARD
BEGIN:DAYLIGHT
TZOFFSETFROM:-0800
TZOFFSETTO:-0700
TZNAME:PDT
DTSTART:20220313T100000
END:DAYLIGHT
BEGIN:STANDARD
TZOFFSETFROM:-0700
TZOFFSETTO:-0800
TZNAME:PST
DTSTART:20221106T090000
END:STANDARD
END:VTIMEZONE
BEGIN:VEVENT
DTSTART;TZID=America/Los_Angeles:20210408T090000
DTEND;TZID=America/Los_Angeles:20210408T100000
DTSTAMP:20260424T143601
CREATED:20210323T214622Z
LAST-MODIFIED:20210406T164912Z
UID:13216-1617872400-1617876000@sustain.ucla.edu
SUMMARY:Plastics: The Last Straw for Big Oil?
DESCRIPTION:Join us on Thursday\, April 8 for a webinar discussing Plastics: The Last Straw for Big Oil?\, a report addressing the risks of overinvestment in plastics infrastructure. We will provide a brief overview of the report and hear from subject matter experts on the issues of stranded assets\, climate risks\, environmental justice\, community health\, plastic waste\, and corporate commitments. \nThe full report – Plastics: The Last Straw for Big Oil? An Investor Brief on the Risks of Overinvestment in Petrochemicals will be available on our website also on April 8\, 2021. \nThis report informs investors about the expansive risks facing Big Oil’s big bet on plastics — including stranded assets\, climate change impacts\, plastic pollution of land and oceans\, community health impacts\, the greenwashing of “circular” solutions\, and a loss of social license to operate. In a decarbonizing world\, companies who do not adequately prepare for the clean energy transition face systemic decline. Investors need transparent disclosure about company investments into petrochemicals – especially plastics – and how companies are addressing the risks and momentum against fossil-based plastics and climate change. \nREGISTER HERE
URL:https://sustain.ucla.edu/event/plastics-the-last-straw-for-big-oil/
LOCATION:CA
ATTACH;FMTTYPE=image/jpeg:https://sustain.ucla.edu/wp-content/uploads/2021/03/6.jpg
END:VEVENT
BEGIN:VEVENT
DTSTART;TZID=America/Los_Angeles:20210408T180000
DTEND;TZID=America/Los_Angeles:20210408T190000
DTSTAMP:20260424T143601
CREATED:20210402T003833Z
LAST-MODIFIED:20210406T165110Z
UID:13301-1617904800-1617908400@sustain.ucla.edu
SUMMARY:Medical Waste and Health Equity Panel
DESCRIPTION:Medical Aid Initiative at UCLA is hosting a Health Equity and Medical Waste panel which seeks to raise awareness about sustainability in medicine and help students learn more about the various professions that promote health equity. With the ongoing pandemic magnifying critical gaps in health and the rapid increase in medical waste across the world\, this event will facilitate a discussion about the diverse strategies implemented to address these issues. Professionals from leading health care providers and academic institutions will share their specific experiences in these pertinent fields\, what inspired them to become involved in their work\, and the valuable insight they have gained along their paths. \nWaste Awareness Week Website \nRSVP HERE \nZOOM LINK
URL:https://sustain.ucla.edu/event/medical-waste-and-health-equity-panel/
LOCATION:CA
ATTACH;FMTTYPE=image/jpeg:https://sustain.ucla.edu/wp-content/uploads/2021/04/WAW-1.jpg
END:VEVENT
BEGIN:VEVENT
DTSTART;TZID=America/Los_Angeles:20210408T180000
DTEND;TZID=America/Los_Angeles:20210408T190000
DTSTAMP:20260424T143601
CREATED:20210406T183743Z
LAST-MODIFIED:20210406T183743Z
UID:13364-1617904800-1617908400@sustain.ucla.edu
SUMMARY:Organic Landscaping Panel
DESCRIPTION:Curious about organic landscaping? Come join us for a conversation with experts in the field about how we can better manage our lands for a safer\, healthier\, and more equitable environment. \nREGISTER HERE \nPanelists \nAndy Shrader\, Director of Environmental Affairs\, Water Policy\, & Sustainability for Council District Five \nKathleen Craig\, Account Manager\, Brightview Landscape Services \nJay Feldman\, Executive Director\, Beyond Pesticides \nJustin Wisor\, Director of Custodial and Grounds\, UCLA Facilities Management
URL:https://sustain.ucla.edu/event/organic-landscaping-panel/
LOCATION:CA
ATTACH;FMTTYPE=image/jpeg:https://sustain.ucla.edu/wp-content/uploads/2021/04/organic.jpg
END:VEVENT
END:VCALENDAR