BEGIN:VCALENDAR
VERSION:2.0
PRODID:-//UCLA Sustainability - ECPv6.15.20//NONSGML v1.0//EN
CALSCALE:GREGORIAN
METHOD:PUBLISH
X-WR-CALNAME:UCLA Sustainability
X-ORIGINAL-URL:https://sustain.ucla.edu
X-WR-CALDESC:Events for UCLA Sustainability
REFRESH-INTERVAL;VALUE=DURATION:PT1H
X-Robots-Tag:noindex
X-PUBLISHED-TTL:PT1H
BEGIN:VTIMEZONE
TZID:America/Los_Angeles
BEGIN:DAYLIGHT
TZOFFSETFROM:-0800
TZOFFSETTO:-0700
TZNAME:PDT
DTSTART:20200308T100000
END:DAYLIGHT
BEGIN:STANDARD
TZOFFSETFROM:-0700
TZOFFSETTO:-0800
TZNAME:PST
DTSTART:20201101T090000
END:STANDARD
BEGIN:DAYLIGHT
TZOFFSETFROM:-0800
TZOFFSETTO:-0700
TZNAME:PDT
DTSTART:20210314T100000
END:DAYLIGHT
BEGIN:STANDARD
TZOFFSETFROM:-0700
TZOFFSETTO:-0800
TZNAME:PST
DTSTART:20211107T090000
END:STANDARD
BEGIN:DAYLIGHT
TZOFFSETFROM:-0800
TZOFFSETTO:-0700
TZNAME:PDT
DTSTART:20220313T100000
END:DAYLIGHT
BEGIN:STANDARD
TZOFFSETFROM:-0700
TZOFFSETTO:-0800
TZNAME:PST
DTSTART:20221106T090000
END:STANDARD
END:VTIMEZONE
BEGIN:VEVENT
DTSTART;TZID=America/Los_Angeles:20210409T150000
DTEND;TZID=America/Los_Angeles:20210409T160000
DTSTAMP:20260424T160015
CREATED:20210402T004019Z
LAST-MODIFIED:20210406T165208Z
UID:13303-1617980400-1617984000@sustain.ucla.edu
SUMMARY:Environmental Justice and Activism Community Conversations
DESCRIPTION:At Zero Waste UCLA (a division of UCLA Sustainability)\, one of our main goals is to diversify our narrative in regards to sustainability practices across the board. We want to acknowledge the greenwashing and whitewashing of the zero waste movement and collaborate with different clubs around campus to create a space for everyone’s voices to be heard. Our Community Conversation creates this space while also providing some information on how zero waste is related to environmental justice and how we can advocate for change. \nWaste Awareness Week Website \nZOOM LINK
URL:https://sustain.ucla.edu/event/environmental-justice-and-activism-community-conversations/
LOCATION:CA
ATTACH;FMTTYPE=image/jpeg:https://sustain.ucla.edu/wp-content/uploads/2021/04/WAW-1.jpg
END:VEVENT
END:VCALENDAR