BEGIN:VCALENDAR
VERSION:2.0
PRODID:-//UCLA Sustainability - ECPv6.15.20//NONSGML v1.0//EN
CALSCALE:GREGORIAN
METHOD:PUBLISH
X-WR-CALNAME:UCLA Sustainability
X-ORIGINAL-URL:https://sustain.ucla.edu
X-WR-CALDESC:Events for UCLA Sustainability
REFRESH-INTERVAL;VALUE=DURATION:PT1H
X-Robots-Tag:noindex
X-PUBLISHED-TTL:PT1H
BEGIN:VTIMEZONE
TZID:America/Los_Angeles
BEGIN:DAYLIGHT
TZOFFSETFROM:-0800
TZOFFSETTO:-0700
TZNAME:PDT
DTSTART:20200308T100000
END:DAYLIGHT
BEGIN:STANDARD
TZOFFSETFROM:-0700
TZOFFSETTO:-0800
TZNAME:PST
DTSTART:20201101T090000
END:STANDARD
BEGIN:DAYLIGHT
TZOFFSETFROM:-0800
TZOFFSETTO:-0700
TZNAME:PDT
DTSTART:20210314T100000
END:DAYLIGHT
BEGIN:STANDARD
TZOFFSETFROM:-0700
TZOFFSETTO:-0800
TZNAME:PST
DTSTART:20211107T090000
END:STANDARD
BEGIN:DAYLIGHT
TZOFFSETFROM:-0800
TZOFFSETTO:-0700
TZNAME:PDT
DTSTART:20220313T100000
END:DAYLIGHT
BEGIN:STANDARD
TZOFFSETFROM:-0700
TZOFFSETTO:-0800
TZNAME:PST
DTSTART:20221106T090000
END:STANDARD
END:VTIMEZONE
BEGIN:VEVENT
DTSTART;TZID=America/Los_Angeles:20210414T121500
DTEND;TZID=America/Los_Angeles:20210414T134500
DTSTAMP:20260424T160015
CREATED:20210402T004919Z
LAST-MODIFIED:20210402T005643Z
UID:13305-1618402500-1618407900@sustain.ucla.edu
SUMMARY:Climate Justice in the US: The Search for Equity
DESCRIPTION:This panel will examine efforts to address climate change at the national level through the lenses of environmental justice and human rights\, looking especially at efforts to push for equity in climate policy.  Panelists will discuss how national climate change initiatives can or should simultaneously advance efforts for racial and economic equity and other human rights priorities. \nKeshia Sexton\, Deputy Director of Organizing\, Mothers Out Front \nCara Horowitz\, Andrew Sabin Family Foundation Co-Executive Director\, UCLA Emmett Institute (moderator) \nAdditional speakers to be announced \nREGISTER HERE
URL:https://sustain.ucla.edu/event/climate-justice-in-the-us-the-search-for-equity/
LOCATION:CA
ATTACH;FMTTYPE=image/jpeg:https://sustain.ucla.edu/wp-content/uploads/2021/04/5.jpg
END:VEVENT
END:VCALENDAR