BEGIN:VCALENDAR
VERSION:2.0
PRODID:-//UCLA Sustainability - ECPv6.15.20//NONSGML v1.0//EN
CALSCALE:GREGORIAN
METHOD:PUBLISH
X-WR-CALNAME:UCLA Sustainability
X-ORIGINAL-URL:https://sustain.ucla.edu
X-WR-CALDESC:Events for UCLA Sustainability
REFRESH-INTERVAL;VALUE=DURATION:PT1H
X-Robots-Tag:noindex
X-PUBLISHED-TTL:PT1H
BEGIN:VTIMEZONE
TZID:America/Los_Angeles
BEGIN:DAYLIGHT
TZOFFSETFROM:-0800
TZOFFSETTO:-0700
TZNAME:PDT
DTSTART:20200308T100000
END:DAYLIGHT
BEGIN:STANDARD
TZOFFSETFROM:-0700
TZOFFSETTO:-0800
TZNAME:PST
DTSTART:20201101T090000
END:STANDARD
BEGIN:DAYLIGHT
TZOFFSETFROM:-0800
TZOFFSETTO:-0700
TZNAME:PDT
DTSTART:20210314T100000
END:DAYLIGHT
BEGIN:STANDARD
TZOFFSETFROM:-0700
TZOFFSETTO:-0800
TZNAME:PST
DTSTART:20211107T090000
END:STANDARD
BEGIN:DAYLIGHT
TZOFFSETFROM:-0800
TZOFFSETTO:-0700
TZNAME:PDT
DTSTART:20220313T100000
END:DAYLIGHT
BEGIN:STANDARD
TZOFFSETFROM:-0700
TZOFFSETTO:-0800
TZNAME:PST
DTSTART:20221106T090000
END:STANDARD
END:VTIMEZONE
BEGIN:VEVENT
DTSTART;TZID=America/Los_Angeles:20210415T143000
DTEND;TZID=America/Los_Angeles:20210415T160000
DTSTAMP:20260424T143613
CREATED:20210402T011534Z
LAST-MODIFIED:20210402T011534Z
UID:13320-1618497000-1618502400@sustain.ucla.edu
SUMMARY:Converging Threats\, Cascading Health Risks: Climate Change\, Food Security\, and Migration
DESCRIPTION:This is the second session of the series: Converging Threats\, Cascading Health Risks: Climate Change\, Food Security\, and Migration. Climate change is anticipated to unleash unprecedented threats to global food security and to drive the largest wave of human migration in history. This session will evaluate the intersection of climate change with the social determinants of health\, emphasizing the compounding connections between a warming climate\, food and water security\, and migration. \nWelcome Remarks and Panel Moderator: Sheri Weiser\, MD\, MPH\, MA \nSession Facilitator: Arianne Teherani\, PhD \nSpeakers: Tere Almaguer; Lujain Alqodmani\, MD; Edwin Josué Castellanos López\, PhD; Samuel S. Myers\, MD\, MPH; Veerabhadran Ramanathan\, PhD\, MS \nClosing Remarks: Kirsten Bibbins-Domingo\, PhD\, MD\, MAS \nREGISTER HERE
URL:https://sustain.ucla.edu/event/converging-threats-cascading-health-risks-climate-change-food-security-and-migration/
LOCATION:CA
ATTACH;FMTTYPE=image/jpeg:https://sustain.ucla.edu/wp-content/uploads/2021/04/8-1.jpg
END:VEVENT
BEGIN:VEVENT
DTSTART;TZID=America/Los_Angeles:20210415T180000
DTEND;TZID=America/Los_Angeles:20210415T190000
DTSTAMP:20260424T143613
CREATED:20210409T003003Z
LAST-MODIFIED:20210409T003003Z
UID:13380-1618509600-1618513200@sustain.ucla.edu
SUMMARY:Waste Not Want Not Kitchen
DESCRIPTION:Does composting stink? Is there an alternative to non-stick? Do you really need all those paper towels? \nJoin Friday Apaliski\, Sustainability Concierge\, live from her own kitchen as she shares her favorite tips and tricks for reducing waste\, lowering toxins and sourcing sustainable alternatives for everything in\, on and around your own kitchen. \nAfter six years working for the San Francisco’s Department of the Environment and witnessing first-hand just how complicated and nuanced being environmentally conscious and sustainable can be\, Friday Apaliski founded Sustainable Concierge in order to help people navigate the overwhelming information that leads to confusion and inaction. She is passionate about the environment and uses her expertise to create products and programs best suited for those looking to green their home and to help make choices that allow you to live a more environmentally sustainable life. \nREGISTER HERE
URL:https://sustain.ucla.edu/event/waste-not-want-not-kitchen/
LOCATION:CA
ATTACH;FMTTYPE=image/jpeg:https://sustain.ucla.edu/wp-content/uploads/2021/04/6.jpeg
END:VEVENT
END:VCALENDAR