BEGIN:VCALENDAR
VERSION:2.0
PRODID:-//UCLA Sustainability - ECPv6.15.20//NONSGML v1.0//EN
CALSCALE:GREGORIAN
METHOD:PUBLISH
X-WR-CALNAME:UCLA Sustainability
X-ORIGINAL-URL:https://sustain.ucla.edu
X-WR-CALDESC:Events for UCLA Sustainability
REFRESH-INTERVAL;VALUE=DURATION:PT1H
X-Robots-Tag:noindex
X-PUBLISHED-TTL:PT1H
BEGIN:VTIMEZONE
TZID:America/Los_Angeles
BEGIN:DAYLIGHT
TZOFFSETFROM:-0800
TZOFFSETTO:-0700
TZNAME:PDT
DTSTART:20200308T100000
END:DAYLIGHT
BEGIN:STANDARD
TZOFFSETFROM:-0700
TZOFFSETTO:-0800
TZNAME:PST
DTSTART:20201101T090000
END:STANDARD
BEGIN:DAYLIGHT
TZOFFSETFROM:-0800
TZOFFSETTO:-0700
TZNAME:PDT
DTSTART:20210314T100000
END:DAYLIGHT
BEGIN:STANDARD
TZOFFSETFROM:-0700
TZOFFSETTO:-0800
TZNAME:PST
DTSTART:20211107T090000
END:STANDARD
BEGIN:DAYLIGHT
TZOFFSETFROM:-0800
TZOFFSETTO:-0700
TZNAME:PDT
DTSTART:20220313T100000
END:DAYLIGHT
BEGIN:STANDARD
TZOFFSETFROM:-0700
TZOFFSETTO:-0800
TZNAME:PST
DTSTART:20221106T090000
END:STANDARD
END:VTIMEZONE
BEGIN:VEVENT
DTSTART;VALUE=DATE:20210419
DTEND;VALUE=DATE:20210424
DTSTAMP:20260424T143615
CREATED:20201216T073510Z
LAST-MODIFIED:20210406T170303Z
UID:12712-1618790400-1619222399@sustain.ucla.edu
SUMMARY:Africa's Readiness for Climate Change Forum
DESCRIPTION:UCLA Africa’s Readiness for Climate Change (ARCC) forum as a VIRTUAL conference event is scheduled from Monday\, April 19th – Friday\, April 23rd. We have confirmed the same incredible Keynote Speakers – Ambassador Sidique Wai\, Aya Chebbi\, Nnimmo Bassey\, and Ousmane Pame for this event. \nREGISTER HERE \nIn the meantime\, we am excited to share that our partner\, Ousmane Pame\, founder of REDES has a new documentary out. If you really want to know what Earth Rights Institute is about and what we have been advocating and stand for regarding our initiatives for addressing climate action in Africa\, I urge you to see this new documentary that Amazon Prime has just released called \n“Climate Change Does Not Need a Visa”
URL:https://sustain.ucla.edu/event/africas-readiness-for-climate-change-forum/
LOCATION:CA
ATTACH;FMTTYPE=image/jpeg:https://sustain.ucla.edu/wp-content/uploads/2021/02/ARCC2021Flyer01212021.jpg
END:VEVENT
BEGIN:VEVENT
DTSTART;VALUE=DATE:20210419
DTEND;VALUE=DATE:20210424
DTSTAMP:20260424T143615
CREATED:20210330T185207Z
LAST-MODIFIED:20210402T010907Z
UID:13251-1618790400-1619222399@sustain.ucla.edu
SUMMARY:2021 UCLA Anderson Impact Week Conference
DESCRIPTION:UCLA Anderson’s Impact Week celebrates our community’s commitment to creating a more equitable\, just\, and sustainable society. With a theme of “Power to Change\,” Impact Week 2021 will spotlight ideas\, practices\, and skills that business leaders need to change their organizations and industries in support of social justice\, economic inclusion\, environmental sustainability\, quality healthcare\, educational equity\, and other important global goals. \nImpact Week is organized by UCLA Anderson’s Impact@Anderson Center and the Net Impact MBA Chapter\, in collaboration with partners within the business school and across the broader UCLA community. The program is open to all students\, alumni\, prospective applicants\, industry professionals\, and the public. \nSchedule/Speakers \nREGISTER HERE
URL:https://sustain.ucla.edu/event/2021-ucla-anderson-impact-week-conference/
LOCATION:CA
ATTACH;FMTTYPE=image/jpeg:https://sustain.ucla.edu/wp-content/uploads/2021/03/Impact-1.jpg
END:VEVENT
BEGIN:VEVENT
DTSTART;TZID=America/Los_Angeles:20210422T090000
DTEND;TZID=America/Los_Angeles:20210423T143000
DTSTAMP:20260424T143615
CREATED:20210330T183405Z
LAST-MODIFIED:20210406T170701Z
UID:13242-1619082000-1619188200@sustain.ucla.edu
SUMMARY:UC Center for Climate Justice Launch Event
DESCRIPTION:The Center for Climate Justice is a University of California system wide initiative to address climate change as a social justice and equity issue. \nClimate justice recognizes the disproportionate impacts of climate change on low-income communities and BIPOC communities around the world\, the people and places least responsible for the problem. The UC Center for Climate Justice seeks solutions that address the root causes of climate change and in doing so\, simultaneously address a broad range of social\, racial\, and environmental injustices. \nThe Center’s vision is a world where broad-scale climate action is driven by science and a systems perspective\, with social and ecological justice at the forefront. We aim to center issues of equity in addressing climate change\, working collaboratively with researchers\, educators\, NGOs\, activists\, policymakers\, philanthropists\, Indigenous and community leaders\, and private sector actors who are fighting for climate justice in California and beyond. Through innovative research\, transformative education\, and public engagement\, we are committed to empowering the next generation of climate justice leaders. \nThe Center for Climate Justice launch event will be held over two days\, April 22-23\, 2021\, beginning on Earth Day. It will feature keynote presentations by food sovereignty scholar-activist Vandana Shiva and DOE Deputy Director for Energy Justice Shalanda Baker\, a fireside chat with Green New Deal architect Rihana Gunn-Wright\, and panel discussions featuring California climate justice leaders\, scholars and activists. We will also host breakout room conversations and a music and spoken-word celebration on the second day. We hope to see you there! \nREGISTER HERE \n\nApril 22\, 2021 (9:00am-1:30pm PST) \nSchedule: \n9:00am-9:25am Opening and Introduction to the Launch \n9:25am-9:45am Keynote Address: Shalanda Baker \n9:50am-10:40am Panel #1: Just Transitions \n10:50am-11:40am Panel #2: Social\, Racial and Environmental Justice \n11:50am-12:40pm Panel #3: Indigenous Climate Action \n12:45pm-1:20pm Fireside Chat with Rihana Gunn-Wright and Center Director Tracey Osborne \n1:20pm-1:30pm Closing Statements \n\n\nApril 23\, 2021 (9:00am-2:30pm PST) \nSchedule: \n9:00am-9:25am Opening and Introduction to the Launch \n9:25am-9:45am Keynote Address: Vandana Shiva \n9:50am-10:40am Panel #1: Community Resilience and Adaptation \n10:50am-11:40am Panel #2: Natural Climate Solutions \n11:50am-12:40pm Panel #3: Climate Education and Engagement \n12:45pm-1:20pm Breakout Groups or Video Viewing \n1:30pm-3:20pm Musical Celebration \n3:20pm-3:30pm Closing Statements
URL:https://sustain.ucla.edu/event/uc-center-for-climate-justice-launch-event/
LOCATION:CA
ATTACH;FMTTYPE=image/jpeg:https://sustain.ucla.edu/wp-content/uploads/2021/03/UC.jpeg
END:VEVENT
BEGIN:VEVENT
DTSTART;TZID=America/Los_Angeles:20210423T120000
DTEND;TZID=America/Los_Angeles:20210423T130000
DTSTAMP:20260424T143615
CREATED:20210416T211658Z
LAST-MODIFIED:20210416T211658Z
UID:13482-1619179200-1619182800@sustain.ucla.edu
SUMMARY:Emma Stewart on Corporate Sustainability
DESCRIPTION:Keynote Address from Emma Stewart during the Anderson Impact Week. Emma Stewart\, Ph.D.\, is the Netflix Sustainability Officer where she is responsible for the company’s climate and environmental strategy and execution. She joined Netflix officially in late 2020\, having helped design the program while a consultant at ENGIE. She oversees all company-wide work to decarbonize Netflix corporate and production operations\, to further raise environmental awareness through TV and film titles\, to engage the 200+ million Netflix households on sustainability\, and to partner with key influencers including researchers\, investors\, employees\, NGOs\, and the media. \nREGISTER HERE
URL:https://sustain.ucla.edu/event/emma-stewart-on-corporate-sustainability/
LOCATION:CA
ATTACH;FMTTYPE=image/png:https://sustain.ucla.edu/wp-content/uploads/2021/04/4.23-EStewart.png
END:VEVENT
BEGIN:VEVENT
DTSTART;TZID=America/Los_Angeles:20210423T180000
DTEND;TZID=America/Los_Angeles:20210423T200000
DTSTAMP:20260424T143615
CREATED:20210402T012602Z
LAST-MODIFIED:20210402T012602Z
UID:13330-1619200800-1619208000@sustain.ucla.edu
SUMMARY:Davis Attenborough’s A Life On Our Planet - Virtual Movie Screening
DESCRIPTION:Hosted by UC Davis Health Sustainability\, with a short introduction from Colleen McCormick\, Sustainability Director. \nOne man has seen more of the natural world than any other. This unique feature documentary is his witness statement. In his 93 years\, David Attenborough has visited every continent on the globe\, exploring the wild places of our planet and documenting the living world in all its variety and wonder. Now\, for the first time he reflects upon both the defining moments of his lifetime as a naturalist and the devastating changes he has seen. Honest\, revealing and urgent\, DAVID ATTENBOROUGH: A LIFE ON OUR PLANET is a powerful first-hand account of humanity’s impact on nature and a message of hope for future generations. \nCreated by award-winning natural history filmmakers Silverback Films and global conservation organization WWF\, the film is Directed by Alastair Fothergill\, Jonnie Hughes and Keith Scholey and Executive Produced by Colin Butfield. Celebrated British naturalist Sir David Attenborough has a broadcasting career spanning over eight decades. He has visited every continent on the globe\, exploring the wild places of our planet and bringing the wonders of the living world to audiences worldwide through groundbreaking natural history series. His work includes: Life on Earth\, Planet Earth and more recently the Netflix original documentary series Our Planet. \nREGISTER HERE
URL:https://sustain.ucla.edu/event/davis-attenboroughs-a-life-on-our-planet-virtual-movie-screening/
LOCATION:CA
ATTACH;FMTTYPE=image/jpeg:https://sustain.ucla.edu/wp-content/uploads/2021/04/11.jpg
END:VEVENT
END:VCALENDAR