BEGIN:VCALENDAR
VERSION:2.0
PRODID:-//UCLA Sustainability - ECPv6.15.20//NONSGML v1.0//EN
CALSCALE:GREGORIAN
METHOD:PUBLISH
X-ORIGINAL-URL:https://sustain.ucla.edu
X-WR-CALDESC:Events for UCLA Sustainability
REFRESH-INTERVAL;VALUE=DURATION:PT1H
X-Robots-Tag:noindex
X-PUBLISHED-TTL:PT1H
BEGIN:VTIMEZONE
TZID:America/Los_Angeles
BEGIN:DAYLIGHT
TZOFFSETFROM:-0800
TZOFFSETTO:-0700
TZNAME:PDT
DTSTART:20200308T100000
END:DAYLIGHT
BEGIN:STANDARD
TZOFFSETFROM:-0700
TZOFFSETTO:-0800
TZNAME:PST
DTSTART:20201101T090000
END:STANDARD
BEGIN:DAYLIGHT
TZOFFSETFROM:-0800
TZOFFSETTO:-0700
TZNAME:PDT
DTSTART:20210314T100000
END:DAYLIGHT
BEGIN:STANDARD
TZOFFSETFROM:-0700
TZOFFSETTO:-0800
TZNAME:PST
DTSTART:20211107T090000
END:STANDARD
BEGIN:DAYLIGHT
TZOFFSETFROM:-0800
TZOFFSETTO:-0700
TZNAME:PDT
DTSTART:20220313T100000
END:DAYLIGHT
BEGIN:STANDARD
TZOFFSETFROM:-0700
TZOFFSETTO:-0800
TZNAME:PST
DTSTART:20221106T090000
END:STANDARD
END:VTIMEZONE
BEGIN:VEVENT
DTSTART;VALUE=DATE:20210521
DTEND;VALUE=DATE:20210523
DTSTAMP:20260425T070930
CREATED:20210413T204224Z
LAST-MODIFIED:20210413T204224Z
UID:13445-1621555200-1621727999@sustain.ucla.edu
SUMMARY:Municipal Green Building Conference & Expo
DESCRIPTION:Our 2021 theme is The Time is Now!\nThe unprecedented events of 2020 punctuated the urgency of the climate crisis\, the pervasiveness of racial inequities and environmental injustices\, the deep impacts of housing unaffordability\, and the vulnerability of our societal systems to handle extreme disruptions. “The Time is Now!” is a recognition that our actions to combat climate change\, while strengthening our adaptive capacity\, must be immediate\, must be accelerated\, and must be intersectional. \n\nThe Time is Now! for Climate Action & Rapid Decarbonization.\nThe Time is Now! for Adaptation & Resilience.\nThe Time is Now! for Equity & Environmental Justice.\nThe Time is Now! for Racial Healing & Building Community Power.\nThe Time is Now! for a Healthy Post-COVID Future.\n\nREGISTER HERE \n 
URL:https://sustain.ucla.edu/event/municipal-green-building-conference-expo-2/
LOCATION:CA
ATTACH;FMTTYPE=image/png:https://sustain.ucla.edu/wp-content/uploads/2021/04/usgbc.png
END:VEVENT
BEGIN:VEVENT
DTSTART;TZID=America/Los_Angeles:20210521T130000
DTEND;TZID=America/Los_Angeles:20210521T140000
DTSTAMP:20260425T070930
CREATED:20210421T222629Z
LAST-MODIFIED:20210421T222629Z
UID:13507-1621602000-1621605600@sustain.ucla.edu
SUMMARY:Queer Migrant Futures: Joy\, Kinship\, & Soul-Based Connection
DESCRIPTION:Love and laughter are essential to sustain our visions of futures beyond settler colonial borders. Join us on zoom for performances of poetry\, song\, and movement by acclaimed queer migrant artists Alan Pelaez Lopez\, Yosimar Reyes\, and Soultree. As we journey to a place of spirit and soul-based connection where joy\, care\, and kinship are prioritized over policies and reform\, together we will open pathways to queer migrant futures. Audience Q&A with the artists will follow performances. \nFeaturing:\nAlan Pelaez Lopez\nYosimar Reyes\nSoultree \nPart of the Sawyer Seminar Sanctuary Spaces: Reworlding Humanism\nArt by Angélica \nREGISTER HERE \n 
URL:https://sustain.ucla.edu/event/queer-migrant-futures-joy-kinship-soul-based-connection/
LOCATION:CA
ATTACH;FMTTYPE=image/jpeg:https://sustain.ucla.edu/wp-content/uploads/2021/04/queer.jpg
END:VEVENT
END:VCALENDAR