BEGIN:VCALENDAR
VERSION:2.0
PRODID:-//UCLA Sustainability - ECPv6.15.20//NONSGML v1.0//EN
CALSCALE:GREGORIAN
METHOD:PUBLISH
X-WR-CALNAME:UCLA Sustainability
X-ORIGINAL-URL:https://sustain.ucla.edu
X-WR-CALDESC:Events for UCLA Sustainability
REFRESH-INTERVAL;VALUE=DURATION:PT1H
X-Robots-Tag:noindex
X-PUBLISHED-TTL:PT1H
BEGIN:VTIMEZONE
TZID:America/Los_Angeles
BEGIN:DAYLIGHT
TZOFFSETFROM:-0800
TZOFFSETTO:-0700
TZNAME:PDT
DTSTART:20200308T100000
END:DAYLIGHT
BEGIN:STANDARD
TZOFFSETFROM:-0700
TZOFFSETTO:-0800
TZNAME:PST
DTSTART:20201101T090000
END:STANDARD
BEGIN:DAYLIGHT
TZOFFSETFROM:-0800
TZOFFSETTO:-0700
TZNAME:PDT
DTSTART:20210314T100000
END:DAYLIGHT
BEGIN:STANDARD
TZOFFSETFROM:-0700
TZOFFSETTO:-0800
TZNAME:PST
DTSTART:20211107T090000
END:STANDARD
BEGIN:DAYLIGHT
TZOFFSETFROM:-0800
TZOFFSETTO:-0700
TZNAME:PDT
DTSTART:20220313T100000
END:DAYLIGHT
BEGIN:STANDARD
TZOFFSETFROM:-0700
TZOFFSETTO:-0800
TZNAME:PST
DTSTART:20221106T090000
END:STANDARD
END:VTIMEZONE
BEGIN:VEVENT
DTSTART;TZID=America/Los_Angeles:20210526T173000
DTEND;TZID=America/Los_Angeles:20210526T183000
DTSTAMP:20260424T193813
CREATED:20210517T183208Z
LAST-MODIFIED:20210517T183208Z
UID:13724-1622050200-1622053800@sustain.ucla.edu
SUMMARY:Semel HCI 2021 Virtual Celebration: #BruinsTogether
DESCRIPTION:Featuring: \nThe UCLA Semel Healthy Campus Initiative Center Eudaimonia Lifetime Achievement Award Presentation \n\nJeanie Buss\, Governor of the Los Angeles Lakers\n\n  \nHealth Equity and Social Justice Panelists: \n\nMetta Sandiford-Artest\, NBA World Champion\nDr. Nicole Green\, Director of CAPS\nDr. Michael Rodriguez\, UCLA Professor\nJessica Arzola\, Nurse and MPH Student\nMiranda Kim\, Assistant Student Wellness Commissioner\n\n  \nMusical Performances: \n\nResonance A Capella\nDavid Flores of Las Cafeteras\n\n  \nThe Jane B. Semel Appreciation and Recognition Awards Ceremony \nFollow us on social media @healthyucla for exciting event updates and for a chance to win special prizes! \nBe a part of the movement! #BruinsTogether \nREGISTER HERE
URL:https://sustain.ucla.edu/event/semel-hci-2021-virtual-celebration-bruinstogether/
LOCATION:CA
ATTACH;FMTTYPE=image/jpeg:https://sustain.ucla.edu/wp-content/uploads/2021/05/semel.jpg
END:VEVENT
END:VCALENDAR