BEGIN:VCALENDAR
VERSION:2.0
PRODID:-//UCLA Sustainability - ECPv6.15.20//NONSGML v1.0//EN
CALSCALE:GREGORIAN
METHOD:PUBLISH
X-WR-CALNAME:UCLA Sustainability
X-ORIGINAL-URL:https://sustain.ucla.edu
X-WR-CALDESC:Events for UCLA Sustainability
REFRESH-INTERVAL;VALUE=DURATION:PT1H
X-Robots-Tag:noindex
X-PUBLISHED-TTL:PT1H
BEGIN:VTIMEZONE
TZID:America/Los_Angeles
BEGIN:DAYLIGHT
TZOFFSETFROM:-0800
TZOFFSETTO:-0700
TZNAME:PDT
DTSTART:20200308T100000
END:DAYLIGHT
BEGIN:STANDARD
TZOFFSETFROM:-0700
TZOFFSETTO:-0800
TZNAME:PST
DTSTART:20201101T090000
END:STANDARD
BEGIN:DAYLIGHT
TZOFFSETFROM:-0800
TZOFFSETTO:-0700
TZNAME:PDT
DTSTART:20210314T100000
END:DAYLIGHT
BEGIN:STANDARD
TZOFFSETFROM:-0700
TZOFFSETTO:-0800
TZNAME:PST
DTSTART:20211107T090000
END:STANDARD
BEGIN:DAYLIGHT
TZOFFSETFROM:-0800
TZOFFSETTO:-0700
TZNAME:PDT
DTSTART:20220313T100000
END:DAYLIGHT
BEGIN:STANDARD
TZOFFSETFROM:-0700
TZOFFSETTO:-0800
TZNAME:PST
DTSTART:20221106T090000
END:STANDARD
END:VTIMEZONE
BEGIN:VEVENT
DTSTART;TZID=America/Los_Angeles:20210611T100000
DTEND;TZID=America/Los_Angeles:20210611T110000
DTSTAMP:20260424T201659
CREATED:20210421T222810Z
LAST-MODIFIED:20210421T222810Z
UID:13510-1623405600-1623409200@sustain.ucla.edu
SUMMARY:Freedom and Fugitivity
DESCRIPTION:The closing event of the Sanctuary Spaces Sawyer Seminar\, Freedom and Fugitivity\, thinks across Black feminism and Indigenous studies to foreground “beautiful experiments” of flight\, refusal\, and rebellion. \nFeaturing:\nSaidiya Hartman\, Professor of English and Comparative Literature\, Columbia University; 2019 MacArthur Fellow \nIn conversation with:\nAisha K. Finch\, Associate Professor of Gender Studies and African American Studies\, UCLA \nTiffany Lethabo King\, Associate Professor of African-American Studies\, Women’s\, Gender\, and Sexuality Studies\, Georgia State University \nKyle Mays\, Assistant Professor of African American Studies\, American Indian Studies\, and History\, UCLA \nModerated by:\nSarah Haley\, Director of the UCLA Center for the Study of Women Black Feminism Initiative\nAssociate Professor of African American Studies and Gender Studies\, UCLA \nChaired by:\nAnanya Roy\, Director of the UCLA Luskin Institute on Inequality and Democracy\nProfessor of Urban Planning\, Social Welfare\, and Geography\, UCLA \nCo-organized with Black Feminism Initiative at UCLA\nCo-sponsored by the UCLA American Indian Studies Center \nPart of the Sawyer Seminar Sanctuary Spaces: Reworlding Humanism \nREGISTER HERE
URL:https://sustain.ucla.edu/event/freedom-and-fugitivity/
LOCATION:CA
ATTACH;FMTTYPE=image/jpeg:https://sustain.ucla.edu/wp-content/uploads/2021/04/FREE.jpg
END:VEVENT
END:VCALENDAR