BEGIN:VCALENDAR
VERSION:2.0
PRODID:-//UCLA Sustainability - ECPv6.15.20//NONSGML v1.0//EN
CALSCALE:GREGORIAN
METHOD:PUBLISH
X-WR-CALNAME:UCLA Sustainability
X-ORIGINAL-URL:https://sustain.ucla.edu
X-WR-CALDESC:Events for UCLA Sustainability
REFRESH-INTERVAL;VALUE=DURATION:PT1H
X-Robots-Tag:noindex
X-PUBLISHED-TTL:PT1H
BEGIN:VTIMEZONE
TZID:America/Los_Angeles
BEGIN:DAYLIGHT
TZOFFSETFROM:-0800
TZOFFSETTO:-0700
TZNAME:PDT
DTSTART:20200308T100000
END:DAYLIGHT
BEGIN:STANDARD
TZOFFSETFROM:-0700
TZOFFSETTO:-0800
TZNAME:PST
DTSTART:20201101T090000
END:STANDARD
BEGIN:DAYLIGHT
TZOFFSETFROM:-0800
TZOFFSETTO:-0700
TZNAME:PDT
DTSTART:20210314T100000
END:DAYLIGHT
BEGIN:STANDARD
TZOFFSETFROM:-0700
TZOFFSETTO:-0800
TZNAME:PST
DTSTART:20211107T090000
END:STANDARD
BEGIN:DAYLIGHT
TZOFFSETFROM:-0800
TZOFFSETTO:-0700
TZNAME:PDT
DTSTART:20220313T100000
END:DAYLIGHT
BEGIN:STANDARD
TZOFFSETFROM:-0700
TZOFFSETTO:-0800
TZNAME:PST
DTSTART:20221106T090000
END:STANDARD
END:VTIMEZONE
BEGIN:VEVENT
DTSTART;TZID=America/Los_Angeles:20210623T120000
DTEND;TZID=America/Los_Angeles:20210623T130000
DTSTAMP:20260424T162108
CREATED:20210610T201344Z
LAST-MODIFIED:20210610T201344Z
UID:13867-1624449600-1624453200@sustain.ucla.edu
SUMMARY:Pollinator-Friendly Cooking Demo and Interview with Celebrity Chef\, Helen Cavallo
DESCRIPTION:Helen Cavallo is of Colombian and Italian descent\, and that background has dictated her love of food and family. Helen’s cooking style focuses on big\, bold flavors\, while always highlighting the main ingredient. Her culinary education came from her upbringing\, having learned to cook from some of the best…her family\, pros at feeding an army and cooking from the land. Through extensive travel in Europe and South America\, Helen has learned the importance of sustainable agriculture and lifestyle. That way of life\, coupled with her family-taught values\, drive Helen’s desire for excellence in her own catering and restaurant businesses. \nFood & Bounty restaurant bases it’s menus on everything that is seasonal and fresh. Menus change according to what’s available at farmers markets and their front yard garden. Food & Bounty is passionate about sourcing the highest quality ingredients and builds relationships with it’s vendors\, mostly from small farms where produce and humanely raised livestock come from. Helen uses the simplest of methods for cooking and preparing food\, believing firmly that an ingredient will shine on it’s own\, offering up the best flavors when handled with the proper care and attention. In the Food & Bounty kitchen you will always find olive oil and fresh herbs to help create the boldest of natural flavors. \nChef Helen Cavallo is also the host of That’s Fresh\, a short-form cooking show for moms and families produced by Disney. The show premiered September 2012 and airs on the Disney and Disney Junior channels. Through simple techniques and preparations\, Helen showcases one main ingredient in recipes that are accessible\, fun and above all\, delicious! \nRecently added is That’s Fresh Colombia\, which airs in Colombia\, South America. The show focuses on two of Helen’s favorite things food and family bringing her easy to make and delicious recipes to her family’s kitchen where Helen and her aunts cook together… back to her roots. \nhttps://www.eprievents.com/event/ad7d7da3-ab4a-4f95-aec2-ecfc475d9f18/summary
URL:https://sustain.ucla.edu/event/pollinator-friendly-cooking-demo-and-interview-with-celebrity-chef-helen-cavallo/
LOCATION:CA
ATTACH;FMTTYPE=image/jpeg:https://sustain.ucla.edu/wp-content/uploads/2021/06/B3.jpg
END:VEVENT
END:VCALENDAR