BEGIN:VCALENDAR
VERSION:2.0
PRODID:-//UCLA Sustainability - ECPv6.15.20//NONSGML v1.0//EN
CALSCALE:GREGORIAN
METHOD:PUBLISH
X-WR-CALNAME:UCLA Sustainability
X-ORIGINAL-URL:https://sustain.ucla.edu
X-WR-CALDESC:Events for UCLA Sustainability
REFRESH-INTERVAL;VALUE=DURATION:PT1H
X-Robots-Tag:noindex
X-PUBLISHED-TTL:PT1H
BEGIN:VTIMEZONE
TZID:America/Los_Angeles
BEGIN:DAYLIGHT
TZOFFSETFROM:-0800
TZOFFSETTO:-0700
TZNAME:PDT
DTSTART:20200308T100000
END:DAYLIGHT
BEGIN:STANDARD
TZOFFSETFROM:-0700
TZOFFSETTO:-0800
TZNAME:PST
DTSTART:20201101T090000
END:STANDARD
BEGIN:DAYLIGHT
TZOFFSETFROM:-0800
TZOFFSETTO:-0700
TZNAME:PDT
DTSTART:20210314T100000
END:DAYLIGHT
BEGIN:STANDARD
TZOFFSETFROM:-0700
TZOFFSETTO:-0800
TZNAME:PST
DTSTART:20211107T090000
END:STANDARD
BEGIN:DAYLIGHT
TZOFFSETFROM:-0800
TZOFFSETTO:-0700
TZNAME:PDT
DTSTART:20220313T100000
END:DAYLIGHT
BEGIN:STANDARD
TZOFFSETFROM:-0700
TZOFFSETTO:-0800
TZNAME:PST
DTSTART:20221106T090000
END:STANDARD
END:VTIMEZONE
BEGIN:VEVENT
DTSTART;TZID=America/Los_Angeles:20211027T090000
DTEND;TZID=America/Los_Angeles:20211027T123000
DTSTAMP:20260424T193815
CREATED:20211027T172854Z
LAST-MODIFIED:20211027T172854Z
UID:14428-1635325200-1635337800@sustain.ucla.edu
SUMMARY:South Coast AQMD Environmental Justice Conference
DESCRIPTION:South Coast AQMD presents the 7ᵗʰ Annual Environmental Justice Conference\, The Fight for Clean Air\, Yesterday\, Today\, Tomorrow \nIn-Person and Online \nIn-Person Event at Capacity \nREGISTER HERE \nWe are excited to announce an exclusive fireside chat with our 2021 Keynote Speaker\, Former California Governor Arnold Schwarzenegger! Lou Calanche\, Executive Director of Legacy LA\, will serve as this year’s Emcee. \nThis half-day in-person and virtual event provides an opportunity to engage in innovative\, cutting-edge ideas and solutions from public agencies\, community-based organizations and public health guides who seek to create a more healthy and clean air future for all communities and residents. \nWe invite attendees to: \n\nExchange valuable strategies to engage and advocate for clean air and healthy sustainable communities for all;\nEngage in discussion about important tools and programs to promote community health and safety; and\nNetwork with leading experts and key stakeholders who are passionate in creating long-term solutions and providing resources.\nThe in-person and virtual locations will both include Spanish interpretation. For in person attendees\, complimentary breakfast\, lunch\, and parking will be provided. Safety protocols will be in place for attendees registering to attend in person.\n\nPanels: Restoring Environmental Justice Through Policy\, Surviving the Pandemic Through Community Engagement\, Environmental ARTivism\, and Clean Air Heroes on the Move \nCost: Free (Registration is required) \nCOVID-19 Policy: Proof of vaccination or a negative COVID test within 72 hours prior to the start of the conference will be required for admittance into the convention center. \nProof of COVID-19 Vaccination includes: \n\nCOVID-19 Vaccination Record Card (issued by the Department of Health and Human Services Centers for Disease Control & Prevention or WHO Yellow Card) Which includes name of person vaccinated\, type of vaccine provided and date doses administered); OR\nA photo of a vaccination card as a separate document; OR\nA photo of the vaccine card stored on a phone or electronic device; OR\nDocumentation of vaccination from a healthcare provider; OR\nDigital record that includes a QR code that when scanned by a SMART Health Card reader displays to the reader: name\, date of birth\, vaccine dates and vaccine type\n\nREMINDER: Mask wearing is required indoors during the event unless you are actively eating or drinking. \nSouth Coast AQMD welcomes all community members to join and participate in its programs and activities. For more information or questions about physical accommodations\, please reach us at EJCP@aqmd.gov.
URL:https://sustain.ucla.edu/event/south-coast-aqmd-environmental-justice-conference/
LOCATION:CA
ATTACH;FMTTYPE=image/jpeg:https://sustain.ucla.edu/wp-content/uploads/2021/10/aqmd.jpeg
END:VEVENT
END:VCALENDAR