BEGIN:VCALENDAR
VERSION:2.0
PRODID:-//UCLA Sustainability - ECPv6.15.20//NONSGML v1.0//EN
CALSCALE:GREGORIAN
METHOD:PUBLISH
X-ORIGINAL-URL:https://sustain.ucla.edu
X-WR-CALDESC:Events for UCLA Sustainability
REFRESH-INTERVAL;VALUE=DURATION:PT1H
X-Robots-Tag:noindex
X-PUBLISHED-TTL:PT1H
BEGIN:VTIMEZONE
TZID:America/Los_Angeles
BEGIN:DAYLIGHT
TZOFFSETFROM:-0800
TZOFFSETTO:-0700
TZNAME:PDT
DTSTART:20200308T100000
END:DAYLIGHT
BEGIN:STANDARD
TZOFFSETFROM:-0700
TZOFFSETTO:-0800
TZNAME:PST
DTSTART:20201101T090000
END:STANDARD
BEGIN:DAYLIGHT
TZOFFSETFROM:-0800
TZOFFSETTO:-0700
TZNAME:PDT
DTSTART:20210314T100000
END:DAYLIGHT
BEGIN:STANDARD
TZOFFSETFROM:-0700
TZOFFSETTO:-0800
TZNAME:PST
DTSTART:20211107T090000
END:STANDARD
BEGIN:DAYLIGHT
TZOFFSETFROM:-0800
TZOFFSETTO:-0700
TZNAME:PDT
DTSTART:20220313T100000
END:DAYLIGHT
BEGIN:STANDARD
TZOFFSETFROM:-0700
TZOFFSETTO:-0800
TZNAME:PST
DTSTART:20221106T090000
END:STANDARD
END:VTIMEZONE
BEGIN:VEVENT
DTSTART;TZID=America/Los_Angeles:20211029T090000
DTEND;TZID=America/Los_Angeles:20211029T123000
DTSTAMP:20260424T055258
CREATED:20211021T191130Z
LAST-MODIFIED:20211021T191130Z
UID:14415-1635498000-1635510600@sustain.ucla.edu
SUMMARY:Tech+Society Conference 2021 Day 2
DESCRIPTION:These are fascinating times – tech-based innovation offers the promise of disruptive technologies which can lower cost and improve outcomes in critical areas of societal focus. The innovations and the businesses that drive them\, however\, are often subject to a rapidly emerging “techlash” with a growing set of concerns about potential monopolistic behavior of large tech companies\, concerns about data privacy\, systemic bias embedded in algorithmic decision making\, a growing digital and income divide\, and uncertainty about the future of work. At the core of this\, a discussion around effective leadership is emerging. \nJoin us for the Tech + Society Conference\, where we will discuss: \n\nWhere can tech-based innovation serve society the best?\nWhat are potential unintended consequences of technology and how can they be mitigated?\nUltimately\, what does success look like for leaders managing tech-based innovation in society?\n\nREGISTER HERE\nDAY 2: HYBRID – VIRTUAL AND IN-PERSON KEYNOTES + PANELS \nKEYNOTE SPEAKER:  DR. JOHN KELLY III\nOften Referred to as The ‘Father’ of IBM Watson \nDr. John E. Kelly III\nExecutive Vice President\, Cognitive Solutions & IBM Research\, IBM \nDr. John Kelly III has more than four decades of experience innovating and leading in the Information Technology (IT) industry. During this time\, he has played numerous significant technical and business roles driving IBM’s leadership in technologies ranging from semiconductors to supercomputers to Artificial Intelligence (AI) cognitive systems. As a champion of IBM’s technical community\, he has kept IBM as the leader in U.S. patents for the last 28 consecutive years. Before retiring\, Dr. Kelly was responsible for helping to guide IBM’s global technical and business success\, focused on overseeing IBM’s enterprise-wide Intellectual Property\, Security and Privacy\, academic\, industrial\, and government partnerships\, as well as its technical community.
URL:https://sustain.ucla.edu/event/techsociety-conference-2021-day-2/
LOCATION:CA
ATTACH;FMTTYPE=image/png:https://sustain.ucla.edu/wp-content/uploads/2021/10/2021EASTON_techsociety_website_hero.png
END:VEVENT
END:VCALENDAR