BEGIN:VCALENDAR
VERSION:2.0
PRODID:-//UCLA Sustainability - ECPv6.15.20//NONSGML v1.0//EN
CALSCALE:GREGORIAN
METHOD:PUBLISH
X-WR-CALNAME:UCLA Sustainability
X-ORIGINAL-URL:https://sustain.ucla.edu
X-WR-CALDESC:Events for UCLA Sustainability
REFRESH-INTERVAL;VALUE=DURATION:PT1H
X-Robots-Tag:noindex
X-PUBLISHED-TTL:PT1H
BEGIN:VTIMEZONE
TZID:America/Los_Angeles
BEGIN:DAYLIGHT
TZOFFSETFROM:-0800
TZOFFSETTO:-0700
TZNAME:PDT
DTSTART:20200308T100000
END:DAYLIGHT
BEGIN:STANDARD
TZOFFSETFROM:-0700
TZOFFSETTO:-0800
TZNAME:PST
DTSTART:20201101T090000
END:STANDARD
BEGIN:DAYLIGHT
TZOFFSETFROM:-0800
TZOFFSETTO:-0700
TZNAME:PDT
DTSTART:20210314T100000
END:DAYLIGHT
BEGIN:STANDARD
TZOFFSETFROM:-0700
TZOFFSETTO:-0800
TZNAME:PST
DTSTART:20211107T090000
END:STANDARD
BEGIN:DAYLIGHT
TZOFFSETFROM:-0800
TZOFFSETTO:-0700
TZNAME:PDT
DTSTART:20220313T100000
END:DAYLIGHT
BEGIN:STANDARD
TZOFFSETFROM:-0700
TZOFFSETTO:-0800
TZNAME:PST
DTSTART:20221106T090000
END:STANDARD
END:VTIMEZONE
BEGIN:VEVENT
DTSTART;TZID=America/Los_Angeles:20211104T170000
DTEND;TZID=America/Los_Angeles:20211104T183000
DTSTAMP:20260424T033111
CREATED:20210913T181715Z
LAST-MODIFIED:20210913T181715Z
UID:14261-1636045200-1636050600@sustain.ucla.edu
SUMMARY:California’s Urban Forests in a Changing Environment
DESCRIPTION:Dr. Ritter will describe his 20 years working to understand patterns and change in California’s diverse urban forests. He will describe research involving the California Urban Forest Inventory project and SelecTree. Climate change has and will continue to affect the state’s urban areas. Can we predict how urban tree species will respond to increasing temperature and variable precipitation? Ritter will discuss patterns and trends in tree selection and considerations for helping to ensure a healthy urban forest for California cities in a time of climate change and decreasing biodiversity. What should we consider when choosing a tree species for planting? Carbon sequestration potential\, aesthetics\, water use\, provenance\, and culture all play a role. Stay after the talk to pick up one of Dr. Ritter’s books or bring your own to have it signed. \nREGISTER HERE \nDr. Matt Ritter: Website / Instagram / Twitter \n\nDr. Matt Ritter is a botany professor in the Biological Sciences Department at Cal Poly in San Luis Obispo\, California\, where he studies California’s native plants and trees in the urban forest. He’s the author of several fiction and non-fiction books\, including the best selling guide to California’s flora\, California Plants: A guide to our Iconic Flora. He also wrote the funniest and best-selling guide to California’s urban forest\, A Californian’s Guide to the Trees among Us (Heyday\, 2011). He won the Cal Poly’s Distinguished Teaching Award and the International Society of Arboriculture Award for Excellence in Education. He’s an avid woodworker\, mason\, and gardener. \n\n\nCOVID-19 Information \nOur space is well ventilated and the glass walls of the La Kretz Garden Pavilion will be open to further increase air circulation. Out of an abundance of caution\, we ask that all attendees wear a mask during this event and to bring proof of vaccination with them. We are planning to record this event as well to make it available virtually after the event—details to follow. \nRSVP / Tickets \nThis event is free\, but seating is limited—RSVP required to reserve a seat. \nPlan Your Visit & Parking \nCheck our website for more information on planning your visit and parking. The Botanical Garden closes at 5pm\, so come early to walk around and explore! \n\n 
URL:https://sustain.ucla.edu/event/californias-urban-forests-in-a-changing-environment/
LOCATION:UCLA LaKretz Garden Pavilion\, 707 Tiverton Dr\, Los Angeles\, CA\, 90095\, United States
ATTACH;FMTTYPE=image/jpeg:https://sustain.ucla.edu/wp-content/uploads/2021/09/ritter.jpeg
END:VEVENT
END:VCALENDAR