BEGIN:VCALENDAR
VERSION:2.0
PRODID:-//UCLA Sustainability - ECPv6.15.20//NONSGML v1.0//EN
CALSCALE:GREGORIAN
METHOD:PUBLISH
X-ORIGINAL-URL:https://sustain.ucla.edu
X-WR-CALDESC:Events for UCLA Sustainability
REFRESH-INTERVAL;VALUE=DURATION:PT1H
X-Robots-Tag:noindex
X-PUBLISHED-TTL:PT1H
BEGIN:VTIMEZONE
TZID:America/Los_Angeles
BEGIN:DAYLIGHT
TZOFFSETFROM:-0800
TZOFFSETTO:-0700
TZNAME:PDT
DTSTART:20200308T100000
END:DAYLIGHT
BEGIN:STANDARD
TZOFFSETFROM:-0700
TZOFFSETTO:-0800
TZNAME:PST
DTSTART:20201101T090000
END:STANDARD
BEGIN:DAYLIGHT
TZOFFSETFROM:-0800
TZOFFSETTO:-0700
TZNAME:PDT
DTSTART:20210314T100000
END:DAYLIGHT
BEGIN:STANDARD
TZOFFSETFROM:-0700
TZOFFSETTO:-0800
TZNAME:PST
DTSTART:20211107T090000
END:STANDARD
BEGIN:DAYLIGHT
TZOFFSETFROM:-0800
TZOFFSETTO:-0700
TZNAME:PDT
DTSTART:20220313T100000
END:DAYLIGHT
BEGIN:STANDARD
TZOFFSETFROM:-0700
TZOFFSETTO:-0800
TZNAME:PST
DTSTART:20221106T090000
END:STANDARD
BEGIN:DAYLIGHT
TZOFFSETFROM:-0800
TZOFFSETTO:-0700
TZNAME:PDT
DTSTART:20230312T100000
END:DAYLIGHT
BEGIN:STANDARD
TZOFFSETFROM:-0700
TZOFFSETTO:-0800
TZNAME:PST
DTSTART:20231105T090000
END:STANDARD
END:VTIMEZONE
BEGIN:VEVENT
DTSTART;TZID=America/Los_Angeles:20211105T120000
DTEND;TZID=America/Los_Angeles:20220603T130000
DTSTAMP:20260424T073021
CREATED:20211103T225509Z
LAST-MODIFIED:20211103T225509Z
UID:14465-1636113600-1654261200@sustain.ucla.edu
SUMMARY:Landscape Architecture and the Science of Climate Change
DESCRIPTION:The Department of Landscape Architecture at Cal Poly Pomona hosts a series of monthly presentations on the science of climate change and landscape architecture solutions. \nJoin the event during your lunch break. It starts at 12pm and ends at 1pm on the first Friday of each month\, between October 2021 and June 2022 (except April 2022\, which will be on the second Friday of that month). \nREGISTER HERE \nEach monthly presentation will be followed by a Q&A moderated by faculty members of Cal Poly Pomona. \nOctober 1: DROUGHT \nNovember 5: WILDFIRE \nDecember 3: BIODIVERSITY LOSS \nJanuary 7: FLOODING \nFebruary 4: SEA RISE \nMarch 4: CARBON \nApril 8: HEAT \nMay 6: FOOD \nJune 3: EXTINCTION \nThis is a public outreach event free for everyone to attend. \nThis event is possible thanks to the work of Ronnie Swire Siegel\, chair of SoCal ASLA’s Climate Action Committee; the Department of Landscape Architecture at Cal Poly Pomona\, and the promotional support of the Southern California Chapter of ASLA\, Northern California Chapter of ASLA\, Los Angeles Regional Collaborative for Climate Action and Sustainability\, the National Association for Minority Landscape Architects\, and the US Green Building Council. \nFor more information\, contact Ronnie Siegel at ronnie@swiresiegel.com or Carlos Flores at caflores@cpp.edu
URL:https://sustain.ucla.edu/event/landscape-architecture-and-the-science-of-climate-change/
LOCATION:CA
ATTACH;FMTTYPE=image/jpeg:https://sustain.ucla.edu/wp-content/uploads/2021/11/Arch.jpeg
END:VEVENT
BEGIN:VEVENT
DTSTART;TZID=America/Los_Angeles:20211130T113000
DTEND;TZID=America/Los_Angeles:20211130T123000
DTSTAMP:20260424T073021
CREATED:20211103T225946Z
LAST-MODIFIED:20211103T225946Z
UID:14472-1638271800-1638275400@sustain.ucla.edu
SUMMARY:Climate Change\, Health and the Built Environment Discussion Series\, Part 1: California's Landscape
DESCRIPTION:Hosted by the UCLA Ziman Center for Real Estate’s Housing as Health Care Initiative\, UCLA Center for Healthy Climate Solutions and Impact@Anderson. \nREGISTER HERE \nWith an increasingly urgent need to adapt to our changing climate\, the built environment offers unique opportunities for programs and new practices that can protect and improve human health. In order to effectively capitalize on these opportunities\, it is critical to engage stakeholders from real estate\, development\, public health\, public policy\, climate adaptation\, and other industries. The challenges – such as more frequent and severe heat waves\, wildfires\, hurricanes\, and floods — can be destructive to the built environment\, harm human health\, and displace communities. However\, the solutions offered by intersectoral work can be cost effective\, simple\, and innovative. Through discussion and collaboration\, implementing these types of solutions can add value to real communities\, increase resilience\, and improve quality of life. \nThe first installment in this series\, California’s Landscape\, will provide an overview of the current threats to our state (extreme heat\, wildfire\, sea level rise\, drought\, air quality) and discuss the ways each of these issues is mitigated/exacerbated by the built environment. Each of these topics will be linked back to health and equity and will lay groundwork for understanding the level of threat and set up discussion about ways to respond. \nSpeakers include: Lara Cushing\, PhD (UCLA Fielding School of Public Health)\, David Eisenman\, MD\, MSHS (David Geffen School of Medicine and UCLA Fielding School of Public Health)\, keynote speaker Richard Jackson\, MD\, MPH (UCLA Fielding School of Public Health)\, moderator Tim Kawahara (UCLA Ziman Center for Real Estate)\, Elizabeth Rhoades\, PhD (Los Angeles County Department of Public Health)\, Ryan Vaughn\, PhD (Jupiter Intelligence).
URL:https://sustain.ucla.edu/event/climate-change-health-and-the-built-environment-discussion-series-part-1-californias-landscape/
LOCATION:CA
ATTACH;FMTTYPE=image/jpeg:https://sustain.ucla.edu/wp-content/uploads/2021/11/climate.jpg
END:VEVENT
END:VCALENDAR