BEGIN:VCALENDAR
VERSION:2.0
PRODID:-//UCLA Sustainability - ECPv6.15.20//NONSGML v1.0//EN
CALSCALE:GREGORIAN
METHOD:PUBLISH
X-WR-CALNAME:UCLA Sustainability
X-ORIGINAL-URL:https://sustain.ucla.edu
X-WR-CALDESC:Events for UCLA Sustainability
REFRESH-INTERVAL;VALUE=DURATION:PT1H
X-Robots-Tag:noindex
X-PUBLISHED-TTL:PT1H
BEGIN:VTIMEZONE
TZID:America/Los_Angeles
BEGIN:DAYLIGHT
TZOFFSETFROM:-0800
TZOFFSETTO:-0700
TZNAME:PDT
DTSTART:20220313T100000
END:DAYLIGHT
BEGIN:STANDARD
TZOFFSETFROM:-0700
TZOFFSETTO:-0800
TZNAME:PST
DTSTART:20221106T090000
END:STANDARD
BEGIN:DAYLIGHT
TZOFFSETFROM:-0800
TZOFFSETTO:-0700
TZNAME:PDT
DTSTART:20230312T100000
END:DAYLIGHT
BEGIN:STANDARD
TZOFFSETFROM:-0700
TZOFFSETTO:-0800
TZNAME:PST
DTSTART:20231105T090000
END:STANDARD
BEGIN:DAYLIGHT
TZOFFSETFROM:-0800
TZOFFSETTO:-0700
TZNAME:PDT
DTSTART:20240310T100000
END:DAYLIGHT
BEGIN:STANDARD
TZOFFSETFROM:-0700
TZOFFSETTO:-0800
TZNAME:PST
DTSTART:20241103T090000
END:STANDARD
END:VTIMEZONE
BEGIN:VEVENT
DTSTART;TZID=America/Los_Angeles:20230419T073000
DTEND;TZID=America/Los_Angeles:20230419T130000
DTSTAMP:20260425T170101
CREATED:20230309T215745Z
LAST-MODIFIED:20230309T215745Z
UID:17250-1681889400-1681909200@sustain.ucla.edu
SUMMARY:Luskin Summit 2023: Our Research in Action
DESCRIPTION:The fifth annual Luskin Summit will feature a keynote address\, the unveiling of our annual poll about life in Los Angeles and a closing session\, plus breakout discussions in three tracks: \nHousing;\nEquitable Policy;\nWater and Climate Policy \nREGISTER HERE \nSCHEDULE\n(subject to change as speakers are confirmed) \nCheck-In and Breakfast: 7:30-8:30 a.m.\nKeynote Address: 8:30 a.m.\nResults of the Annual Quality of Life Index: 9 a.m.\nBreakout Discussions: 9:30-11:45 a.m.\nClosing Plenary Session: noon \nFEATURED PRESENTERS \n\nGovernment officials and civic leaders\nDecision-makers in politics and business\nUCLA scholars\nDifference-makers in the nonprofit and ​philanthropic spheres
URL:https://sustain.ucla.edu/event/luskin-summit-2023-our-research-in-action/
LOCATION:UCLA Faculty Club\, 480 Charles E. Young Drive E\, Los Angeles\, CA\, 90095\, United States
ATTACH;FMTTYPE=image/jpeg:https://sustain.ucla.edu/wp-content/uploads/2023/03/luskin-summit-photo-845x321-1.jpeg
END:VEVENT
BEGIN:VEVENT
DTSTART;TZID=America/Los_Angeles:20230419T090000
DTEND;TZID=America/Los_Angeles:20230419T100000
DTSTAMP:20260425T170101
CREATED:20230407T213433Z
LAST-MODIFIED:20230407T213433Z
UID:17808-1681894800-1681898400@sustain.ucla.edu
SUMMARY:Is Solar Geoengineering a Viable Tool in the Climate Policy Arsenal?
DESCRIPTION:This is a hybrid event. For those attending virtually\, a Zoom link will be sent out the day of the event. \nAs the planet nears the critical warming threshold of 1.5C (3F)\, a class of controversial climate interventions\, often described under the umbrella term of “Geoengineering”—the intentional manipulation of Earth’s planetary environment to offset the warming effects of carbon pollution–are coming increasingly into focus on the national and international policy stage. Such manipulations potentially include what’s called “solar geoengineering” or “Solar Radiation Management” \, which refer to efforts to reduce the surface warming by the Sun (e.g. through the periodic injection of reflective particles into the stratosphere to mimic the cooling by an explosive volcanic eruption). They also include approaches to capture carbon from the atmosphere\, followed by subsequent storage beneath Earth’s surface or in the deep ocean\, known as carbon dioxide removal. \nA panel with diverse views and backgrounds on the topic will explore questions surrounding solar geoengineering.  \nThe Penn Center for Science\, Sustainability and the Media is excited to host and sponsor this event with Kleinman Center for Energy Policy and Perry World House. This event will be both in-person and streamed live and recorded for later viewing. \nREGISTER HERE
URL:https://sustain.ucla.edu/event/is-solar-geoengineering-a-viable-tool-in-the-climate-policy-arsenal/
LOCATION:HYBRID: UPenn Kleinman Energy Forum and Zoom\, Fisher Fine Arts Library\, 220 S 34th Street\, Philadelphia\, PA\, 19104\, United States
ATTACH;FMTTYPE=image/png:https://sustain.ucla.edu/wp-content/uploads/2023/04/kleinmansolargeo.png
END:VEVENT
BEGIN:VEVENT
DTSTART;TZID=America/Los_Angeles:20230419T113000
DTEND;TZID=America/Los_Angeles:20230419T130000
DTSTAMP:20260425T170101
CREATED:20230331T003219Z
LAST-MODIFIED:20230331T003219Z
UID:17435-1681903800-1681909200@sustain.ucla.edu
SUMMARY:California Energy Commission Virtual Career Fair
DESCRIPTION:Join this virtual career fair to learn more about job opportunities at the California Energy Commission (CEC). \nThe CEC is recruiting for a wide range of positions — not all of them require an energy background! \nThe Energy Commission\, which is the state’s primary energy policy and planning agency\, is leading the state to a 100% clean energy future for all.  \nDuring the fair\, you’ll find out about the work that the CEC is doing\, the work culture and benefits\, and how to navigate the state hiring process. There will be an opportunity to ask questions of current staff and get tips and best practices from our recruiters. Candidates across the state are encouraged to apply. \nThis event is limited to 500 and the first 500 people that login will be able to join. \nREGISTER HERE \nLearn how to apply for jobs at: www.energy.ca.gov/careers.\nCheck out the great work that we’re doing at: www.energy.ca.gov. \nEmail Careers at careers@energy.ca.gov if you have additional questions.
URL:https://sustain.ucla.edu/event/california-energy-commission-virtual-career-fair/
LOCATION:Online
ATTACH;FMTTYPE=image/png:https://sustain.ucla.edu/wp-content/uploads/2023/03/2023-cec-virtual-career-fair_original.png
END:VEVENT
BEGIN:VEVENT
DTSTART;TZID=America/Los_Angeles:20230419T120000
DTEND;TZID=America/Los_Angeles:20230419T130000
DTSTAMP:20260425T170101
CREATED:20230412T212121Z
LAST-MODIFIED:20230412T212121Z
UID:17881-1681905600-1681909200@sustain.ucla.edu
SUMMARY:Park Bench Chat: Heroism Starts at Home
DESCRIPTION:Trust for Public Land Director of Community Strategies Cary Simmons will be joined in conversation with three inspiring individuals who have answered the call to make their communities happier\, healthier\, and more resilient by leveraging parks and green space to improve their neighborhoods and encourage deep local engagement and activism. \nREGISTER HERE
URL:https://sustain.ucla.edu/event/park-bench-chat-heroism-starts-at-home/
LOCATION:Online
ATTACH;FMTTYPE=image/jpeg:https://sustain.ucla.edu/wp-content/uploads/2023/04/IG-feed-post-1.jpg
END:VEVENT
BEGIN:VEVENT
DTSTART;TZID=America/Los_Angeles:20230419T120000
DTEND;TZID=America/Los_Angeles:20230419T130000
DTSTAMP:20260425T170101
CREATED:20230414T184800Z
LAST-MODIFIED:20230414T184800Z
UID:17949-1681905600-1681909200@sustain.ucla.edu
SUMMARY:California Natural Resources Secretary Speaker Series: Generation NOW - California’s Young Environmental Leader Drive Change
DESCRIPTION:Celebrate Earth Week in conversation with young environmental leaders who are combating climate change\, confronting environmental justice\, and building equitable access to nature. Each of us has a why: the reason we pursue our work and passions. We’ll learn how these leaders became engaged\, what motivates them\, and their vision for the future. \nREGISTER HERE \nAbout \nSecretary Crowfoot hosts monthly discussions with leaders and big thinkers from across California to discuss emerging natural resources issues. This open forum allows for new and different perspectives about how we best steward California’s resources. \nThese events are public\, live-streamed on YouTube\, and recorded for later viewing.
URL:https://sustain.ucla.edu/event/california-natural-resources-secretary-speaker-series-generation-now-californias-young-environmental-leader-drive-change/
LOCATION:Online
ATTACH;FMTTYPE=image/jpeg:https://sustain.ucla.edu/wp-content/uploads/2023/04/cnra-spkr-youth.jpg
END:VEVENT
BEGIN:VEVENT
DTSTART;TZID=America/Los_Angeles:20230419T123000
DTEND;TZID=America/Los_Angeles:20230419T133000
DTSTAMP:20260425T170101
CREATED:20230404T234815Z
LAST-MODIFIED:20230404T234815Z
UID:17697-1681907400-1681911000@sustain.ucla.edu
SUMMARY:This Way Up\, Save Yourself The Energy: White Castle to the White House to ESG FEATURING Harold & Kumar star Kal Penn
DESCRIPTION:While ESG adoption has hit critical mass\, organizations face the challenge of balancing environmental initiatives with business goals and digital transformation efforts.  \nJoin to hear how energy-efficient data center technology can drive energy savings. ESG targets and critical energy savings are now within reach. \nFormer Associate Director of the White House and star of the Harold & Kumar franchise\, Kal Penn\, will weigh in with hilarious\, awkward\, and ridiculous stories from his unusual life\, and perspectives on global citizenship today. \nREGISTER HERE
URL:https://sustain.ucla.edu/event/this-way-up-save-yourself-the-energy-white-castle-to-the-white-house-to-esg-featuring-harold-kumar-star-kal-penn/
LOCATION:Online
ATTACH;FMTTYPE=image/jpeg:https://sustain.ucla.edu/wp-content/uploads/2023/04/PUREKAL.jpg
END:VEVENT
BEGIN:VEVENT
DTSTART;TZID=America/Los_Angeles:20230419T150000
DTEND;TZID=America/Los_Angeles:20230419T190000
DTSTAMP:20260425T170101
CREATED:20230412T211303Z
LAST-MODIFIED:20230412T211303Z
UID:17878-1681916400-1681930800@sustain.ucla.edu
SUMMARY:UCLA Farmers Market
DESCRIPTION:Every few weeks\, the Farmers’ Market at UCLA descends on Bruin Plaza with a smorgasbord of fresh produce to provide healthy\, sustainable nourishment.
URL:https://sustain.ucla.edu/event/ucla-farmers-market-5/
LOCATION:Bruin Plaza\, 308 Westwood Plaza\, Los Angeles\, CA\, 90095\, United States
ATTACH;FMTTYPE=image/png:https://sustain.ucla.edu/wp-content/uploads/2023/04/ucla-farmers-mkt.png
ORGANIZER;CN="Farmers Market at UCLA":MAILTO:uclafarmersmarket@gmail.com
END:VEVENT
BEGIN:VEVENT
DTSTART;TZID=America/Los_Angeles:20230419T160000
DTEND;TZID=America/Los_Angeles:20230419T170000
DTSTAMP:20260425T170101
CREATED:20230407T193616Z
LAST-MODIFIED:20230407T193616Z
UID:17794-1681920000-1681923600@sustain.ucla.edu
SUMMARY:Landscapes of Political Memory - Lecture by Mihaela Mihai\, "Representing Environmental Grief"
DESCRIPTION:Mihaela Mihai\, Senior Lecturer in Political Theory at the University of Edinburgh\, will give a lecture on “Representing Environmental Grief.”
URL:https://sustain.ucla.edu/event/landscapes-of-political-memory-lecture-by-mihaela-mihai-representing-environmental-grief/
LOCATION:Kaplan Hall 193\, 415 Portola Plaza\, Los Angeles\, CA\, 90095\, United States
ATTACH;FMTTYPE=image/jpeg:https://sustain.ucla.edu/wp-content/uploads/2023/04/enviro-grief.jpg
END:VEVENT
BEGIN:VEVENT
DTSTART;TZID=America/Los_Angeles:20230419T160000
DTEND;TZID=America/Los_Angeles:20230419T180000
DTSTAMP:20260425T170101
CREATED:20230405T010259Z
LAST-MODIFIED:20230405T010259Z
UID:17721-1681920000-1681927200@sustain.ucla.edu
SUMMARY:Zine Making Workshop
DESCRIPTION:Climate Justice Conversations invites you to a Zine-Making Workshop held in collaboration with the Common Experience at UCLA. We will learn zine’s purposes\, make zines with sustainable supplies\, and contribute to a zine swap. All while enjoying Auntie Annie’s pretzels and lemonade. \nZines are self-published\, non-commercial print work that is typically produced in small\, limited batches. Zines generally look like mini-magazines and have historically been used to spread activism efforts; though many have been made about music\, interests\, fandoms\, and much more. You can make a zine about anything! \nOur event partner\, the Common Experience at UCLA\, selects a title for the Bruin community to read\, listen or watch together each year. The mission of the Common Experience is to ignite campus-wide discussions on compelling social issues and inspire action. \nThis year\, the Common Experience selected Leah Thomas’s The Intersectional Environmentalist\, aligned with their 2022-23 Sustainability and Climate Change theme. The first 20 people to attend the event will win a copy of The Intersectional Environmentalist! \nTo learn more about our other Climate Justice Conversations events\, visit the Environmentalists of Color Collective (ECC) at UCLA  website. \nREGISTER HERE
URL:https://sustain.ucla.edu/event/zine-making-workshop/
LOCATION:Rieber Hall – LLC\, 310 De Neve Drive\, Los Angeles\, CA\, 90024\, United States
ATTACH;FMTTYPE=image/png:https://sustain.ucla.edu/wp-content/uploads/2023/04/zine-1.png
END:VEVENT
BEGIN:VEVENT
DTSTART;TZID=America/Los_Angeles:20230419T193000
DTEND;TZID=America/Los_Angeles:20230419T203000
DTSTAMP:20260425T170101
CREATED:20230414T185829Z
LAST-MODIFIED:20230414T185829Z
UID:17953-1681932600-1681936200@sustain.ucla.edu
SUMMARY:Watson Lecture: Electrifying and Decarbonizing Chemical Synthesis
DESCRIPTION:Online and In-Person Event\nKarthish Manthiram\, Professor of Chemical Engineering and Chemistry; William H. Hurt Scholar\, Division of Chemistry and Chemical Engineering \nThere is a significant carbon footprint behind the physical world\, including the fabrics we wear\, the foods we eat\, and the disinfectants we spray. This problem presents the need to find ways to synthesize chemicals and materials in a sustainable manner that eliminates greenhouse gas emissions from these products. In this lecture\, Manthiram will discuss how his lab is developing an approach that uses electricity to convert air and water into the useful chemicals and materials we rely on every day. \nThis lecture will be presented in a hybrid format\, allowing for both virtual viewers and in-person attendees. No advance registration is required for either format but you may sign up for reminders about this event. \nHow to watch online\nThe lecture can be viewed via live stream on caltech.edu/watson or on Caltech’s YouTube channel. \nVirtual viewers can submit questions for the lecturer through the YouTube chat feed. Select questions will be answered after the lecture\, during the audience Q&A. \nHow to attend in person\nLocal participants can attend the lecture inside Caltech’s Beckman Auditorium. Doors open at 7:00 p.m. \nAbout the Series\nThe 2022–2023 season marks the centennial of The Earnest C. Watson Lecture Series\, which has brought Caltech’s most innovative scientific research to the public since the Friday Evening Demonstrations premiered in October of 1922. The series is named for Earnest C. Watson\, a professor of physics at Caltech from 1919 until 1959. The Watson Lectures are geared toward a general audience\, as part of the Institute’s ongoing commitment to benefiting the local community through education and outreach.
URL:https://sustain.ucla.edu/event/watson-lecture-electrifying-and-decarbonizing-chemical-synthesis/
LOCATION:Caltech Beckman Auditorium\, 332 S Michigan Ave\, Pasadena\, CA\, 91106\, United States
ATTACH;FMTTYPE=image/jpeg:https://sustain.ucla.edu/wp-content/uploads/2023/04/hero_Manthiram_Karthish-Faculty-9767_-_Karthish_Manthiram.jpg
ORGANIZER;CN="California Institute of Technology (Caltech)":MAILTO:events@caltech.edu
END:VEVENT
END:VCALENDAR