BEGIN:VCALENDAR
VERSION:2.0
PRODID:-//UCLA Sustainability - ECPv6.15.20//NONSGML v1.0//EN
CALSCALE:GREGORIAN
METHOD:PUBLISH
X-WR-CALNAME:UCLA Sustainability
X-ORIGINAL-URL:https://sustain.ucla.edu
X-WR-CALDESC:Events for UCLA Sustainability
REFRESH-INTERVAL;VALUE=DURATION:PT1H
X-Robots-Tag:noindex
X-PUBLISHED-TTL:PT1H
BEGIN:VTIMEZONE
TZID:America/Los_Angeles
BEGIN:DAYLIGHT
TZOFFSETFROM:-0800
TZOFFSETTO:-0700
TZNAME:PDT
DTSTART:20220313T100000
END:DAYLIGHT
BEGIN:STANDARD
TZOFFSETFROM:-0700
TZOFFSETTO:-0800
TZNAME:PST
DTSTART:20221106T090000
END:STANDARD
BEGIN:DAYLIGHT
TZOFFSETFROM:-0800
TZOFFSETTO:-0700
TZNAME:PDT
DTSTART:20230312T100000
END:DAYLIGHT
BEGIN:STANDARD
TZOFFSETFROM:-0700
TZOFFSETTO:-0800
TZNAME:PST
DTSTART:20231105T090000
END:STANDARD
BEGIN:DAYLIGHT
TZOFFSETFROM:-0800
TZOFFSETTO:-0700
TZNAME:PDT
DTSTART:20240310T100000
END:DAYLIGHT
BEGIN:STANDARD
TZOFFSETFROM:-0700
TZOFFSETTO:-0800
TZNAME:PST
DTSTART:20241103T090000
END:STANDARD
END:VTIMEZONE
BEGIN:VEVENT
DTSTART;TZID=America/Los_Angeles:20230603T100000
DTEND;TZID=America/Los_Angeles:20230604T130000
DTSTAMP:20260425T065700
CREATED:20230601T024349Z
LAST-MODIFIED:20230601T024349Z
UID:18410-1685786400-1685883600@sustain.ucla.edu
SUMMARY:The Fire Circle: Volunteer Day in the Survivor’s Healing Garden at the Reverence Project
DESCRIPTION:After our spring weeding\, seeding and rain\, the Survivor’s Healing Garden at the Reverence Project is in full superbloom! We hope you’ll join us among the poppies (and California lilac\, and globemallow\, and verbena…). \nOur next four volunteer days will focus on building seating for our fire circle. This sacred space will host healing and community circles\, harnessing the power of fire to amplify connection and joy. The love you bring to the work you do here will serve as a foundation for healing. \nThis is a free\, hands-on opportunity to learn how to build SuperAdobe structures\, a low-tech\, low-cost\, long-lasting\, sustainable and increasingly popular architectural strategy. It’s fun! It’s easy! It’s dirty! The time it takes will depend a bit on the number of hands contributing\, temperatures and precipitation. Here is what we expect: \nSaturday\, June 03: We may add more cobb mid-layer as needed. If the structure is ready\, we’ll mix a lime/cement finish plaster\, and trowel it on over the cob. \nSunday\, June 04: We’ll mix a lime/cement finish plaster\, and trowel it on over the cob. We’ll set some decorative tiles on the sides at this time. \nIf work in the blooms is what calls you\, we’ll also continue weeding and seeding. We’ll provide light refreshments\, some work gloves and tools\, and great joy for your contributions to our space and work. \nWhat to Bring \nWe need nothing beyond your hands and your hearts. If you are so inspired\, we invite offerings of peace and light that can be integrated into the fire circle seating to honor the Watts community and support survivors’ healing. In keeping with the aesthetic and inspiration of our iconic Watts Towers\, we would be particularly happy to give a permanent home to rocks\, seashells\, crystals\, ceramic\, or metal that is beyond its first use. \nWhat to Wear \nPlease consider wearing a sun hat\, sunscreen\, and work gloves along with shoes and clothes you don’t mind getting dirty. Water bottles are recommended! Your weeding and planting tools are also welcome. \nREGISTER HERE
URL:https://sustain.ucla.edu/event/the-fire-circle-volunteer-day-in-the-survivors-healing-garden-at-the-reverence-project/
LOCATION:The Reverence Project\, 1673 East 108th Street\, Los Angeles\, CA\, 90059\, United States
ATTACH;FMTTYPE=image/jpeg:https://sustain.ucla.edu/wp-content/uploads/2023/05/fire-circle.jpg
END:VEVENT
END:VCALENDAR