BEGIN:VCALENDAR
VERSION:2.0
PRODID:-//UCLA Sustainability - ECPv6.15.20//NONSGML v1.0//EN
CALSCALE:GREGORIAN
METHOD:PUBLISH
X-WR-CALNAME:UCLA Sustainability
X-ORIGINAL-URL:https://sustain.ucla.edu
X-WR-CALDESC:Events for UCLA Sustainability
REFRESH-INTERVAL;VALUE=DURATION:PT1H
X-Robots-Tag:noindex
X-PUBLISHED-TTL:PT1H
BEGIN:VTIMEZONE
TZID:America/Los_Angeles
BEGIN:DAYLIGHT
TZOFFSETFROM:-0800
TZOFFSETTO:-0700
TZNAME:PDT
DTSTART:20220313T100000
END:DAYLIGHT
BEGIN:STANDARD
TZOFFSETFROM:-0700
TZOFFSETTO:-0800
TZNAME:PST
DTSTART:20221106T090000
END:STANDARD
BEGIN:DAYLIGHT
TZOFFSETFROM:-0800
TZOFFSETTO:-0700
TZNAME:PDT
DTSTART:20230312T100000
END:DAYLIGHT
BEGIN:STANDARD
TZOFFSETFROM:-0700
TZOFFSETTO:-0800
TZNAME:PST
DTSTART:20231105T090000
END:STANDARD
BEGIN:DAYLIGHT
TZOFFSETFROM:-0800
TZOFFSETTO:-0700
TZNAME:PDT
DTSTART:20240310T100000
END:DAYLIGHT
BEGIN:STANDARD
TZOFFSETFROM:-0700
TZOFFSETTO:-0800
TZNAME:PST
DTSTART:20241103T090000
END:STANDARD
END:VTIMEZONE
BEGIN:VEVENT
DTSTART;TZID=America/Los_Angeles:20230710T100000
DTEND;TZID=America/Los_Angeles:20230710T113000
DTSTAMP:20260421T185737
CREATED:20230630T002055Z
LAST-MODIFIED:20230630T002055Z
UID:18605-1688983200-1688988600@sustain.ucla.edu
SUMMARY:LACI's Going for Gold Blueprint - Request for Information Webinar
DESCRIPTION:You’re invited to join the Los Angeles Cleantech Incubator (LACI)\, LA28\, and Gladstein Neandross and Associates\, for this informational webinar on LACI’s Request for Information (RFI) to identify innovative charging and mobility solutions that can support infrastructure and transportation needs in the Los Angeles (LA) region. \nTo activate the investments in infrastructure needed to achieve state and regional targets\, LACI is executing a California Energy Commission grant titled “Going for Gold: A Blueprint to Catalyze Medium and Heavy-Duty Charging Infrastructure Investments in the Los Angeles Region Preceding the 2028 Games” to identify and assess opportunities to integrate zero emission Medium-/Heavy-Duty transportation solutions into the LA28 Olympic and Paralympic Games while initiating investments in charging infrastructure that will benefit the LA region for the long term. \nREGISTER HERE \nAs part of this Blueprint\, LACI is launching an RFI to evaluate mobile and modular charging technologies that can support flexible duty cycles and increase speed to energization of charging infrastructure. Additionally\, LACI seeks to evaluate non-traditional electric mobility solutions (e.g. electric cargo bikes\, electric low-speed shuttles\, etc.) and their potential impact for specific needs of large events and contained campus applications. \nLACI is looking for responses from qualified applicants with the goal of informing: \n\nThe Going for Gold Blueprint\, which will be shared with the CEC and a wide array of stakeholders interested in innovative charging solutions.\nLA28 and regional transportation agencies & planners of the zero emission solutions available today.\n\nWebinar Agenda \n\nWelcome and Introductions\nBlueprint Background\nRFI Purpose\nTechnology Focus Areas\nHow to Apply\nTimeline\nQ&A
URL:https://sustain.ucla.edu/event/lacis-going-for-gold-blueprint-request-for-information-webinar/
LOCATION:Online
ATTACH;FMTTYPE=image/png:https://sustain.ucla.edu/wp-content/uploads/2023/06/lacigold.png
END:VEVENT
END:VCALENDAR