BEGIN:VCALENDAR
VERSION:2.0
PRODID:-//UCLA Sustainability - ECPv6.15.20//NONSGML v1.0//EN
CALSCALE:GREGORIAN
METHOD:PUBLISH
X-WR-CALNAME:UCLA Sustainability
X-ORIGINAL-URL:https://sustain.ucla.edu
X-WR-CALDESC:Events for UCLA Sustainability
REFRESH-INTERVAL;VALUE=DURATION:PT1H
X-Robots-Tag:noindex
X-PUBLISHED-TTL:PT1H
BEGIN:VTIMEZONE
TZID:America/Los_Angeles
BEGIN:DAYLIGHT
TZOFFSETFROM:-0800
TZOFFSETTO:-0700
TZNAME:PDT
DTSTART:20220313T100000
END:DAYLIGHT
BEGIN:STANDARD
TZOFFSETFROM:-0700
TZOFFSETTO:-0800
TZNAME:PST
DTSTART:20221106T090000
END:STANDARD
BEGIN:DAYLIGHT
TZOFFSETFROM:-0800
TZOFFSETTO:-0700
TZNAME:PDT
DTSTART:20230312T100000
END:DAYLIGHT
BEGIN:STANDARD
TZOFFSETFROM:-0700
TZOFFSETTO:-0800
TZNAME:PST
DTSTART:20231105T090000
END:STANDARD
BEGIN:DAYLIGHT
TZOFFSETFROM:-0800
TZOFFSETTO:-0700
TZNAME:PDT
DTSTART:20240310T100000
END:DAYLIGHT
BEGIN:STANDARD
TZOFFSETFROM:-0700
TZOFFSETTO:-0800
TZNAME:PST
DTSTART:20241103T090000
END:STANDARD
END:VTIMEZONE
BEGIN:VEVENT
DTSTART;TZID=America/Los_Angeles:20230711T110000
DTEND;TZID=America/Los_Angeles:20230711T120000
DTSTAMP:20260422T014906
CREATED:20230630T004926Z
LAST-MODIFIED:20230630T004926Z
UID:18620-1689073200-1689076800@sustain.ucla.edu
SUMMARY:Demystifying the Federal Funding Landscape
DESCRIPTION:Join Emerald Cities Collaborative\, The Climate & Clean Energy Equity Fund\, and Just Solutions for an informative webinar on the basics of federal funding mechanisms and how communities can navigate federal funding and financing opportunities.  \nDuring this event\, we will explore competitive grants\, formula grants\, and tax credits\, providing clarity on how each of these mechanisms works and the opportunities they present. We will also discuss the federal\, state\, and local budget processes and shed light on areas that may often be overlooked. Lastly\, we will review real-life examples of federal funding opportunities to help attendees be better prepared to identify funding opportunities and advocate for their community’s needs. \nThe webinar will also include time for audience questions and answers\, providing an opportunity for participants to seek clarification\, share experiences\, and engage with speakers. \nJoin TO demystify the federal funding process and discuss the pathways you can use to access funding for your community.  \nREGISTER HERE
URL:https://sustain.ucla.edu/event/demystifying-the-federal-funding-landscape/
LOCATION:Online
ATTACH;FMTTYPE=image/png:https://sustain.ucla.edu/wp-content/uploads/2023/06/federal_funding_webinar_square.png
END:VEVENT
BEGIN:VEVENT
DTSTART;TZID=America/Los_Angeles:20230711T160000
DTEND;TZID=America/Los_Angeles:20230711T173000
DTSTAMP:20260422T014906
CREATED:20230710T191500Z
LAST-MODIFIED:20230710T191500Z
UID:18646-1689091200-1689096600@sustain.ucla.edu
SUMMARY:Dr. Matt Ritter: California’s Urban Forests in a Changing Environment
DESCRIPTION:Tickets: $20 – $40\nFREE for students \nDr. Ritter will discuss patterns and trends in tree selection and considerations for helping to ensure a healthy urban forest in Los Angeles. Dr. Ritter’s presentation will be a photographic exposé of the lives and stories of some of the fascinating trees featured in the recent second edition of his book “A Californian’s Guide to the Trees among Us\,” a new natural history and identification guide to urban and suburban trees in California. He will also share recent research findings about the structure and function of California’s urban forest and its future. \nREGISTER HERE
URL:https://sustain.ucla.edu/event/dr-matt-ritter-californias-urban-forests-in-a-changing-environment/
LOCATION:Hershey Hall\, 801 Hilgard Ave\, Los Angeles\, CA\, 90095
ATTACH;FMTTYPE=image/jpeg:https://sustain.ucla.edu/wp-content/uploads/2023/07/ritter.jpg
END:VEVENT
BEGIN:VEVENT
DTSTART;TZID=America/Los_Angeles:20230711T170000
DTEND;TZID=America/Los_Angeles:20230711T181500
DTSTAMP:20260422T014906
CREATED:20230604T220355Z
LAST-MODIFIED:20230604T220355Z
UID:18429-1689094800-1689099300@sustain.ucla.edu
SUMMARY:Opportunities for Enhanced Near-term U.S.-China Climate Action: Subnational Climate Leadership
DESCRIPTION:Subnational collaboration offers unique opportunities for cooperation between China and the U.S.\, particularly in areas where local governments can have a greater impact and federal authority is limited. Both nations have influential states that inform their national policy decisions. Several key sectors offer opportunities for subnational climate action\, including: transitioning from fossil fuels and coal\, decarbonizing energy\, enhancing climate resilience and adaptation\, designing carbon markets\, and reducing methane emissions. Join us to hear from issue-experts\, including on a recent paper\, Subnational Climate Action in the U.S and China: Where We Are and Opportunities for Cooperation. \nRegistration is free\, but required. Register here.
URL:https://sustain.ucla.edu/event/opportunities-for-enhanced-near-term-u-s-china-climate-action-subnational-climate-leadership/
LOCATION:Online
ATTACH;FMTTYPE=image/png:https://sustain.ucla.edu/wp-content/uploads/2023/06/ccci-sbntl.png
ORGANIZER;CN="California-China Climate Institute":MAILTO:ccci@berkeley.edu
END:VEVENT
END:VCALENDAR