BEGIN:VCALENDAR
VERSION:2.0
PRODID:-//UCLA Sustainability - ECPv6.15.20//NONSGML v1.0//EN
CALSCALE:GREGORIAN
METHOD:PUBLISH
X-WR-CALNAME:UCLA Sustainability
X-ORIGINAL-URL:https://sustain.ucla.edu
X-WR-CALDESC:Events for UCLA Sustainability
REFRESH-INTERVAL;VALUE=DURATION:PT1H
X-Robots-Tag:noindex
X-PUBLISHED-TTL:PT1H
BEGIN:VTIMEZONE
TZID:America/Los_Angeles
BEGIN:DAYLIGHT
TZOFFSETFROM:-0800
TZOFFSETTO:-0700
TZNAME:PDT
DTSTART:20220313T100000
END:DAYLIGHT
BEGIN:STANDARD
TZOFFSETFROM:-0700
TZOFFSETTO:-0800
TZNAME:PST
DTSTART:20221106T090000
END:STANDARD
BEGIN:DAYLIGHT
TZOFFSETFROM:-0800
TZOFFSETTO:-0700
TZNAME:PDT
DTSTART:20230312T100000
END:DAYLIGHT
BEGIN:STANDARD
TZOFFSETFROM:-0700
TZOFFSETTO:-0800
TZNAME:PST
DTSTART:20231105T090000
END:STANDARD
BEGIN:DAYLIGHT
TZOFFSETFROM:-0800
TZOFFSETTO:-0700
TZNAME:PDT
DTSTART:20240310T100000
END:DAYLIGHT
BEGIN:STANDARD
TZOFFSETFROM:-0700
TZOFFSETTO:-0800
TZNAME:PST
DTSTART:20241103T090000
END:STANDARD
END:VTIMEZONE
BEGIN:VEVENT
DTSTART;VALUE=DATE:20230801
DTEND;VALUE=DATE:20230803
DTSTAMP:20260422T013801
CREATED:20230718T164400Z
LAST-MODIFIED:20230718T164400Z
UID:18746-1690848000-1691020799@sustain.ucla.edu
SUMMARY:Student PIRGs Civic Leadership Training Program - Activist Boot Camp
DESCRIPTION:Building on a successful training program that has provided skills and training for thousands of students over the last 50 years\, the Student PIRGs’ Civic Leadership Training Program will provide students the training they need to run effective campaigns in their community. Students who complete the program will receive a badge of completion on LinkedIn and opportunities for future leadership during the school year. Trainings and meetings will happen virtually. This is a 2-day boot camp\, an accelerated version of the program.  \nREGISTER HERE \nSome of the Skills you will learn \nBuilding a team of student volunteers and leaders \nHow to use peer-to-peer tactics to mobilize students (phonebanking\, class announcements\, and in person events) \nOrganizing strategic in person and online actions and events \nDeveloping campaign coalitions
URL:https://sustain.ucla.edu/event/student-pirgs-civic-leadership-training-program-activist-boot-camp/
LOCATION:Online
ATTACH;FMTTYPE=image/jpeg:https://sustain.ucla.edu/wp-content/uploads/2023/07/Activist_Bootcamp_Flyer.jpg
END:VEVENT
BEGIN:VEVENT
DTSTART;TZID=America/Los_Angeles:20230802T090000
DTEND;TZID=America/Los_Angeles:20230802T130000
DTSTAMP:20260422T013801
CREATED:20230721T172654Z
LAST-MODIFIED:20230721T172654Z
UID:18793-1690966800-1690981200@sustain.ucla.edu
SUMMARY:Summer Sustainability Workshop: Designing for Decarbonization
DESCRIPTION:Want to know more about what it means to achieve “decarbonization” for your building project? \nVerdical Group is partnering with Southern California Edison (SCE) to present Designing for Decarbonization\, a half-day\, virtual workshop that will help attendees: \n\nUnderstand the definition of decarbonization\, zero net energy (ZNE)\, and zero net carbon (ZNC) buildings\nSee case studies of completed projects\nUnderstand the design and construction process necessary to achieve high-performance buildings\n\nYou will learn about important market trends around energy efficiency\, green building code requirements\, proven and emerging technologies\, operational best practices\, and real-world case studies in the built environment as well as be given resources and tools to set building owners\, operators\, and end users up for success. The workshop will provide tangible next steps for how we can all contribute and shift toward a decarbonized future. \nThe workshop will be presented by Verdical Group’s Drew Shula (Founder & CEO)\, Rebecca Ramsdale (Director of Projects)\, Sara Motamedi (Director of Energy and Carbon Group)\, and Bobby Almeida (Director of Commissioning). \nREGISTER HERE
URL:https://sustain.ucla.edu/event/summer-sustainability-workshop-designing-for-decarbonization/
LOCATION:Online
ATTACH;FMTTYPE=image/webp:https://sustain.ucla.edu/wp-content/uploads/2023/07/vg_aug_2_2023.webp
END:VEVENT
BEGIN:VEVENT
DTSTART;TZID=America/Los_Angeles:20230802T180000
DTEND;TZID=America/Los_Angeles:20230802T190000
DTSTAMP:20260422T013801
CREATED:20230727T183229Z
LAST-MODIFIED:20230727T183229Z
UID:18891-1690999200-1691002800@sustain.ucla.edu
SUMMARY:Smart Gardening Webinar - Intro to Composting
DESCRIPTION:Intro to Composting: learn about backyard and worm composting to create a rich soil amendment to nourish your garden. \nJoin L.A. County Public Works for free webinars to beautify your home and garden. Webinars are approximately 45 minutes followed by a 15-minute period to answer questions and take orders for compost bins. \nREGISTER HERE
URL:https://sustain.ucla.edu/event/smart-gardening-webinar-intro-to-composting-4/
LOCATION:Online
ATTACH;FMTTYPE=image/jpeg:https://sustain.ucla.edu/wp-content/uploads/2023/07/Smart-Gardening-Logo3.jpg
END:VEVENT
END:VCALENDAR