BEGIN:VCALENDAR
VERSION:2.0
PRODID:-//UCLA Sustainability - ECPv6.15.20//NONSGML v1.0//EN
CALSCALE:GREGORIAN
METHOD:PUBLISH
X-ORIGINAL-URL:https://sustain.ucla.edu
X-WR-CALDESC:Events for UCLA Sustainability
REFRESH-INTERVAL;VALUE=DURATION:PT1H
X-Robots-Tag:noindex
X-PUBLISHED-TTL:PT1H
BEGIN:VTIMEZONE
TZID:America/Los_Angeles
BEGIN:DAYLIGHT
TZOFFSETFROM:-0800
TZOFFSETTO:-0700
TZNAME:PDT
DTSTART:20220313T100000
END:DAYLIGHT
BEGIN:STANDARD
TZOFFSETFROM:-0700
TZOFFSETTO:-0800
TZNAME:PST
DTSTART:20221106T090000
END:STANDARD
BEGIN:DAYLIGHT
TZOFFSETFROM:-0800
TZOFFSETTO:-0700
TZNAME:PDT
DTSTART:20230312T100000
END:DAYLIGHT
BEGIN:STANDARD
TZOFFSETFROM:-0700
TZOFFSETTO:-0800
TZNAME:PST
DTSTART:20231105T090000
END:STANDARD
BEGIN:DAYLIGHT
TZOFFSETFROM:-0800
TZOFFSETTO:-0700
TZNAME:PDT
DTSTART:20240310T100000
END:DAYLIGHT
BEGIN:STANDARD
TZOFFSETFROM:-0700
TZOFFSETTO:-0800
TZNAME:PST
DTSTART:20241103T090000
END:STANDARD
END:VTIMEZONE
BEGIN:VEVENT
DTSTART;VALUE=DATE:20230818
DTEND;VALUE=DATE:20230820
DTSTAMP:20260420T081316
CREATED:20230718T164550Z
LAST-MODIFIED:20230718T164550Z
UID:18751-1692316800-1692489599@sustain.ucla.edu
SUMMARY:Student PIRGs Civic Leadership Training Program - Activist Boot Camp
DESCRIPTION:Building on a successful training program that has provided skills and training for thousands of students over the last 50 years\, the Student PIRGs’ Civic Leadership Training Program will provide students the training they need to run effective campaigns in their community. Students who complete the program will receive a badge of completion on LinkedIn and opportunities for future leadership during the school year. Trainings and meetings will happen virtually. This is a 2-day boot camp\, an accelerated version of the program.  \nREGISTER HERE \nSome of the Skills you will learn \nBuilding a team of student volunteers and leaders \nHow to use peer-to-peer tactics to mobilize students (phonebanking\, class announcements\, and in person events) \nOrganizing strategic in person and online actions and events \nDeveloping campaign coalitions
URL:https://sustain.ucla.edu/event/student-pirgs-civic-leadership-training-program-activist-boot-camp-2/
LOCATION:Online
ATTACH;FMTTYPE=image/jpeg:https://sustain.ucla.edu/wp-content/uploads/2023/07/Activist_Bootcamp_Flyer.jpg
END:VEVENT
END:VCALENDAR