BEGIN:VCALENDAR
VERSION:2.0
PRODID:-//UCLA Sustainability - ECPv6.15.20//NONSGML v1.0//EN
CALSCALE:GREGORIAN
METHOD:PUBLISH
X-WR-CALNAME:UCLA Sustainability
X-ORIGINAL-URL:https://sustain.ucla.edu
X-WR-CALDESC:Events for UCLA Sustainability
REFRESH-INTERVAL;VALUE=DURATION:PT1H
X-Robots-Tag:noindex
X-PUBLISHED-TTL:PT1H
BEGIN:VTIMEZONE
TZID:America/Los_Angeles
BEGIN:DAYLIGHT
TZOFFSETFROM:-0800
TZOFFSETTO:-0700
TZNAME:PDT
DTSTART:20220313T100000
END:DAYLIGHT
BEGIN:STANDARD
TZOFFSETFROM:-0700
TZOFFSETTO:-0800
TZNAME:PST
DTSTART:20221106T090000
END:STANDARD
BEGIN:DAYLIGHT
TZOFFSETFROM:-0800
TZOFFSETTO:-0700
TZNAME:PDT
DTSTART:20230312T100000
END:DAYLIGHT
BEGIN:STANDARD
TZOFFSETFROM:-0700
TZOFFSETTO:-0800
TZNAME:PST
DTSTART:20231105T090000
END:STANDARD
BEGIN:DAYLIGHT
TZOFFSETFROM:-0800
TZOFFSETTO:-0700
TZNAME:PDT
DTSTART:20240310T100000
END:DAYLIGHT
BEGIN:STANDARD
TZOFFSETFROM:-0700
TZOFFSETTO:-0800
TZNAME:PST
DTSTART:20241103T090000
END:STANDARD
END:VTIMEZONE
BEGIN:VEVENT
DTSTART;TZID=America/Los_Angeles:20230824T090000
DTEND;TZID=America/Los_Angeles:20230824T100000
DTSTAMP:20260420T082139
CREATED:20230727T181051Z
LAST-MODIFIED:20230727T181051Z
UID:18872-1692867600-1692871200@sustain.ucla.edu
SUMMARY:Smart Gardening Webinar - Organic Gardening
DESCRIPTION:Organic Gardening: build healthy soil\, grow herbs and vegetables\, and address plant pests and diseases using organic methods. \nJoin L.A. County Public Works for free webinars to beautify your home and garden. Webinars are approximately 45 minutes followed by a 15-minute period to answer questions and take orders for compost bins. \nREGISTER HERE
URL:https://sustain.ucla.edu/event/smart-gardening-webinar-organic-gardening-2/
LOCATION:Online
ATTACH;FMTTYPE=image/jpeg:https://sustain.ucla.edu/wp-content/uploads/2023/07/Smart-Gardening-Logo3.jpg
END:VEVENT
BEGIN:VEVENT
DTSTART;TZID=America/Los_Angeles:20230824T120000
DTEND;TZID=America/Los_Angeles:20230824T130000
DTSTAMP:20260420T082139
CREATED:20230822T185452Z
LAST-MODIFIED:20230822T185452Z
UID:19023-1692878400-1692882000@sustain.ucla.edu
SUMMARY:Sustainability and Environmental Programs Virtual Open House
DESCRIPTION:Join UCLA Extension for a free information session about its Sustainability Certificate\, Environmental Studies Certificate\, Sustainability and Business Management Specialization\, and Food Studies Certificate programs. If you are a career changer or looking to enhance your skills\, meet with a program counselor during an interactive Q&A session that will also include an explanation of the certificate’s benefits\, including full-time or part-time scheduling. \nREGISTER HERE
URL:https://sustain.ucla.edu/event/sustainability-and-environmental-programs-virtual-open-house/
LOCATION:Online
ATTACH;FMTTYPE=image/webp:https://sustain.ucla.edu/wp-content/uploads/2023/08/extension_sust.webp
END:VEVENT
END:VCALENDAR