BEGIN:VCALENDAR
VERSION:2.0
PRODID:-//UCLA Sustainability - ECPv6.15.20//NONSGML v1.0//EN
CALSCALE:GREGORIAN
METHOD:PUBLISH
X-WR-CALNAME:UCLA Sustainability
X-ORIGINAL-URL:https://sustain.ucla.edu
X-WR-CALDESC:Events for UCLA Sustainability
REFRESH-INTERVAL;VALUE=DURATION:PT1H
X-Robots-Tag:noindex
X-PUBLISHED-TTL:PT1H
BEGIN:VTIMEZONE
TZID:America/Los_Angeles
BEGIN:DAYLIGHT
TZOFFSETFROM:-0800
TZOFFSETTO:-0700
TZNAME:PDT
DTSTART:20220313T100000
END:DAYLIGHT
BEGIN:STANDARD
TZOFFSETFROM:-0700
TZOFFSETTO:-0800
TZNAME:PST
DTSTART:20221106T090000
END:STANDARD
BEGIN:DAYLIGHT
TZOFFSETFROM:-0800
TZOFFSETTO:-0700
TZNAME:PDT
DTSTART:20230312T100000
END:DAYLIGHT
BEGIN:STANDARD
TZOFFSETFROM:-0700
TZOFFSETTO:-0800
TZNAME:PST
DTSTART:20231105T090000
END:STANDARD
BEGIN:DAYLIGHT
TZOFFSETFROM:-0800
TZOFFSETTO:-0700
TZNAME:PDT
DTSTART:20240310T100000
END:DAYLIGHT
BEGIN:STANDARD
TZOFFSETFROM:-0700
TZOFFSETTO:-0800
TZNAME:PST
DTSTART:20241103T090000
END:STANDARD
END:VTIMEZONE
BEGIN:VEVENT
DTSTART;TZID=America/Los_Angeles:20230830T090000
DTEND;TZID=America/Los_Angeles:20230830T110000
DTSTAMP:20260420T081638
CREATED:20230721T173047Z
LAST-MODIFIED:20230721T173047Z
UID:18796-1693386000-1693393200@sustain.ucla.edu
SUMMARY:Summer Sustainability Workshop: Environmental\, Social & Governance (ESG) for Businesses
DESCRIPTION:ESG has quickly become a hot topic in the market\, but what does it mean to your business? \nEnvironmental\, Social & Governance (ESG) reporting is a framework that can help your company become a leader in the race to Net Zero while helping to retain and attract investors and stakeholders. \nUnderstand the Net Zero mindset\, identify the core challenges that must be addressed for an ESG effort to succeed\, and take advantage of the many benefits of decarbonizing and electrifying your operation. \nThis two-hour virtual workshop will lay out a roadmap for companies to get started with corporate Net Zero strategies and provide tangible steps for making measurable progress towards your ESG goals\, moving from compliance to performance for a decarbonized building and business. \nThe workshop will be presented by Verdical Group’s Rebecca Ramsdale (Director of Projects)\, Bobby Almeida (Director of Commissioning)\, and Ali Ronning (Project Manager). \nREGISTER HERE
URL:https://sustain.ucla.edu/event/summer-sustainability-workshop-environmental-social-governance-esg-for-businesses/
LOCATION:Online
ATTACH;FMTTYPE=image/webp:https://sustain.ucla.edu/wp-content/uploads/2023/07/vg_aug_30_2023.webp
END:VEVENT
BEGIN:VEVENT
DTSTART;TZID=America/Los_Angeles:20230830T100000
DTEND;TZID=America/Los_Angeles:20230830T113000
DTSTAMP:20260420T081638
CREATED:20230725T185001Z
LAST-MODIFIED:20241030T221422Z
UID:18826-1693389600-1693395000@sustain.ucla.edu
SUMMARY:Hydrogen’s Role in the Clean Energy Economy
DESCRIPTION:With both states and the federal government investing heavily in new hydrogen projects\, hydrogen has re-emerged as a major topic of debate in climate\, energy\, and environmental justice circles. There are many unresolved questions about hydrogen\, including the definition of green hydrogen\, how to get hydrogen to where it is needed\, and what its appropriate applications are. This webinar will examine the impacts of hydrogen on surrounding communities\, the definition of green hydrogen\, and appropriate deployment models and end uses for hydrogen as California builds a more equitable\, clean energy economy. \nREGISTER HERE
URL:https://sustain.ucla.edu/event/hydrogens-role-in-the-clean-energy-economy/
LOCATION:Online
END:VEVENT
BEGIN:VEVENT
DTSTART;TZID=America/Los_Angeles:20230830T180000
DTEND;TZID=America/Los_Angeles:20230830T190000
DTSTAMP:20260420T081638
CREATED:20230727T182744Z
LAST-MODIFIED:20230727T182744Z
UID:18885-1693418400-1693422000@sustain.ucla.edu
SUMMARY:Smart Gardening Webinar - Intro to Composting
DESCRIPTION:Intro to Composting: learn about backyard and worm composting to create a rich soil amendment to nourish your garden. \nJoin L.A. County Public Works for free webinars to beautify your home and garden. Webinars are approximately 45 minutes followed by a 15-minute period to answer questions and take orders for compost bins. \nREGISTER HERE
URL:https://sustain.ucla.edu/event/smart-gardening-webinar-intro-to-composting/
LOCATION:Online
ATTACH;FMTTYPE=image/jpeg:https://sustain.ucla.edu/wp-content/uploads/2023/07/Smart-Gardening-Logo3.jpg
END:VEVENT
END:VCALENDAR