BEGIN:VCALENDAR
VERSION:2.0
PRODID:-//UCLA Sustainability - ECPv6.15.20//NONSGML v1.0//EN
CALSCALE:GREGORIAN
METHOD:PUBLISH
X-ORIGINAL-URL:https://sustain.ucla.edu
X-WR-CALDESC:Events for UCLA Sustainability
REFRESH-INTERVAL;VALUE=DURATION:PT1H
X-Robots-Tag:noindex
X-PUBLISHED-TTL:PT1H
BEGIN:VTIMEZONE
TZID:America/Los_Angeles
BEGIN:DAYLIGHT
TZOFFSETFROM:-0800
TZOFFSETTO:-0700
TZNAME:PDT
DTSTART:20220313T100000
END:DAYLIGHT
BEGIN:STANDARD
TZOFFSETFROM:-0700
TZOFFSETTO:-0800
TZNAME:PST
DTSTART:20221106T090000
END:STANDARD
BEGIN:DAYLIGHT
TZOFFSETFROM:-0800
TZOFFSETTO:-0700
TZNAME:PDT
DTSTART:20230312T100000
END:DAYLIGHT
BEGIN:STANDARD
TZOFFSETFROM:-0700
TZOFFSETTO:-0800
TZNAME:PST
DTSTART:20231105T090000
END:STANDARD
BEGIN:DAYLIGHT
TZOFFSETFROM:-0800
TZOFFSETTO:-0700
TZNAME:PDT
DTSTART:20240310T100000
END:DAYLIGHT
BEGIN:STANDARD
TZOFFSETFROM:-0700
TZOFFSETTO:-0800
TZNAME:PST
DTSTART:20241103T090000
END:STANDARD
END:VTIMEZONE
BEGIN:VEVENT
DTSTART;TZID=America/Los_Angeles:20230909T090000
DTEND;TZID=America/Los_Angeles:20230909T110000
DTSTAMP:20260420T095251
CREATED:20230830T194327Z
LAST-MODIFIED:20230830T194327Z
UID:19054-1694250000-1694257200@sustain.ucla.edu
SUMMARY:Santa Monica Main Street Community Garden Open House
DESCRIPTION:Join for a stroll through this magical habitat just a few blocks from the Pacific Ocean.  Grab a complimentary cup of coffee and see what the buzz is all about.  Might be the bees and butterflies\, might just be the chatter about our new project\, the 19th Street Community Farm and Wellness Center\, coming soon to the Pico Neighborhood. \nThis event is free and open to the public.
URL:https://sustain.ucla.edu/event/santa-monica-main-street-community-garden-open-house/
LOCATION:Main Street Community Garden\, 2318 Main St\, Santa Monica\, CA\, 90405\, United States
ATTACH;FMTTYPE=image/jpeg:https://sustain.ucla.edu/wp-content/uploads/2023/08/samocgoh.jpg
END:VEVENT
BEGIN:VEVENT
DTSTART;TZID=America/Los_Angeles:20230909T100000
DTEND;TZID=America/Los_Angeles:20230910T180000
DTSTAMP:20260420T095251
CREATED:20230815T182146Z
LAST-MODIFIED:20230815T182146Z
UID:19014-1694253600-1694368800@sustain.ucla.edu
SUMMARY:Los Angeles Union Station Train Festival 2023
DESCRIPTION:All aboard! Grab family and friends and join Los Angeles Union Station for #TrainFestival2023 on September 9 and 10 to celebrate the past\, present and future of train travel with activations and programs throughout the iconic Los Angeles landmark. \n\nRailroad Equipment Tours & Displays\nModel Train Displays\nArchitecture\, Arts & Culture Tours\nInformation Booths\nShopLAUS\nMusic\nGiveaways\nEateries & Amenities and more!\n\nREGISTER HERE
URL:https://sustain.ucla.edu/event/los-angeles-union-station-train-festival-2023/
LOCATION:Los Angeles Union Station\, 800 North Alameda Street\, Los Angeles\, CA\, 90012\, United States
ATTACH;FMTTYPE=image/jpeg:https://sustain.ucla.edu/wp-content/uploads/2023/08/train-festival-2023.jpg
END:VEVENT
BEGIN:VEVENT
DTSTART;TZID=America/Los_Angeles:20230909T173000
DTEND;TZID=America/Los_Angeles:20230909T200000
DTSTAMP:20260420T095251
CREATED:20230904T003922Z
LAST-MODIFIED:20230904T003922Z
UID:19100-1694280600-1694289600@sustain.ucla.edu
SUMMARY:Sunset Restoration Event with Mujeres de la Tierra
DESCRIPTION:Join nature Nexus Institute (NNI) and Mujeres de la Tierra for a sunset restoration event at the Five Points Habitat Restoration Project at Kenneth Hahn State Recreation Area. \nEnjoy a hands-on activity\, plant walk\, and habitat restoration work. \nPlease register for this event in advance HERE! \nEmail info@mujeresdelatierra.org for more information.
URL:https://sustain.ucla.edu/event/sunset-restoration-event-with-mujeres-de-la-tierra/
LOCATION:Five Points Habitat Restoration Project at Kenneth Hahn State Recreation Area\, 4100 S La Cienega Blvd\, Los Angeles\, CA\, 90056\, United States
ATTACH;FMTTYPE=image/png:https://sustain.ucla.edu/wp-content/uploads/2023/09/mujeresdela.png
ORGANIZER;CN="Mujeres de la Tierra":MAILTO:info@mujeresdelatierra.org
END:VEVENT
END:VCALENDAR