BEGIN:VCALENDAR
VERSION:2.0
PRODID:-//UCLA Sustainability - ECPv6.15.20//NONSGML v1.0//EN
CALSCALE:GREGORIAN
METHOD:PUBLISH
X-ORIGINAL-URL:https://sustain.ucla.edu
X-WR-CALDESC:Events for UCLA Sustainability
REFRESH-INTERVAL;VALUE=DURATION:PT1H
X-Robots-Tag:noindex
X-PUBLISHED-TTL:PT1H
BEGIN:VTIMEZONE
TZID:America/Los_Angeles
BEGIN:DAYLIGHT
TZOFFSETFROM:-0800
TZOFFSETTO:-0700
TZNAME:PDT
DTSTART:20220313T100000
END:DAYLIGHT
BEGIN:STANDARD
TZOFFSETFROM:-0700
TZOFFSETTO:-0800
TZNAME:PST
DTSTART:20221106T090000
END:STANDARD
BEGIN:DAYLIGHT
TZOFFSETFROM:-0800
TZOFFSETTO:-0700
TZNAME:PDT
DTSTART:20230312T100000
END:DAYLIGHT
BEGIN:STANDARD
TZOFFSETFROM:-0700
TZOFFSETTO:-0800
TZNAME:PST
DTSTART:20231105T090000
END:STANDARD
BEGIN:DAYLIGHT
TZOFFSETFROM:-0800
TZOFFSETTO:-0700
TZNAME:PDT
DTSTART:20240310T100000
END:DAYLIGHT
BEGIN:STANDARD
TZOFFSETFROM:-0700
TZOFFSETTO:-0800
TZNAME:PST
DTSTART:20241103T090000
END:STANDARD
END:VTIMEZONE
BEGIN:VEVENT
DTSTART;TZID=America/Los_Angeles:20230913T183000
DTEND;TZID=America/Los_Angeles:20230914T173000
DTSTAMP:20260420T095209
CREATED:20230801T174108Z
LAST-MODIFIED:20230801T174108Z
UID:18926-1694629800-1694712600@sustain.ucla.edu
SUMMARY:Net Zero 2023 Conference
DESCRIPTION:Join Verdical Group September 13+14 in Los Angeles to experience educational sessions on climate\, groundbreaking keynotes\, an in-person expo\, and more! \nREGISTER HERE
URL:https://sustain.ucla.edu/event/net-zero-2023-conference/
LOCATION:Los Angeles Convention Center\, 1201 S Figueroa St\, Los Angeles\, CA\, 90015\, United States
ATTACH;FMTTYPE=image/png:https://sustain.ucla.edu/wp-content/uploads/2023/08/nz23.png
END:VEVENT
END:VCALENDAR