BEGIN:VCALENDAR
VERSION:2.0
PRODID:-//UCLA Sustainability - ECPv6.15.20//NONSGML v1.0//EN
CALSCALE:GREGORIAN
METHOD:PUBLISH
X-ORIGINAL-URL:https://sustain.ucla.edu
X-WR-CALDESC:Events for UCLA Sustainability
REFRESH-INTERVAL;VALUE=DURATION:PT1H
X-Robots-Tag:noindex
X-PUBLISHED-TTL:PT1H
BEGIN:VTIMEZONE
TZID:America/Los_Angeles
BEGIN:DAYLIGHT
TZOFFSETFROM:-0800
TZOFFSETTO:-0700
TZNAME:PDT
DTSTART:20220313T100000
END:DAYLIGHT
BEGIN:STANDARD
TZOFFSETFROM:-0700
TZOFFSETTO:-0800
TZNAME:PST
DTSTART:20221106T090000
END:STANDARD
BEGIN:DAYLIGHT
TZOFFSETFROM:-0800
TZOFFSETTO:-0700
TZNAME:PDT
DTSTART:20230312T100000
END:DAYLIGHT
BEGIN:STANDARD
TZOFFSETFROM:-0700
TZOFFSETTO:-0800
TZNAME:PST
DTSTART:20231105T090000
END:STANDARD
BEGIN:DAYLIGHT
TZOFFSETFROM:-0800
TZOFFSETTO:-0700
TZNAME:PDT
DTSTART:20240310T100000
END:DAYLIGHT
BEGIN:STANDARD
TZOFFSETFROM:-0700
TZOFFSETTO:-0800
TZNAME:PST
DTSTART:20241103T090000
END:STANDARD
END:VTIMEZONE
BEGIN:VEVENT
DTSTART;VALUE=DATE:20230919
DTEND;VALUE=DATE:20230921
DTSTAMP:20260420T095212
CREATED:20230915T191443Z
LAST-MODIFIED:20230915T191443Z
UID:19159-1695081600-1695254399@sustain.ucla.edu
SUMMARY:North America Climate Summit
DESCRIPTION:The International Emissions Trading Association (IETA) looks forward to welcoming delegates to its flagship North America Climate Summit (NACS) 2023 on 19-21 September\, an official accredited event of New York Climate Week 2023 and the UN General Assembly 2023. \nOrganized by IETA\, in collaboration with the International Carbon Action Partnership (ICAP)\, NACS 2023 is an in-person event with some hybrid sessions to enable virtual participation. The Summit features high-level plenaries\, North America and cross-cutting deep-dive workshops\, leadership roundtables\, and a “Carbon Market Lounge” with Partner Sponsors display counters\, a networking chill-out lounge\, coffee breaks and receptions. \nFULL AGENDA (Subject to Change) \nREGISTER HERE
URL:https://sustain.ucla.edu/event/north-america-climate-summit/
LOCATION:HYBRID: The Westin New York at Times Square and Zoom
ATTACH;FMTTYPE=image/png:https://sustain.ucla.edu/wp-content/uploads/2023/09/NACSevent_picture_47731.png
END:VEVENT
BEGIN:VEVENT
DTSTART;VALUE=DATE:20230920
DTEND;VALUE=DATE:20230921
DTSTAMP:20260420T095212
CREATED:20230830T235245Z
LAST-MODIFIED:20230830T235245Z
UID:19071-1695168000-1695254399@sustain.ucla.edu
SUMMARY:National Climate + Health Forum 2023
DESCRIPTION:At the National Climate + Health Forum 2023\, join leaders from across health disciplines to share best practices\, develop shared strategies to grow impact and commit to climate action that protects the public’s health. Participants have the option of attending in person (space limited) or virtually. \nREGISTER HERE
URL:https://sustain.ucla.edu/event/national-climate-health-forum-2023/
LOCATION:HYBRID: Washington\, D.C.\, and online
ATTACH;FMTTYPE=image/png:https://sustain.ucla.edu/wp-content/uploads/2023/08/ntlclmthealth.png
END:VEVENT
BEGIN:VEVENT
DTSTART;TZID=America/Los_Angeles:20230920T120000
DTEND;TZID=America/Los_Angeles:20230920T130000
DTSTAMP:20260420T095212
CREATED:20230908T201750Z
LAST-MODIFIED:20230908T201750Z
UID:19134-1695211200-1695214800@sustain.ucla.edu
SUMMARY:CITRIS Research Exchange - Eli Yablonovitch: Carbon-negative Technology To Solve the Climate Crisis
DESCRIPTION:C﻿ITRIS Research Exchange with \nEli Yablonovitch \nProfessor of Electrical Engineering and Computer Sciences\, UC Berkeley \n“Carbon-negative Technology To Solve the Climate Crisis” \nA﻿bout Talk: \nIn 1977\, physicist Freeman Dyson proposed the burial of biomass as a scalable\, economical solution to the carbon dioxide problem. Today we know that harvested vegetation should be buried in an engineered dry biolandfill. Plant biomass can be preserved for thousands of years by burial in a dry environment with sufficiently low thermodynamic “water activity\,” which is the relative humidity in equilibrium with the biomass. A water activity less than 60 percent will not support life\, suppressing anaerobic organisms\, thus preserving the biomass for millennia. Current agriculture and biolandfill costs indicate that $60 per ton of sequestered carbon dioxide corresponds to $0.53 per gallon of gasoline. If scaled to the level of a major crop\, existing carbon dioxide can be extracted from the atmosphere and sequester a significant fraction of prior years’ carbon dioxide emissions. \nREGISTER HERE \nA﻿bout the Speaker: \nEli Yablonovitch introduced the idea that strained semiconductor lasers could have superior performance due to reduced valence band effective mass. Now\, with optical telecommunication\, almost every human interaction on the internet occurs by strained semiconductor lasers. Yablonovitch is regarded as a father of the photonic bandgap concept\, and he coined the term “photonic crystal.” The geometrical structure of the first experimentally realized photonic bandgap is sometimes called “Yablonovite.” In his photovoltaic research\, Yablonovitch introduced the 4 (n squared) light-trapping factor\, known as the “Yablonovitch limit\,” that is in worldwide use for almost all commercial solar panels. He was elected to the National Academy of Engineering\, the National Academy of Sciences\, the National Academy of Inventors\, the American Academy of Arts and Sciences\, and as a foreign member\, the Royal Society of the United Kingdom. \nA﻿bout CITRIS Research Exchange: \nLaunched in 2008\, CITRIS Research Exchange delivers fresh perspectives on information technology and society from distinguished academic\, industry\, and civic leaders. CITRIS Research Exchange is free and open to the public. Each seminar takes place on Wednesdays from noon to 1:00 p.m. in the Banatao Auditorium at Sutardja Dai Hall on the UC Berkeley campus and will be livestreamed on YouTube. \n——- \nLive broadcast at https://www.youtube.com/user/citrisuc/live \nAll talks may be viewed on YouTube: https://www.youtube.com/user/citrisuc/playlists \nSign up to receive the latest news and updates from CITRIS: http://bit.ly/SubscribeCITRIS
URL:https://sustain.ucla.edu/event/citris-research-exchange-eli-yablonovitch-carbon-negative-technology-to-solve-the-climate-crisis/
LOCATION:HYBRID: UC Berkeley Banatao Auditorium\, Sutardja Dai Hall and YouTube\, 2594 Hearst Avenue\, Berkeley\, CA\, 94720\, United States
ATTACH;FMTTYPE=image/png:https://sustain.ucla.edu/wp-content/uploads/2023/09/3870_Sept_2023_E._Yablonovitch_920_EventBrite_1.rev_.1693413290.png
END:VEVENT
BEGIN:VEVENT
DTSTART;TZID=America/Los_Angeles:20230920T130000
DTEND;TZID=America/Los_Angeles:20230920T140000
DTSTAMP:20260420T095212
CREATED:20230919T175127Z
LAST-MODIFIED:20230919T175127Z
UID:19196-1695214800-1695218400@sustain.ucla.edu
SUMMARY:Environmental Leadership Initiative Informational Webinar
DESCRIPTION:Applications to apply for the two-year Environmental Leadership Initiative (ELI) fellowship program will be accepted starting on Monday\, September 11\, 2023\, until Wednesday\, October 4\, 2023. \nELI is hosted by Liberty Hill Foundation\, through the generous support and investment from the Hewlett Foundation and Packard Foundation. \nDuring this time\, the ELI program team will walk through the application\, share fellowship benefits and expectations\, and make time for Q+A. \nREGISTER HERE
URL:https://sustain.ucla.edu/event/environmental-leadership-initiative-informational-webinar/
LOCATION:Online
ATTACH;FMTTYPE=image/png:https://sustain.ucla.edu/wp-content/uploads/2023/09/eli_libhill.png
END:VEVENT
END:VCALENDAR