BEGIN:VCALENDAR
VERSION:2.0
PRODID:-//UCLA Sustainability - ECPv6.15.20//NONSGML v1.0//EN
CALSCALE:GREGORIAN
METHOD:PUBLISH
X-ORIGINAL-URL:https://sustain.ucla.edu
X-WR-CALDESC:Events for UCLA Sustainability
REFRESH-INTERVAL;VALUE=DURATION:PT1H
X-Robots-Tag:noindex
X-PUBLISHED-TTL:PT1H
BEGIN:VTIMEZONE
TZID:America/Los_Angeles
BEGIN:DAYLIGHT
TZOFFSETFROM:-0800
TZOFFSETTO:-0700
TZNAME:PDT
DTSTART:20220313T100000
END:DAYLIGHT
BEGIN:STANDARD
TZOFFSETFROM:-0700
TZOFFSETTO:-0800
TZNAME:PST
DTSTART:20221106T090000
END:STANDARD
BEGIN:DAYLIGHT
TZOFFSETFROM:-0800
TZOFFSETTO:-0700
TZNAME:PDT
DTSTART:20230312T100000
END:DAYLIGHT
BEGIN:STANDARD
TZOFFSETFROM:-0700
TZOFFSETTO:-0800
TZNAME:PST
DTSTART:20231105T090000
END:STANDARD
BEGIN:DAYLIGHT
TZOFFSETFROM:-0800
TZOFFSETTO:-0700
TZNAME:PDT
DTSTART:20240310T100000
END:DAYLIGHT
BEGIN:STANDARD
TZOFFSETFROM:-0700
TZOFFSETTO:-0800
TZNAME:PST
DTSTART:20241103T090000
END:STANDARD
END:VTIMEZONE
BEGIN:VEVENT
DTSTART;TZID=America/Los_Angeles:20230923T090000
DTEND;TZID=America/Los_Angeles:20230923T120000
DTSTAMP:20260420T095211
CREATED:20230915T190836Z
LAST-MODIFIED:20230915T190836Z
UID:19154-1695459600-1695470400@sustain.ucla.edu
SUMMARY:California Coastal Cleanup Day
DESCRIPTION:Join the 39th California Coastal Cleanup Day\, the state’s largest annual volunteer event! It’s a chance for everyone in our state\, no matter where they live. The timing of the event is intentional\, aiming to clear away debris and litter before the rainy season\, ensuring pollutants don’t end up in our local waterways and the ocean.   \nThis year\, there are more than 60+ cleanup sites throughout L.A. County. Sign up for one of Heal the Bay’s 30 public sites! \nREGISTER HERE \nThis event is a great opportunity to facilitate team bonding and give back to the community you do business in. Whether you choose a beach or an inland waterway\, official cleanup sites are staffed by volunteers who provide everything you need to participate including bags\, gloves\, and data collection sheets. \nFor more information and to find a cleanup location near you\, check out the California Coastal Commission’s website here.
URL:https://sustain.ucla.edu/event/california-coastal-cleanup-day/
LOCATION:Heal the Bay Aquarium\, 1600 Ocean Front Walk\, Santa Monica\, CA\, 90401\, United States
ATTACH;FMTTYPE=image/png:https://sustain.ucla.edu/wp-content/uploads/2023/09/htb-updated_crop.png
END:VEVENT
END:VCALENDAR