BEGIN:VCALENDAR
VERSION:2.0
PRODID:-//UCLA Sustainability - ECPv6.15.20//NONSGML v1.0//EN
CALSCALE:GREGORIAN
METHOD:PUBLISH
X-WR-CALNAME:UCLA Sustainability
X-ORIGINAL-URL:https://sustain.ucla.edu
X-WR-CALDESC:Events for UCLA Sustainability
REFRESH-INTERVAL;VALUE=DURATION:PT1H
X-Robots-Tag:noindex
X-PUBLISHED-TTL:PT1H
BEGIN:VTIMEZONE
TZID:America/Los_Angeles
BEGIN:DAYLIGHT
TZOFFSETFROM:-0800
TZOFFSETTO:-0700
TZNAME:PDT
DTSTART:20220313T100000
END:DAYLIGHT
BEGIN:STANDARD
TZOFFSETFROM:-0700
TZOFFSETTO:-0800
TZNAME:PST
DTSTART:20221106T090000
END:STANDARD
BEGIN:DAYLIGHT
TZOFFSETFROM:-0800
TZOFFSETTO:-0700
TZNAME:PDT
DTSTART:20230312T100000
END:DAYLIGHT
BEGIN:STANDARD
TZOFFSETFROM:-0700
TZOFFSETTO:-0800
TZNAME:PST
DTSTART:20231105T090000
END:STANDARD
BEGIN:DAYLIGHT
TZOFFSETFROM:-0800
TZOFFSETTO:-0700
TZNAME:PDT
DTSTART:20240310T100000
END:DAYLIGHT
BEGIN:STANDARD
TZOFFSETFROM:-0700
TZOFFSETTO:-0800
TZNAME:PST
DTSTART:20241103T090000
END:STANDARD
END:VTIMEZONE
BEGIN:VEVENT
DTSTART;VALUE=DATE:20230925
DTEND;VALUE=DATE:20230930
DTSTAMP:20260420T095018
CREATED:20230920T000947Z
LAST-MODIFIED:20230920T000947Z
UID:19225-1695600000-1696031999@sustain.ucla.edu
SUMMARY:National Clean Energy Week
DESCRIPTION:National Clean Energy Week is a celebration of the policies\, industries\, and innovations that power our daily lives while producing no or very little greenhouse gas emissions. Despite the very real technological and political challenges\, a clean energy future is in our reach\, and America is ready to lead the way. \nREGISTER HERE
URL:https://sustain.ucla.edu/event/national-clean-energy-week/
LOCATION:HYBRID: Washington\, D.C.\, and online
ATTACH;FMTTYPE=image/jpeg:https://sustain.ucla.edu/wp-content/uploads/2023/09/ncew.jpg
END:VEVENT
BEGIN:VEVENT
DTSTART;TZID=America/Los_Angeles:20230928T060000
DTEND;TZID=America/Los_Angeles:20230928T141000
DTSTAMP:20260420T095018
CREATED:20230927T200341Z
LAST-MODIFIED:20230927T200341Z
UID:19302-1695880800-1695910200@sustain.ucla.edu
SUMMARY:2023 C3E Women in Clean Energy Symposium and Awards
DESCRIPTION:The 12th annual Clean Energy Education & Empowerment (C3E) Women in Clean Energy Symposium and Awards will focus on how to preserve and strengthen policies to enable clean energy\, address energy system inequities\, speed up the technology journey from lab to market\, and overcome present and future supply chain vulnerabilities to achieve net zero by 2050. The event will consist of plenary sessions\, award presentations\, and panel discussions\, all of which will be available via a free livestream. \nREGISTER HERE
URL:https://sustain.ucla.edu/event/2023-c3e-women-in-clean-energy-symposium-and-awards/
LOCATION:Online
ATTACH;FMTTYPE=image/png:https://sustain.ucla.edu/wp-content/uploads/2023/09/c3e23.png
END:VEVENT
BEGIN:VEVENT
DTSTART;TZID=America/Los_Angeles:20230928T080000
DTEND;TZID=America/Los_Angeles:20230928T100000
DTSTAMP:20260420T095018
CREATED:20230927T173531Z
LAST-MODIFIED:20230927T173531Z
UID:19281-1695888000-1695895200@sustain.ucla.edu
SUMMARY:Coffee Outside Social Bike Ride
DESCRIPTION:Traverse the tree-lined avenues on a refreshing morning bicycle ride that leaves from the UCLA Bike Shop. We’ll tour some of the infrastructure and amenities here at UCLA that integrate cycling into the daily routines of students and staff. The short inclusive ride culminates at an inviting outdoor spot where we’ll enjoy some coffee and socialize before going about our days. This ride’s a great way to meet people and a chance to reflect on the seamless blend of active transportation\, environmental consciousness\, and the simple joy of a morning ride with a well-deserved coffee break. \nParticipants must have a helmet and a bicycle\, loaners are available from UCLA Bike Shop if you’d like to jump in and don’t have gear. Also – bonus points if you bring a friend and your own camp-coffee rig! \nREGISTER HERE
URL:https://sustain.ucla.edu/event/coffee-outside-social-bike-ride/
LOCATION:UCLA Bike Shop & Outdoor Equipment Rental Center\, 2131 John Wooden Center\, Los Angeles\, CA\, 90095\, United States
ATTACH;FMTTYPE=image/jpeg:https://sustain.ucla.edu/wp-content/uploads/2023/09/uclabikeclass.jpg
END:VEVENT
BEGIN:VEVENT
DTSTART;TZID=America/Los_Angeles:20230928T090000
DTEND;TZID=America/Los_Angeles:20230928T110000
DTSTAMP:20260420T095018
CREATED:20230927T221402Z
LAST-MODIFIED:20230927T221402Z
UID:19306-1695891600-1695898800@sustain.ucla.edu
SUMMARY:STEMtember Sessions: Careers in Clean Energy
DESCRIPTION:Join this September for “EERE STEMtember Sessions: Careers in Clean Energy\,” a weekly webinar series highlighting EERE careers in renewable energy\, sustainable transportation and fuels\, buildings & industry\, and business operations. The two-hour webinar will feature EERE leaders and employees\, who will share their career journeys and explain why now is the most exciting time to be part of the clean energy revolution at DOE. Come and hear from hiring managers about the key duties and skills required for positions and how you can apply to be a clean energy champion! \nREGISTER HERE
URL:https://sustain.ucla.edu/event/stemtember-sessions-careers-in-clean-energy/
LOCATION:Online
ATTACH;FMTTYPE=image/png:https://sustain.ucla.edu/wp-content/uploads/2023/09/EERE-Internal-WMO-2023-StemtemberSeries-social-BI-v3.png
END:VEVENT
BEGIN:VEVENT
DTSTART;TZID=America/Los_Angeles:20230928T140000
DTEND;TZID=America/Los_Angeles:20230928T150000
DTSTAMP:20260420T095018
CREATED:20230925T195342Z
LAST-MODIFIED:20230925T195342Z
UID:19258-1695909600-1695913200@sustain.ucla.edu
SUMMARY:Wisdom for a new generation: Sylvia Earle on lessons learned from the frontlines of the climate crisis
DESCRIPTION:Dr. Sylvia Earle\, climate communicator in residence at USC Annenberg’s Center for Climate Journalism and Communication\, shares personal insights from her celebrated career as an oceanographer\, explorer\, and federal official.  \nCoffee and cookies will be provided. \nREGISTER HERE
URL:https://sustain.ucla.edu/event/wisdom-for-a-new-generation-sylvia-earle-on-lessons-learned-from-the-frontlines-of-the-climate-crisis/
LOCATION:Wallis Annenberg Hall (ANN)\, Sheindlin Forum (106)\, 3630 Watt Way\, Los Angeles\, CA\, 90089\, United States
ATTACH;FMTTYPE=image/png:https://sustain.ucla.edu/wp-content/uploads/2023/09/earleusc.png
END:VEVENT
BEGIN:VEVENT
DTSTART;TZID=America/Los_Angeles:20230928T170000
DTEND;TZID=America/Los_Angeles:20230928T190000
DTSTAMP:20260420T095018
CREATED:20230927T173858Z
LAST-MODIFIED:20230927T173858Z
UID:19286-1695920400-1695927600@sustain.ucla.edu
SUMMARY:Commuter Basics
DESCRIPTION:What to bring? Where to go? What resources are there for bicycle commuters to UCLA? What to know about your bike? How to carry stuff? \nWe’ve got answers and solutions to your questions as a Bruin bicycle-commuter. \nREGISTER HERE
URL:https://sustain.ucla.edu/event/commuter-basics/
LOCATION:UCLA Bike Shop & Outdoor Equipment Rental Center\, 2131 John Wooden Center\, Los Angeles\, CA\, 90095\, United States
ATTACH;FMTTYPE=image/jpeg:https://sustain.ucla.edu/wp-content/uploads/2023/09/uclabikeclass.jpg
END:VEVENT
BEGIN:VEVENT
DTSTART;TZID=America/Los_Angeles:20230928T180000
DTEND;TZID=America/Los_Angeles:20230928T190000
DTSTAMP:20260420T095018
CREATED:20230830T234553Z
LAST-MODIFIED:20230830T234553Z
UID:19067-1695924000-1695927600@sustain.ucla.edu
SUMMARY:Spotlight On: An Equitable Water Future
DESCRIPTION:Please join via Zoom for this educational event\, the second in a series on water in California. A presentation on the topic will be followed by a question-and-answer session. \nThe featured speaker will be Nahal Ghoghaie Ipakchi\, a Senior Director at Kearns & West with over 15 years of experience in community outreach and engagement\, stakeholder facilitation\, and urban and environmental planning. She is a trusted convener and bridge-builder committed to making environmental justice and racial/social equity central to climate and environmental planning. Nahal has worked on numerous efforts throughout the US and Canada to ensure perspectives of historically marginalized communities and Tribes are centered in decision-making processes related to water access\, water operations\, supply\, and quality\, shoreline resilience\, habitat restoration\, ecosystem protection\, air quality\, and flood/wastewater management. \nREGISTER HERE
URL:https://sustain.ucla.edu/event/spotlight-on-an-equitable-water-future/
LOCATION:Online
ATTACH;FMTTYPE=image/jpeg:https://sustain.ucla.edu/wp-content/uploads/2023/08/lwvsf_water.jpg
END:VEVENT
END:VCALENDAR