BEGIN:VCALENDAR
VERSION:2.0
PRODID:-//UCLA Sustainability - ECPv6.15.20//NONSGML v1.0//EN
CALSCALE:GREGORIAN
METHOD:PUBLISH
X-WR-CALNAME:UCLA Sustainability
X-ORIGINAL-URL:https://sustain.ucla.edu
X-WR-CALDESC:Events for UCLA Sustainability
REFRESH-INTERVAL;VALUE=DURATION:PT1H
X-Robots-Tag:noindex
X-PUBLISHED-TTL:PT1H
BEGIN:VTIMEZONE
TZID:America/Los_Angeles
BEGIN:DAYLIGHT
TZOFFSETFROM:-0800
TZOFFSETTO:-0700
TZNAME:PDT
DTSTART:20220313T100000
END:DAYLIGHT
BEGIN:STANDARD
TZOFFSETFROM:-0700
TZOFFSETTO:-0800
TZNAME:PST
DTSTART:20221106T090000
END:STANDARD
BEGIN:DAYLIGHT
TZOFFSETFROM:-0800
TZOFFSETTO:-0700
TZNAME:PDT
DTSTART:20230312T100000
END:DAYLIGHT
BEGIN:STANDARD
TZOFFSETFROM:-0700
TZOFFSETTO:-0800
TZNAME:PST
DTSTART:20231105T090000
END:STANDARD
BEGIN:DAYLIGHT
TZOFFSETFROM:-0800
TZOFFSETTO:-0700
TZNAME:PDT
DTSTART:20240310T100000
END:DAYLIGHT
BEGIN:STANDARD
TZOFFSETFROM:-0700
TZOFFSETTO:-0800
TZNAME:PST
DTSTART:20241103T090000
END:STANDARD
END:VTIMEZONE
BEGIN:VEVENT
DTSTART;TZID=America/Los_Angeles:20231003T090000
DTEND;TZID=America/Los_Angeles:20231004T140000
DTSTAMP:20260420T111552
CREATED:20230927T221848Z
LAST-MODIFIED:20230927T221848Z
UID:19310-1696323600-1696428000@sustain.ucla.edu
SUMMARY:Electric Program Investment Charge Symposium
DESCRIPTION:The Electric Program Investment Charge (EPIC) Program’s annual symposium brings together leading policy makers\, energy researchers\, and technology developers\, including recipients of EPIC grants\, to spotlight the latest clean energy technologies being deployed in the state. This year’s virtual event offers engaging conversations with top government and private sector leaders focused on how recent state and federal investments are more rapidly and equitably advancing California’s transition to a clean energy economy. \nREGISTER HERE
URL:https://sustain.ucla.edu/event/electric-program-investment-charge-symposium/
LOCATION:Online
ATTACH;FMTTYPE=image/png:https://sustain.ucla.edu/wp-content/uploads/2023/09/EPIC_Symposium_No_Date_2160x1080.png
END:VEVENT
BEGIN:VEVENT
DTSTART;TZID=America/Los_Angeles:20231004T083000
DTEND;TZID=America/Los_Angeles:20231004T120000
DTSTAMP:20260420T111552
CREATED:20230919T235722Z
LAST-MODIFIED:20230919T235722Z
UID:19220-1696408200-1696420800@sustain.ucla.edu
SUMMARY:UCLA Anderson Forecast in collaboration with UCLA Center for Impact Presents October 2023 Economic Outlook
DESCRIPTION:The economy keeps churning along but so does climate change. These two forces are important for future economic growth\, consumption and investment growth and were responsible for a string of 2023 disasters including horrific wildfires. These are some of the topics that will be addressed during the October 2023 UCLA Anderson Forecast economic and climate change outlook that will be held in collaboration with the UCLA Center for Impact. \nIn-Person or Enhanced Webinar – REGISTER HERE \nIncludes: \nIn-Person or Zoom Webinar\nQuarterly Digital Forecast Report\nParticipation in Q&A Session\nNote: Space for In-Person is limited. \nIn-Person $195 / Webinar $95 \nLimited Webinar – REGISTER HERE \nIncludes: \nYouTube Viewing Access Only \nFree
URL:https://sustain.ucla.edu/event/ucla-anderson-forecast-in-collaboration-with-ucla-center-for-impact-presents-october-2023-economic-outlook/
LOCATION:HYBRID: UCLA Marion Anderson Grand Salon and Online
ATTACH;FMTTYPE=image/jpeg:https://sustain.ucla.edu/wp-content/uploads/2023/09/andforeoct23.jpg
END:VEVENT
BEGIN:VEVENT
DTSTART;TZID=America/Los_Angeles:20231004T090000
DTEND;TZID=America/Los_Angeles:20231004T103000
DTSTAMP:20260420T111552
CREATED:20230919T221030Z
LAST-MODIFIED:20230919T221030Z
UID:19213-1696410000-1696415400@sustain.ucla.edu
SUMMARY:CLIMATE JOB FAIR - North America: Engineering roles in climate
DESCRIPTION:Meet companies hiring all types of engineers\, from hardware to software and from data to network. \nREGISTER HERE
URL:https://sustain.ucla.edu/event/climate-job-fair-north-america-engineering-roles-in-climate/
LOCATION:Online
ATTACH;FMTTYPE=image/png:https://sustain.ucla.edu/wp-content/uploads/2023/03/TERRADO_logo.png
END:VEVENT
BEGIN:VEVENT
DTSTART;TZID=America/Los_Angeles:20231004T110000
DTEND;TZID=America/Los_Angeles:20231004T120000
DTSTAMP:20260420T111552
CREATED:20230925T215743Z
LAST-MODIFIED:20230925T215743Z
UID:19268-1696417200-1696420800@sustain.ucla.edu
SUMMARY:Webinar: 2024 Climate Leadership Awards Application Kick-Off
DESCRIPTION:Join this informational webinar about the 2024 Climate Leadership Awards application process! The organizers will discuss updates to the awards categories and applications\, the introduction of the Value Chain Leadership Award\, the selection process\, requirements\, evaluation criteria\, deadlines/dates\, and submission through the SmarterSelect application portal. \nREGISTER HERE
URL:https://sustain.ucla.edu/event/webinar-2024-climate-leadership-awards-application-kick-off/
LOCATION:Online
ATTACH;FMTTYPE=image/png:https://sustain.ucla.edu/wp-content/uploads/2023/09/claweb2.png
ORGANIZER;CN="The Climate Registry":MAILTO:info@theclimateregistry.org
END:VEVENT
BEGIN:VEVENT
DTSTART;TZID=America/Los_Angeles:20231004T170000
DTEND;TZID=America/Los_Angeles:20231004T190000
DTSTAMP:20260420T111552
CREATED:20230927T174222Z
LAST-MODIFIED:20230927T174222Z
UID:19288-1696438800-1696446000@sustain.ucla.edu
SUMMARY:Commuter Basics
DESCRIPTION:What to bring? Where to go? What resources are there for bicycle commuters to UCLA? What to know about your bike? How to carry stuff? \nWe’ve got answers and solutions to your questions as a Bruin bicycle-commuter. \nREGISTER HERE
URL:https://sustain.ucla.edu/event/commuter-basics-2/
LOCATION:UCLA Bike Shop & Outdoor Equipment Rental Center\, 2131 John Wooden Center\, Los Angeles\, CA\, 90095\, United States
ATTACH;FMTTYPE=image/jpeg:https://sustain.ucla.edu/wp-content/uploads/2023/09/uclabikeclass.jpg
END:VEVENT
END:VCALENDAR