BEGIN:VCALENDAR
VERSION:2.0
PRODID:-//UCLA Sustainability - ECPv6.15.20//NONSGML v1.0//EN
CALSCALE:GREGORIAN
METHOD:PUBLISH
X-WR-CALNAME:UCLA Sustainability
X-ORIGINAL-URL:https://sustain.ucla.edu
X-WR-CALDESC:Events for UCLA Sustainability
REFRESH-INTERVAL;VALUE=DURATION:PT1H
X-Robots-Tag:noindex
X-PUBLISHED-TTL:PT1H
BEGIN:VTIMEZONE
TZID:America/Los_Angeles
BEGIN:DAYLIGHT
TZOFFSETFROM:-0800
TZOFFSETTO:-0700
TZNAME:PDT
DTSTART:20220313T100000
END:DAYLIGHT
BEGIN:STANDARD
TZOFFSETFROM:-0700
TZOFFSETTO:-0800
TZNAME:PST
DTSTART:20221106T090000
END:STANDARD
BEGIN:DAYLIGHT
TZOFFSETFROM:-0800
TZOFFSETTO:-0700
TZNAME:PDT
DTSTART:20230312T100000
END:DAYLIGHT
BEGIN:STANDARD
TZOFFSETFROM:-0700
TZOFFSETTO:-0800
TZNAME:PST
DTSTART:20231105T090000
END:STANDARD
BEGIN:DAYLIGHT
TZOFFSETFROM:-0800
TZOFFSETTO:-0700
TZNAME:PDT
DTSTART:20240310T100000
END:DAYLIGHT
BEGIN:STANDARD
TZOFFSETFROM:-0700
TZOFFSETTO:-0800
TZNAME:PST
DTSTART:20241103T090000
END:STANDARD
END:VTIMEZONE
BEGIN:VEVENT
DTSTART;VALUE=DATE:20231006
DTEND;VALUE=DATE:20231008
DTSTAMP:20260420T111558
CREATED:20230725T185900Z
LAST-MODIFIED:20230725T185900Z
UID:18829-1696550400-1696723199@sustain.ucla.edu
SUMMARY:2023 virtual California Student Leadership Summit
DESCRIPTION:As students\, how do we want to be heard? How do we make our voices count? \nOn October 6 and 7\, join students from all around California at the 2023 Summit for Student Leaders! The opportunity is free and virtual\, so students with an interest in leadership\, no matter where they are joining us from in California\, are invited to attend! \nThe goal of this 1.5-day online summit is to support the development and engagement of student leaders and to strengthen student voice’s impact on policy. The conference will feature key sessions on education policy\, including safe school climates\, environmental justice\, education equity\, demystifying changemaking and creating career pathways. \nThe program will also support stronger connections among students and deepen their ability to collectively make a difference in California together. \nChildren Now is hosting The Summit\, in partnership with student-led groups and student-facing organizations\, including Generation Up\, Our Turn\, Ed100\, The Institute for Youth in Policy\, California Association of Student Councils (CASC)\, and California Forward. The Summit is an evolution of Ed100’s Academy for Student Leaders. \nREGISTER HERE
URL:https://sustain.ucla.edu/event/2023-virtual-california-student-leadership-summit/
LOCATION:Online
ATTACH;FMTTYPE=image/png:https://sustain.ucla.edu/wp-content/uploads/2023/07/childrennowsummit.png
END:VEVENT
END:VCALENDAR