BEGIN:VCALENDAR
VERSION:2.0
PRODID:-//UCLA Sustainability - ECPv6.15.20//NONSGML v1.0//EN
CALSCALE:GREGORIAN
METHOD:PUBLISH
X-ORIGINAL-URL:https://sustain.ucla.edu
X-WR-CALDESC:Events for UCLA Sustainability
REFRESH-INTERVAL;VALUE=DURATION:PT1H
X-Robots-Tag:noindex
X-PUBLISHED-TTL:PT1H
BEGIN:VTIMEZONE
TZID:America/Los_Angeles
BEGIN:DAYLIGHT
TZOFFSETFROM:-0800
TZOFFSETTO:-0700
TZNAME:PDT
DTSTART:20220313T100000
END:DAYLIGHT
BEGIN:STANDARD
TZOFFSETFROM:-0700
TZOFFSETTO:-0800
TZNAME:PST
DTSTART:20221106T090000
END:STANDARD
BEGIN:DAYLIGHT
TZOFFSETFROM:-0800
TZOFFSETTO:-0700
TZNAME:PDT
DTSTART:20230312T100000
END:DAYLIGHT
BEGIN:STANDARD
TZOFFSETFROM:-0700
TZOFFSETTO:-0800
TZNAME:PST
DTSTART:20231105T090000
END:STANDARD
BEGIN:DAYLIGHT
TZOFFSETFROM:-0800
TZOFFSETTO:-0700
TZNAME:PDT
DTSTART:20240310T100000
END:DAYLIGHT
BEGIN:STANDARD
TZOFFSETFROM:-0700
TZOFFSETTO:-0800
TZNAME:PST
DTSTART:20241103T090000
END:STANDARD
END:VTIMEZONE
BEGIN:VEVENT
DTSTART;TZID=America/Los_Angeles:20231030T150000
DTEND;TZID=America/Los_Angeles:20231030T170000
DTSTAMP:20260420T121427
CREATED:20231028T195511Z
LAST-MODIFIED:20231028T195511Z
UID:19531-1698678000-1698685200@sustain.ucla.edu
SUMMARY:Film Screening: "Stepping Softly on the Earth"
DESCRIPTION:Filmed on location in Peru\, Colombia and Brazil\, the documentary Stepping Softly on the Earth (2022) provides a vision for a possible future for humanity\, with an alternative to destruction that is based on the ancestral life of native populations. The film focuses its narrative on three Indigenous leaders who are survivors of the capitalist war in the Amazon and struggle to keep their ways of being alive and coexisting in the world without destroying it. \nThe film will be followed by a Q&A moderated by Susanna Hecht (Center for Brazilian Studies) and Alexander Ungprateeb Flynn (Department of World Arts and Cultures/Dance). \nFree and Open to the Public
URL:https://sustain.ucla.edu/event/film-screening-stepping-softly-on-the-earth/
LOCATION:UCLA Glorya Kaufman Dance Theater\, Kaufman Hall 200\, 120 Westwood Plaza\, Los Angeles\, CA\, 90095\, United States
ATTACH;FMTTYPE=image/jpeg:https://sustain.ucla.edu/wp-content/uploads/2023/10/steppingsoft.jpg
ORGANIZER;CN="UCLA Department of World Arts and Cultures/Dance":MAILTO:wacinfo@arts.ucla.edu
END:VEVENT
END:VCALENDAR