BEGIN:VCALENDAR
VERSION:2.0
PRODID:-//UCLA Sustainability - ECPv6.15.20//NONSGML v1.0//EN
CALSCALE:GREGORIAN
METHOD:PUBLISH
X-WR-CALNAME:UCLA Sustainability
X-ORIGINAL-URL:https://sustain.ucla.edu
X-WR-CALDESC:Events for UCLA Sustainability
REFRESH-INTERVAL;VALUE=DURATION:PT1H
X-Robots-Tag:noindex
X-PUBLISHED-TTL:PT1H
BEGIN:VTIMEZONE
TZID:America/Los_Angeles
BEGIN:DAYLIGHT
TZOFFSETFROM:-0800
TZOFFSETTO:-0700
TZNAME:PDT
DTSTART:20220313T100000
END:DAYLIGHT
BEGIN:STANDARD
TZOFFSETFROM:-0700
TZOFFSETTO:-0800
TZNAME:PST
DTSTART:20221106T090000
END:STANDARD
BEGIN:DAYLIGHT
TZOFFSETFROM:-0800
TZOFFSETTO:-0700
TZNAME:PDT
DTSTART:20230312T100000
END:DAYLIGHT
BEGIN:STANDARD
TZOFFSETFROM:-0700
TZOFFSETTO:-0800
TZNAME:PST
DTSTART:20231105T090000
END:STANDARD
BEGIN:DAYLIGHT
TZOFFSETFROM:-0800
TZOFFSETTO:-0700
TZNAME:PDT
DTSTART:20240310T100000
END:DAYLIGHT
BEGIN:STANDARD
TZOFFSETFROM:-0700
TZOFFSETTO:-0800
TZNAME:PST
DTSTART:20241103T090000
END:STANDARD
END:VTIMEZONE
BEGIN:VEVENT
DTSTART;TZID=America/Los_Angeles:20231101T121500
DTEND;TZID=America/Los_Angeles:20231101T133000
DTSTAMP:20260420T135907
CREATED:20230927T175514Z
LAST-MODIFIED:20231005T231855Z
UID:19292-1698840900-1698845400@sustain.ucla.edu
SUMMARY:Sustainability Success Stories: Women at the Forefront Alumni Panel
DESCRIPTION:This panel will feature accomplished women alumni who have blazed trails in the sustainability arena. Their experience\, expertise\, and success stories will inspire and empower fellow alumnae\, current students\, and aspiring professionals. \nWhat to Expect: \n-Panelists will discuss their sustainability journey\, the challenges they’ve overcome\, and the path to success.\n-They will share insights and strategies for lasting impact in sustainability and related fields.\n-Networking opportunities with fellow panelists and attendees. \nREGISTER HERE \nMeet the moderator and panelists: \nModerator: Nurit Katz\, MPP and MBA ’08  \nUCLA’s first Chief Sustainability Officer\, Nurit Katz\, is working to foster partnerships among academic\, research\, and operational departments to facilitate the creation of a world-class living laboratory for sustainability at UCLA. Nurit also served as Executive Officer for UCLA Facilities Management for six years and is an Instructor for UCLA Extension’s Sustainability Certificate Program. She also serves as Commissioner on the Los Angeles Department of Water and Power Board. Nurit holds an MBA and a Masters in Public Policy from UCLA and a BA in Environmental Education from Humboldt State University and is pursuing a PhD in Ecology and Evolutionary Biology. \nPanelists: \nDaniela Simunovic\, MURP ’13  \nDaniela Simunovic is a recognized leader with 20 years of experience developing programs and policies to advance social\, economic and environmental equity. Daniela currently serves as the Senior Director of Climate and Sustainability in the Office of Los Angeles Mayor Karen Bass\, where she supports the implementation of the Mayor’s climate and sustainability goals. Simunovic previously served as a Senior Advisor on Environmental Equity to the California Air Resources Board Chair. Prior to that\, Daniela was a Senior Policy Director at Better World Group. At the California Strategic Growth Council\, Daniela led the development and implementation of the Transformative Climate Communities Program\, a place-based initiative focused on investing in the State’s most vulnerable communities. As Deputy Director of Environmental Health and Justice at the Liberty Hill Foundation\, she supported adopting and implementing the “Clean Up Green Up” ordinance. Daniela received her Master of Urban and Regional Planning from the UCLA Luskin School of Public Affairs. \nHolli Fajack\, MURP ’14 \nHolli Fajack has a diverse background with experience in environmental education\, policy analysis\, sustainability consulting\, communications and media\, and fine art. As the Sustainability Manager at CSU Long Beach\, Holli is responsible for implementing\, developing\, and coordinating campus sustainability practices and programs and engaging students\, faculty and staff in those efforts. Holli’s previous positions include Policy Analyst for Los Angeles Mayor Eric Garcetti’s Office of Budget and Innovation\, Student Program Director at the environmental education non-profit Sustainable Works\, and Project Assistant at the City of Santa Monica’s Office of Sustainability and the Environment.  Holli has a Master’s degree in urban and regional planning from UCLA and a BFA in photography from The College of Santa Fe. Holli is motivated by her desire to develop smart environmental policies and programs that can make communities healthier and more resilient and empower people to become agents for positive change. \nKristen Torres Pawling\, MURP ’12 : Bio  Coming Soon
URL:https://sustain.ucla.edu/event/sustainability-success-stories-women-at-the-forefront-alumni-panel/
LOCATION:Room 5391\, Public Affairs Building\, 337 Charles E Young Dr E\, Los Angeles\, CA\, 90095\, United States
ATTACH;FMTTYPE=image/png:https://sustain.ucla.edu/wp-content/uploads/2023/09/Copy-of-The-CORO-Fellowship-Alumni-Panel-Flyer-1.png
ORGANIZER;CN="UCLA Luskin Career Services":MAILTO:careers@luskin.ucla.edu
END:VEVENT
BEGIN:VEVENT
DTSTART;TZID=America/Los_Angeles:20231101T123000
DTEND;TZID=America/Los_Angeles:20231101T143000
DTSTAMP:20260420T135907
CREATED:20231020T233920Z
LAST-MODIFIED:20231020T233920Z
UID:19475-1698841800-1698849000@sustain.ucla.edu
SUMMARY:Designing our Future: Environment\, Community and Technology - A DataX Workshop
DESCRIPTION:DataX presents Professor of Information Studies\, Ramesh Srinivasan\, in conversation with an interdisciplinary set of UCLA professors focused on environmental issues such as climate change and their intersection with questions of justice and voice in relation to the proliferation and use of big data. This new series will feature a hallmark event each quarter!  \nRegistration required for in person or online participation. Lunch will be provided to onsite participants.  \nREGISTER HERE
URL:https://sustain.ucla.edu/event/designing-our-future-environment-community-and-technology-a-datax-workshop/
LOCATION:HYBRID: Collins Conference Room\, James West Alumni Center AND Online\, James West Alumni Center at University of California\, Los Angeles\, Los Angeles\, CA\, 90095\, United States
ATTACH;FMTTYPE=image/jpeg:https://sustain.ucla.edu/wp-content/uploads/2023/10/dataxnov123.jpg
END:VEVENT
BEGIN:VEVENT
DTSTART;TZID=America/Los_Angeles:20231101T220000
DTEND;TZID=America/Los_Angeles:20231101T220000
DTSTAMP:20260420T135907
CREATED:20231028T205025Z
LAST-MODIFIED:20231028T205025Z
UID:19547-1698876000-1698876000@sustain.ucla.edu
SUMMARY:Free Food from the Dining Halls
DESCRIPTION:Get a plate of free hot dining hall food in the SAC basement. Please bring your own containers and utensils. We are operating Tuesdays\, Wednesdays\, AND Thursdays this quarter.
URL:https://sustain.ucla.edu/event/free-food-from-the-dining-halls-27/
LOCATION:Conference Room 1 in the Student Activities Center Basement\, 220 Westwood Plaza\, Los Angeles\, CA\, 90095\, United States
ATTACH;FMTTYPE=image/png:https://sustain.ucla.edu/wp-content/uploads/2023/10/Bruin-Dine-Fall-23.png
ORGANIZER;CN="Bruin Dine":MAILTO:bruindine@gmail.com
END:VEVENT
END:VCALENDAR