BEGIN:VCALENDAR
VERSION:2.0
PRODID:-//UCLA Sustainability - ECPv6.15.20//NONSGML v1.0//EN
CALSCALE:GREGORIAN
METHOD:PUBLISH
X-ORIGINAL-URL:https://sustain.ucla.edu
X-WR-CALDESC:Events for UCLA Sustainability
REFRESH-INTERVAL;VALUE=DURATION:PT1H
X-Robots-Tag:noindex
X-PUBLISHED-TTL:PT1H
BEGIN:VTIMEZONE
TZID:America/Los_Angeles
BEGIN:DAYLIGHT
TZOFFSETFROM:-0800
TZOFFSETTO:-0700
TZNAME:PDT
DTSTART:20220313T100000
END:DAYLIGHT
BEGIN:STANDARD
TZOFFSETFROM:-0700
TZOFFSETTO:-0800
TZNAME:PST
DTSTART:20221106T090000
END:STANDARD
BEGIN:DAYLIGHT
TZOFFSETFROM:-0800
TZOFFSETTO:-0700
TZNAME:PDT
DTSTART:20230312T100000
END:DAYLIGHT
BEGIN:STANDARD
TZOFFSETFROM:-0700
TZOFFSETTO:-0800
TZNAME:PST
DTSTART:20231105T090000
END:STANDARD
BEGIN:DAYLIGHT
TZOFFSETFROM:-0800
TZOFFSETTO:-0700
TZNAME:PDT
DTSTART:20240310T100000
END:DAYLIGHT
BEGIN:STANDARD
TZOFFSETFROM:-0700
TZOFFSETTO:-0800
TZNAME:PST
DTSTART:20241103T090000
END:STANDARD
END:VTIMEZONE
BEGIN:VEVENT
DTSTART;TZID=America/Los_Angeles:20231204T183000
DTEND;TZID=America/Los_Angeles:20231204T200000
DTSTAMP:20260422T105658
CREATED:20231028T183931Z
LAST-MODIFIED:20231028T183931Z
UID:19528-1701714600-1701720000@sustain.ucla.edu
SUMMARY:Molly Hunker & Kyle Miller present new book\, "Building Practice"
DESCRIPTION:Molly Hunker (MArch ’10) and Kyle Miller (MArch ’08) present their new book\, Building Practice\, which features interviews with architects\, designers\, educators\, curators\, fabricators\, strategists\, critics\, and activists who are advancing speculative design through the culture and politics of building\, capturing critical and formative moments associated with building a practice. Each interview in the book reveals strategies for linking practical and theoretical forms of knowledge and evidences the active creation of unique approaches to contributing positively to both architectural culture and the built environment. Hunker and Miller articulate how architects today claim conceptual territory regarding form\, space\, order\, materiality\, and aesthetics\, and push for design to have meaning and value in relation to cultural\, environmental\, political\, and social concerns. The individuals and practices profiled in the book and featured in this event\, including UCLA Architecture and Urban Design faculty Kutan Ayata and Benjamin Freyinger\, and alumni Ellie Abrons\, Paul Andersen\, Kelly Bair\, Kristy Balliet\, Brennan Buck\, David Freeland\, Adam Fure\, Jia Gu\, Andrew Holder\, Justin Rice\, and Kagan Taylor\, collectively partition themselves from previous generations of experimentally motivated practices while individually exemplifying their own inimitable affinities\, techniques\, and sensibilities. Building Practice shares the first acts of an emerging generation of practices and identifies the peripheral yet pivotal aspects of building a practice today. \nREGISTER HERE
URL:https://sustain.ucla.edu/event/molly-hunker-kyle-miller-present-new-book-building-practice/
LOCATION:UCLA Perloff Hall\, DeCafe\, 365 Portola Plaza\, Room 1302\, Los Angeles\, CA\, 90095\, United States
ATTACH;FMTTYPE=image/jpeg:https://sustain.ucla.edu/wp-content/uploads/2023/10/BP_aud.jpg
ORGANIZER;CN="UCLA Architecture and Urban Design":MAILTO:audoffice@aud.ucla.edu
END:VEVENT
END:VCALENDAR