BEGIN:VCALENDAR
VERSION:2.0
PRODID:-//UCLA Sustainability - ECPv6.15.20//NONSGML v1.0//EN
CALSCALE:GREGORIAN
METHOD:PUBLISH
X-WR-CALNAME:UCLA Sustainability
X-ORIGINAL-URL:https://sustain.ucla.edu
X-WR-CALDESC:Events for UCLA Sustainability
REFRESH-INTERVAL;VALUE=DURATION:PT1H
X-Robots-Tag:noindex
X-PUBLISHED-TTL:PT1H
BEGIN:VTIMEZONE
TZID:America/Los_Angeles
BEGIN:DAYLIGHT
TZOFFSETFROM:-0800
TZOFFSETTO:-0700
TZNAME:PDT
DTSTART:20220313T100000
END:DAYLIGHT
BEGIN:STANDARD
TZOFFSETFROM:-0700
TZOFFSETTO:-0800
TZNAME:PST
DTSTART:20221106T090000
END:STANDARD
BEGIN:DAYLIGHT
TZOFFSETFROM:-0800
TZOFFSETTO:-0700
TZNAME:PDT
DTSTART:20230312T100000
END:DAYLIGHT
BEGIN:STANDARD
TZOFFSETFROM:-0700
TZOFFSETTO:-0800
TZNAME:PST
DTSTART:20231105T090000
END:STANDARD
BEGIN:DAYLIGHT
TZOFFSETFROM:-0800
TZOFFSETTO:-0700
TZNAME:PDT
DTSTART:20240310T100000
END:DAYLIGHT
BEGIN:STANDARD
TZOFFSETFROM:-0700
TZOFFSETTO:-0800
TZNAME:PST
DTSTART:20241103T090000
END:STANDARD
END:VTIMEZONE
BEGIN:VEVENT
DTSTART;TZID=America/Los_Angeles:20231206T123000
DTEND;TZID=America/Los_Angeles:20231206T133000
DTSTAMP:20260422T194906
CREATED:20231024T214322Z
LAST-MODIFIED:20231024T214322Z
UID:19508-1701865800-1701869400@sustain.ucla.edu
SUMMARY:HBCU Lunch & Learn Series - Machine Language
DESCRIPTION:K﻿evin Leonard – University of Kansas Associate Professior in Chemical & Petroleum Engineering \nDiscover how you can make a difference in the environment through the work that you do. This series is specifically designed for Historically Black Colleges and Universities (HBCUs) students\, but all are welcome to attend. \nLearn about sustainable practices\, innovative technology\, environmental initiatives\, and nature-based solutions in a fun and interactive way. Connect with professionals in the field and gain valuable insights. \nDon’t miss this opportunity to expand your knowledge and network. Grab your lunch and join us online! \nREGISTER HERE
URL:https://sustain.ucla.edu/event/hbcu-lunch-learn-series-machine-language/
LOCATION:Online
ATTACH;FMTTYPE=image/jpeg:https://sustain.ucla.edu/wp-content/uploads/2023/10/lasanhbcu.jpg
END:VEVENT
BEGIN:VEVENT
DTSTART;TZID=America/Los_Angeles:20231206T180000
DTEND;TZID=America/Los_Angeles:20231206T193000
DTSTAMP:20260422T194906
CREATED:20231116T024122Z
LAST-MODIFIED:20231116T024122Z
UID:19671-1701885600-1701891000@sustain.ucla.edu
SUMMARY:California's Environmental Heritage: Indigenous Wisdom\, Historical Impact\, and Future Sustainability
DESCRIPTION:Join Dr. Brittani Orona\, Dr. Melinda Adams and Rose Ramirez in California State Library’s Zoom Room for a night of discussion about the environmental legacy of settler colonialism in California\, including its impact on current land and water management policy\, through the lens of Indigenous practices and perspectives.  \nREGISTER HERE
URL:https://sustain.ucla.edu/event/californias-environmental-heritage-indigenous-wisdom-historical-impact-and-future-sustainability/
LOCATION:Online
ATTACH;FMTTYPE=image/jpeg:https://sustain.ucla.edu/wp-content/uploads/2023/11/casl_indig-scaled.jpg
END:VEVENT
BEGIN:VEVENT
DTSTART;TZID=America/Los_Angeles:20231206T220000
DTEND;TZID=America/Los_Angeles:20231206T220000
DTSTAMP:20260422T194906
CREATED:20231202T030247Z
LAST-MODIFIED:20231202T030247Z
UID:19738-1701900000-1701900000@sustain.ucla.edu
SUMMARY:Free Food from the Dining Halls
DESCRIPTION:Get a plate of free hot dining hall food in the SAC basement. Please bring your own containers and utensils. Bruin Dine is operating Tuesdays\, Wednesdays\, AND Thursdays this quarter.
URL:https://sustain.ucla.edu/event/free-food-from-the-dining-halls-39/
LOCATION:Conference Room 1 in the Student Activities Center Basement\, 220 Westwood Plaza\, Los Angeles\, CA\, 90095\, United States
ATTACH;FMTTYPE=image/png:https://sustain.ucla.edu/wp-content/uploads/2023/11/BDnotag.png
ORGANIZER;CN="Bruin Dine":MAILTO:bruindine@gmail.com
END:VEVENT
END:VCALENDAR