BEGIN:VCALENDAR
VERSION:2.0
PRODID:-//UCLA Sustainability - ECPv6.15.20//NONSGML v1.0//EN
CALSCALE:GREGORIAN
METHOD:PUBLISH
X-WR-CALNAME:UCLA Sustainability
X-ORIGINAL-URL:https://sustain.ucla.edu
X-WR-CALDESC:Events for UCLA Sustainability
REFRESH-INTERVAL;VALUE=DURATION:PT1H
X-Robots-Tag:noindex
X-PUBLISHED-TTL:PT1H
BEGIN:VTIMEZONE
TZID:America/Los_Angeles
BEGIN:DAYLIGHT
TZOFFSETFROM:-0800
TZOFFSETTO:-0700
TZNAME:PDT
DTSTART:20230312T100000
END:DAYLIGHT
BEGIN:STANDARD
TZOFFSETFROM:-0700
TZOFFSETTO:-0800
TZNAME:PST
DTSTART:20231105T090000
END:STANDARD
BEGIN:DAYLIGHT
TZOFFSETFROM:-0800
TZOFFSETTO:-0700
TZNAME:PDT
DTSTART:20240310T100000
END:DAYLIGHT
BEGIN:STANDARD
TZOFFSETFROM:-0700
TZOFFSETTO:-0800
TZNAME:PST
DTSTART:20241103T090000
END:STANDARD
BEGIN:DAYLIGHT
TZOFFSETFROM:-0800
TZOFFSETTO:-0700
TZNAME:PDT
DTSTART:20250309T100000
END:DAYLIGHT
BEGIN:STANDARD
TZOFFSETFROM:-0700
TZOFFSETTO:-0800
TZNAME:PST
DTSTART:20251102T090000
END:STANDARD
END:VTIMEZONE
BEGIN:VEVENT
DTSTART;TZID=America/Los_Angeles:20240301T160000
DTEND;TZID=America/Los_Angeles:20240301T180000
DTSTAMP:20260424T033113
CREATED:20240301T051044Z
LAST-MODIFIED:20240301T051044Z
UID:20140-1709308800-1709316000@sustain.ucla.edu
SUMMARY:Women Founders Shaping LA
DESCRIPTION:Join this panel discussion featuring 3 innovative founders changing the game in Los Angeles\, moderated by Founder & UCLA alum Alice Kao. Come for an engaging conversation between LA entrepreneurship leaders and connect with the UCLA entrepreneurship community. \nREGISTER HERE
URL:https://sustain.ucla.edu/event/women-founders-shaping-la/
LOCATION:Covel Commons\, Room 203\, 330 De Neve Dr\, Los Angeles\, CA\, 90095\, United States
ATTACH;FMTTYPE=image/png:https://sustain.ucla.edu/wp-content/uploads/2024/02/wfla.png
END:VEVENT
END:VCALENDAR