BEGIN:VCALENDAR
VERSION:2.0
PRODID:-//UCLA Sustainability - ECPv6.15.20//NONSGML v1.0//EN
CALSCALE:GREGORIAN
METHOD:PUBLISH
X-ORIGINAL-URL:https://sustain.ucla.edu
X-WR-CALDESC:Events for UCLA Sustainability
REFRESH-INTERVAL;VALUE=DURATION:PT1H
X-Robots-Tag:noindex
X-PUBLISHED-TTL:PT1H
BEGIN:VTIMEZONE
TZID:America/Los_Angeles
BEGIN:DAYLIGHT
TZOFFSETFROM:-0800
TZOFFSETTO:-0700
TZNAME:PDT
DTSTART:20230312T100000
END:DAYLIGHT
BEGIN:STANDARD
TZOFFSETFROM:-0700
TZOFFSETTO:-0800
TZNAME:PST
DTSTART:20231105T090000
END:STANDARD
BEGIN:DAYLIGHT
TZOFFSETFROM:-0800
TZOFFSETTO:-0700
TZNAME:PDT
DTSTART:20240310T100000
END:DAYLIGHT
BEGIN:STANDARD
TZOFFSETFROM:-0700
TZOFFSETTO:-0800
TZNAME:PST
DTSTART:20241103T090000
END:STANDARD
BEGIN:DAYLIGHT
TZOFFSETFROM:-0800
TZOFFSETTO:-0700
TZNAME:PDT
DTSTART:20250309T100000
END:DAYLIGHT
BEGIN:STANDARD
TZOFFSETFROM:-0700
TZOFFSETTO:-0800
TZNAME:PST
DTSTART:20251102T090000
END:STANDARD
END:VTIMEZONE
BEGIN:VEVENT
DTSTART;TZID=America/Los_Angeles:20240304T121500
DTEND;TZID=America/Los_Angeles:20240304T133000
DTSTAMP:20260424T033159
CREATED:20240222T191220Z
LAST-MODIFIED:20240222T191220Z
UID:20117-1709554500-1709559000@sustain.ucla.edu
SUMMARY:Do Green Laws Make Red Tape? Rethinking how we build for climate success and equity
DESCRIPTION:The climate crisis requires a monumental effort to build green infrastructure\, high-density housing\, and transit. But America is not moving fast enough. That much\, the environmental movement can agree on. But the debate over what exactly is standing in our way and how to clear the path to a healthier future remains a subject of debate so fierce that the Atlantic recently called this a “culture war tearing American environmentalism apart.” \nDisagreement over so-called “permitting reform” is often about how much community engagement we want to require of projects. Prof. James Salzman and his co-author first coined the phrase the Greens’ Dilemma to explain the tension between old environmental laws and new environmental priorities. Prof. David Adelman studied a decade-worth of federal permits and environmental reviews for energy infrastructure to find that most projects enjoyed streamlined administrative procedures. Jen Ganata works to defend frontline communities from economic and environmental harms. Together\, these panelists will help us define the problem and discuss some solutions. So\, what do we want? When do we want it? And who gets to decide?  \nDavid Adelman\, Harry Reasoner Regents Chair in Law at the University of Texas School of Law  \nJen Ganata\, Senior staff attorney\, Communities for a Better Environment \nJames Salzman\, Donald Bren Distinguished Professor of Environmental Law at the UCLA School of Law and UC Santa Barbara. \nLunch will be provided to those who RSVP by 02/29. Please note that lunch is not guaranteed for any RSVPs received after Thursday\, Feb 29 at noon. \nREGISTER HERE \nPlease contact Heather Morphew\, morphew@law.ucla.edu\, with any questions.
URL:https://sustain.ucla.edu/event/do-green-laws-make-red-tape-rethinking-how-we-build-for-climate-success-and-equity/
LOCATION:UCLA Law School\, Room 1457\, 385 Charles E Young Dr E\, Los Angeles\, CA\, 90095\, United States
ATTACH;FMTTYPE=image/png:https://sustain.ucla.edu/wp-content/uploads/2024/02/emmettmarch24.png
END:VEVENT
BEGIN:VEVENT
DTSTART;TZID=America/Los_Angeles:20240304T153000
DTEND;TZID=America/Los_Angeles:20240304T163000
DTSTAMP:20260424T033159
CREATED:20240304T061811Z
LAST-MODIFIED:20240304T061811Z
UID:20163-1709566200-1709569800@sustain.ucla.edu
SUMMARY:Hazel M. Johnson Fellowship Info Session #1
DESCRIPTION:In honor of the mother of the environmental justice movement\, Hazel M. Johnson\, Black Girl Environmentalist (BGE) will be debuting its fellowship program in the Summer of 2024. \nJoin BGE to get the scoop on the fellowship and get the opportunity to ask any clarifying questions regarding the application and experience. \nREGISTER HERE
URL:https://sustain.ucla.edu/event/hazel-m-johnson-fellowship-info-session-1/
LOCATION:Online
ATTACH;FMTTYPE=image/jpeg:https://sustain.ucla.edu/wp-content/uploads/2024/03/hazelfellowbge.jpg
END:VEVENT
END:VCALENDAR