BEGIN:VCALENDAR
VERSION:2.0
PRODID:-//UCLA Sustainability - ECPv6.15.20//NONSGML v1.0//EN
CALSCALE:GREGORIAN
METHOD:PUBLISH
X-ORIGINAL-URL:https://sustain.ucla.edu
X-WR-CALDESC:Events for UCLA Sustainability
REFRESH-INTERVAL;VALUE=DURATION:PT1H
X-Robots-Tag:noindex
X-PUBLISHED-TTL:PT1H
BEGIN:VTIMEZONE
TZID:America/Los_Angeles
BEGIN:DAYLIGHT
TZOFFSETFROM:-0800
TZOFFSETTO:-0700
TZNAME:PDT
DTSTART:20230312T100000
END:DAYLIGHT
BEGIN:STANDARD
TZOFFSETFROM:-0700
TZOFFSETTO:-0800
TZNAME:PST
DTSTART:20231105T090000
END:STANDARD
BEGIN:DAYLIGHT
TZOFFSETFROM:-0800
TZOFFSETTO:-0700
TZNAME:PDT
DTSTART:20240310T100000
END:DAYLIGHT
BEGIN:STANDARD
TZOFFSETFROM:-0700
TZOFFSETTO:-0800
TZNAME:PST
DTSTART:20241103T090000
END:STANDARD
BEGIN:DAYLIGHT
TZOFFSETFROM:-0800
TZOFFSETTO:-0700
TZNAME:PDT
DTSTART:20250309T100000
END:DAYLIGHT
BEGIN:STANDARD
TZOFFSETFROM:-0700
TZOFFSETTO:-0800
TZNAME:PST
DTSTART:20251102T090000
END:STANDARD
END:VTIMEZONE
BEGIN:VEVENT
DTSTART;TZID=America/Los_Angeles:20240308T083000
DTEND;TZID=America/Los_Angeles:20240308T160000
DTSTAMP:20260424T033200
CREATED:20240123T224156Z
LAST-MODIFIED:20240123T224156Z
UID:19902-1709886600-1709913600@sustain.ucla.edu
SUMMARY:Emmett Institute 2024 symposium: "Powering the Future"
DESCRIPTION:This is an in-person event: an all-day symposium of 3 different panel discussions plus a reception. Free but RSVP required. \nMining is mission-critical to addressing the climate crisis. And so is confronting the legal and environmental issues surrounding mineral extraction.  \nJurisdictions across the globe are racing to transform their energy sources to meet decarbonization goals and transition away from fossil fuels. This energy transition depends on a robust and reliable supply of critical minerals\, which must be mined\, processed\, and distributed in ways that often create environmental and health risks\, and in the process can reshape global political dynamics.  \nThe Emmett Institute’s 2024 symposium will explore the wide range of pressing issues raised by this ever-expanding need for critical minerals. Our moderators and panelists from around the world will confront the policy drivers of this energy transition; governance questions related to supply chains; the rise of resource nationalism with its implications for the U.S. and the global order; and the risks to communities created by critical minerals mining and ways to reduce those risks. \nREGISTER HERE
URL:https://sustain.ucla.edu/event/emmett-institute-2024-symposium-powering-the-future/
LOCATION:UCLA School of Law\, 385 Charles E. Young Drive East \, Los Angeles \, CA\, 90095\, United States
ATTACH;FMTTYPE=image/jpeg:https://sustain.ucla.edu/wp-content/uploads/2024/01/Flyer-2-vertical.jpg
END:VEVENT
BEGIN:VEVENT
DTSTART;TZID=America/Los_Angeles:20240308T090000
DTEND;TZID=America/Los_Angeles:20240308T100000
DTSTAMP:20260424T033200
CREATED:20240301T165208Z
LAST-MODIFIED:20240301T165208Z
UID:20154-1709888400-1709892000@sustain.ucla.edu
SUMMARY:ClimateCAP MBA Academy: "Activating Systems Change: Decarbonizing the Fashion Supply Chain"
DESCRIPTION:Join this virtual learning series\, ClimateCAP MBA Academy: Understanding the Business of Climate. Through this series\, experts will talk on topics across the climate x business continuum to prepare the business leaders of tomorrow—today’s MBA students— to anticipate and manage climate risks and opportunities in their careers. \nThis event’s speaker is Lewis Perkins\, President of the Apparel Impact Institute\, who will be in conversation with Wesley Longhofer\, Executive Academic Director of Emory University’s Goizueta Business & Society Institute. Lewis and Wesley will be speaking on the topic “Activating Systems Change: Decarbonizing the Fashion Supply Chain.” They’ll cover topics such as incentivizing stakeholders across the value chain\, operationalizing change beyond theory\, and what it takes to shift the mindset of an industry. \nREGISTER HERE \nAbout ClimateCAP  \nThe ClimateCAP Initiative is working to prepare tomorrow’s business leaders—today’s MBA students—to understand and respond to the climate challenge by mainstreaming the climate conversation in business school. As a global partnership of 35+ business schools\, founded and led by the Fuqua School of Business at Duke University\, ClimateCAP works to bring together MBA students\, educators\, and corporate leaders to build community and talk about the business implications of climate change. ClimateCAP’s signature programs include an annual in-person MBA Summit drawing 350+ students each year\, an online MBA Academy learning series for students who want to get up to speed quickly\, a highly selective 12-month MBA Fellowship for aspiring climate changemakers\, and a curated selection of teaching and learning resources for students and educators. Find out more at: https://climatecap.org/.
URL:https://sustain.ucla.edu/event/climatecap-mba-academy-activating-systems-change-decarbonizing-the-fashion-supply-chain/
LOCATION:Online
ATTACH;FMTTYPE=image/png:https://sustain.ucla.edu/wp-content/uploads/2024/03/uploads_c276c8df-b54d-4cfa-b400-ee6b3ef224e2_Copyof2MBAAcademyEventbriteSize.png
END:VEVENT
END:VCALENDAR