BEGIN:VCALENDAR
VERSION:2.0
PRODID:-//UCLA Sustainability - ECPv6.15.20//NONSGML v1.0//EN
CALSCALE:GREGORIAN
METHOD:PUBLISH
X-ORIGINAL-URL:https://sustain.ucla.edu
X-WR-CALDESC:Events for UCLA Sustainability
REFRESH-INTERVAL;VALUE=DURATION:PT1H
X-Robots-Tag:noindex
X-PUBLISHED-TTL:PT1H
BEGIN:VTIMEZONE
TZID:America/Los_Angeles
BEGIN:DAYLIGHT
TZOFFSETFROM:-0800
TZOFFSETTO:-0700
TZNAME:PDT
DTSTART:20230312T100000
END:DAYLIGHT
BEGIN:STANDARD
TZOFFSETFROM:-0700
TZOFFSETTO:-0800
TZNAME:PST
DTSTART:20231105T090000
END:STANDARD
BEGIN:DAYLIGHT
TZOFFSETFROM:-0800
TZOFFSETTO:-0700
TZNAME:PDT
DTSTART:20240310T100000
END:DAYLIGHT
BEGIN:STANDARD
TZOFFSETFROM:-0700
TZOFFSETTO:-0800
TZNAME:PST
DTSTART:20241103T090000
END:STANDARD
BEGIN:DAYLIGHT
TZOFFSETFROM:-0800
TZOFFSETTO:-0700
TZNAME:PDT
DTSTART:20250309T100000
END:DAYLIGHT
BEGIN:STANDARD
TZOFFSETFROM:-0700
TZOFFSETTO:-0800
TZNAME:PST
DTSTART:20251102T090000
END:STANDARD
END:VTIMEZONE
BEGIN:VEVENT
DTSTART;TZID=America/Los_Angeles:20240326T160000
DTEND;TZID=America/Los_Angeles:20240326T170000
DTSTAMP:20260424T033222
CREATED:20240323T003544Z
LAST-MODIFIED:20240323T003602Z
UID:20247-1711468800-1711472400@sustain.ucla.edu
SUMMARY:2024 Clean Energy Leadership Institute Fall Fellowship Virtual Info Session
DESCRIPTION:Join Clean Energy Leadership Institute (CELI) for a sneak peek into the 2024 Fall Fellowship\, and hear firsthand from CELI’s amazing (former) fellows and staff. Get ready to dive into the details and ask all your burning questions!  \nREGISTER HERE \nApplications are live for the all-virtual 2024 Fellowship (running Aug.3-Dec.6)\, open to all eligible applicants across the full United States!
URL:https://sustain.ucla.edu/event/2024-clean-energy-leadership-institute-fall-fellowship-virtual-info-session/
LOCATION:Online
ATTACH;FMTTYPE=image/png:https://sustain.ucla.edu/wp-content/uploads/2024/03/celi326info.png
END:VEVENT
BEGIN:VEVENT
DTSTART;TZID=America/Los_Angeles:20240326T160000
DTEND;TZID=America/Los_Angeles:20240326T173000
DTSTAMP:20260424T033222
CREATED:20240322T234558Z
LAST-MODIFIED:20240322T234558Z
UID:20236-1711468800-1711474200@sustain.ucla.edu
SUMMARY:Environmental Education Program Leader Webinar: Partnerships
DESCRIPTION:Join the California Environmental Literacy Initiative’s Community-Based Partner (CBP) Innovation Hub and Association for Environmental & Outdoor Education (AEOE) in an online webinar series for Program Leaders of organizations that work to advance environmental literacy. Learn valuable tips and strategies that will help your organization grow and thrive. \nPartnerships\nDeveloping innovative and meaningful school and community-based partnerships that strengthen organizational capacity and increase access to environmental education. \nPart of the free webinar series: \nBuilding a Strong and Resilient Organization \nA Webinar Series for CBP Program Leaders – Spring 2024 \nREGISTER HERE \n* Presentation will be recorded and shared with all registered participants.
URL:https://sustain.ucla.edu/event/environmental-education-program-leader-webinar-partnerships/
LOCATION:Online
ATTACH;FMTTYPE=image/png:https://sustain.ucla.edu/wp-content/uploads/2024/03/eliaeoe.png
END:VEVENT
BEGIN:VEVENT
DTSTART;TZID=America/Los_Angeles:20240326T180000
DTEND;TZID=America/Los_Angeles:20240326T190000
DTSTAMP:20260424T033222
CREATED:20240323T004225Z
LAST-MODIFIED:20240323T004225Z
UID:20253-1711476000-1711479600@sustain.ucla.edu
SUMMARY:From CELI to CEO: Talking Reliability & Uptime and the 2024 Fall Fellowship
DESCRIPTION:Calling all curious and ambitious emerging leaders in Los Angeles\, CA!! Join in-person (South LA Neighborhood) with featured speaker Kameale Terry\, CEO of ChargerHelp\, to talk the Clean Energy Leadership Institute (CELI) 2024 Fall Fellowship AND reliability and uptime in EV charging infrastructure. \nREGISTER HERE \nAs Co-Founder and CEO of ChargerHelp\, Kameale and her team fixes EV charging stations through a two-pronged approach\, people (workforce) and technology. Learn more about some of the hottest topics in the EV landscape — reliability and uptime — and hear firsthand about how Kameale Terry pivoted to the clean energy space (hint: CELI was involved!). \nApplications are live for the all-virtual 2024 Fellowship (running Aug.3-Dec.6)\, open to all eligible applicants across the full United States!
URL:https://sustain.ucla.edu/event/from-celi-to-ceo-talking-reliability-uptime-and-the-2024-fall-fellowship/
LOCATION:South Los Angeles
ATTACH;FMTTYPE=image/png:https://sustain.ucla.edu/wp-content/uploads/2024/03/celi326sola.png
END:VEVENT
END:VCALENDAR